Workbook
Name athlete: Athletes!$A$1:$G$399
Name rank: Scoresheet!$C$19:$E$19
Name rank: Scoresheet!$C$19:$E$19
Name rank: Scoresheet!$C$19:$E$19
Name rank: Scoresheet!$C$19:$E$19

Sheet Athletes
A1: 101 | B1: ANDRES | C1: JACQUELYN | D1: GN | E1: 101
A2: 102 | B2: Alberta | C2: Alyssa | D2: GN | E2: 102
A3: 103 | B3: ARON | C3: ABIGAIL | D3: GN | E3: 103
A4: 104 | B4: AYELE | C4: WDASIE | D4: GN | E4: 104
A5: 105 | B5: AYYAD | C5: SARAH | D5: GN | E5: 105
A6: 106 | B6: BARTKOWIAK | C6: ALEXANDRA | D6: GN | E6: 106
A7: 107 | B7: BLACKMAN | C7: SHAUNA | D7: GN | E7: 107
A8: 108 | B8: BLUMHARDT | C8: HAYLEY | D8: GN | E8: 108
A9: 109 | B9: BRIGGS | C9: KELSEY | D9: GN | E9: 109
A10: 110 | B10: CARBON | C10: BRIDGETTE | D10: GN | E10: 110
A11: 111 | B11: CASTELTON | C11: ELIZABETH | D11: GN | E11: 111
A12: 112 | B12: COTTA | C12: RACHEL | D12: GN | E12: 112
... A67: 167 | B67: Paye | C67: Muabun | D67: GN | E67: 167
A68: 168 | D68: GN | E68: 168
A69: 169 | D69: GN | E69: 169
A70: 170 | D70: GN | E70: 170
A71: 171 | D71: GN | E71: 171
A72: 172 | D72: GN | E72: 172
A73: 173 | D73: GN | E73: 173
A74: 174 | D74: GN | E74: 174
A75: 175 | B75: Ackermann | C75: Anna | D75: SE | E75: 175
A76: 176 | B76: Adkins | C76: Nadia | D76: SE | E76: 176
A77: 177 | B77: Aguinaldo | C77: Melissa | D77: SE | E77: 177
A78: 178 | B78: Aguirre | C78: Isabela | D78: SE | E78: 178
A79: 179 | B79: Allen | C79: Darrielle | D79: SE | E79: 179
A80: 180 | B80: Alvarado | C80: Lindsay | D80: SE | E80: 180
A81: 181 | B81: Anderson | C81: Annika | D81: SE | E81: 181
A82: 182 | B82: Arana | C82: Arielynne | D82: SE | E82: 182
A83: 183 | B83: Bautista | C83: Aleah | D83: SE | E83: 183
A84: 184 | B84: Bautista | C84: Allison | D84: SE | E84: 184
A85: 185 | B85: Berry | C85: Emily | D85: SE | E85: 185
A86: 186 | B86: Bibbs | C86: Janese | D86: SE | E86: 186
... A153: 253 | B153: Ziemba | C153: Emily | D153: SE | E153: 253
A154: 254 | D154: SE | E154: 254
A155: 255 | D155: SE | E155: 255
A156: 256 | D156: SE | E156: 256
A157: 257 | D157: SE | E157: 257
A158: 258 | D158: SE | E158: 258
A159: 259 | D159: SE | E159: 259
A160: 260 | D160: SE | E160: 260
...

Sheet Labels
A1: =VLOOKUP(Athletes!A1,athlete,5,FALSE) -> 101 | C1: =VLOOKUP(Athletes!A1,athlete,2,FALSE) -> ANDRES | D1: =VLOOKUP(Athletes!A1,athlete,4,FALSE) -> GN | F1: =VLOOKUP(Athletes!A8,athlete,5,FALSE) -> 108 | H1: =VLOOKUP(Athletes!A8,athlete,2,FALSE) -> BLUMHARDT | I1: =VLOOKUP(Athletes!A8,athlete,4,FALSE) -> GN
A2: =VLOOKUP(Athletes!A2,athlete,5,FALSE) -> 102 | C2: =VLOOKUP(Athletes!A2,athlete,2,FALSE) -> Alberta | D2: =VLOOKUP(Athletes!A2,athlete,4,FALSE) -> GN | F2: =VLOOKUP(Athletes!A9,athlete,5,FALSE) -> 109 | H2: =VLOOKUP(Athletes!A9,athlete,2,FALSE) -> BRIGGS | I2: =VLOOKUP(Athletes!A9,athlete,4,FALSE) -> GN
A3: =VLOOKUP(Athletes!A3,athlete,5,FALSE) -> 103 | C3: =VLOOKUP(Athletes!A3,athlete,2,FALSE) -> ARON | D3: =VLOOKUP(Athletes!A3,athlete,4,FALSE) -> GN | F3: =VLOOKUP(Athletes!A10,athlete,5,FALSE) -> 110 | H3: =VLOOKUP(Athletes!A10,athlete,2,FALSE) -> CARBON | I3: =VLOOKUP(Athletes!A10,athlete,4,FALSE) -> GN
A4: =VLOOKUP(Athletes!A4,athlete,5,FALSE) -> 104 | C4: =VLOOKUP(Athletes!A4,athlete,2,FALSE) -> AYELE | D4: =VLOOKUP(Athletes!A4,athlete,4,FALSE) -> GN | F4: =VLOOKUP(Athletes!A11,athlete,5,FALSE) -> 111 | H4: =VLOOKUP(Athletes!A11,athlete,2,FALSE) -> CASTELTON | I4: =VLOOKUP(Athletes!A11,athlete,4,FALSE) -> GN
A5: =VLOOKUP(Athletes!A5,athlete,5,FALSE) -> 105 | C5: =VLOOKUP(Athletes!A5,athlete,2,FALSE) -> AYYAD | D5: =VLOOKUP(Athletes!A5,athlete,4,FALSE) -> GN | F5: =VLOOKUP(Athletes!A12,athlete,5,FALSE) -> 112 | H5: =VLOOKUP(Athletes!A12,athlete,2,FALSE) -> COTTA | I5: =VLOOKUP(Athletes!A12,athlete,4,FALSE) -> GN
A6: =VLOOKUP(Athletes!A6,athlete,5,FALSE) -> 106 | C6: =VLOOKUP(Athletes!A6,athlete,2,FALSE) -> BARTKOWIAK | D6: =VLOOKUP(Athletes!A6,athlete,4,FALSE) -> GN | F6: =VLOOKUP(Athletes!A13,athlete,5,FALSE) -> 113 | H6: =VLOOKUP(Athletes!A13,athlete,2,FALSE) -> DOLLAS | I6: =VLOOKUP(Athletes!A13,athlete,4,FALSE) -> GN
A7: =VLOOKUP(Athletes!A7,athlete,5,FALSE) -> 107 | C7: =VLOOKUP(Athletes!A7,athlete,2,FALSE) -> BLACKMAN | D7: =VLOOKUP(Athletes!A7,athlete,4,FALSE) -> GN | F7: =VLOOKUP(Athletes!A14,athlete,5,FALSE) -> 114 | H7: =VLOOKUP(Athletes!A14,athlete,2,FALSE) -> DZIEWIOR | I7: =VLOOKUP(Athletes!A14,athlete,4,FALSE) -> GN
A8: =VLOOKUP(Athletes!A15,athlete,5,FALSE) -> 115 | C8: =VLOOKUP(Athletes!A15,athlete,2,FALSE) -> Enriquez | D8: =VLOOKUP(Athletes!A15,athlete,4,FALSE) -> GN | F8: =VLOOKUP(Athletes!A22,athlete,5,FALSE) -> 122 | H8: =VLOOKUP(Athletes!A22,athlete,2,FALSE) -> HERNANDEZ | I8: =VLOOKUP(Athletes!A22,athlete,4,FALSE) -> GN
A9: =VLOOKUP(Athletes!A16,athlete,5,FALSE) -> 116 | C9: =VLOOKUP(Athletes!A16,athlete,2,FALSE) -> FISHER | D9: =VLOOKUP(Athletes!A16,athlete,4,FALSE) -> GN | F9: =VLOOKUP(Athletes!A23,athlete,5,FALSE) -> 123 | H9: =VLOOKUP(Athletes!A23,athlete,2,FALSE) -> HICKEY | I9: =VLOOKUP(Athletes!A23,athlete,4,FALSE) -> GN
A10: =VLOOKUP(Athletes!A17,athlete,5,FALSE) -> 117 | C10: =VLOOKUP(Athletes!A17,athlete,2,FALSE) -> GALANG | D10: =VLOOKUP(Athletes!A17,athlete,4,FALSE) -> GN | F10: =VLOOKUP(Athletes!A24,athlete,5,FALSE) -> 124 | H10: =VLOOKUP(Athletes!A24,athlete,2,FALSE) -> HIRSIG | I10: =VLOOKUP(Athletes!A24,athlete,4,FALSE) -> GN
A11: =VLOOKUP(Athletes!A18,athlete,5,FALSE) -> 118 | C11: =VLOOKUP(Athletes!A18,athlete,2,FALSE) -> GALANG | D11: =VLOOKUP(Athletes!A18,athlete,4,FALSE) -> GN | F11: =VLOOKUP(Athletes!A25,athlete,5,FALSE) -> 125 | H11: =VLOOKUP(Athletes!A25,athlete,2,FALSE) -> IVY | I11: =VLOOKUP(Athletes!A25,athlete,4,FALSE) -> GN
A12: =VLOOKUP(Athletes!A19,athlete,5,FALSE) -> 119 | C12: =VLOOKUP(Athletes!A19,athlete,2,FALSE) -> GREENE | D12: =VLOOKUP(Athletes!A19,athlete,4,FALSE) -> GN | F12: =VLOOKUP(Athletes!A26,athlete,5,FALSE) -> 126 | H12: =VLOOKUP(Athletes!A26,athlete,2,FALSE) -> JOHNSON | I12: =VLOOKUP(Athletes!A26,athlete,4,FALSE) -> GN
A13: =VLOOKUP(Athletes!A20,athlete,5,FALSE) -> 120 | C13: =VLOOKUP(Athletes!A20,athlete,2,FALSE) -> GUZMAN | D13: =VLOOKUP(Athletes!A20,athlete,4,FALSE) -> GN | F13: =VLOOKUP(Athletes!A27,athlete,5,FALSE) -> 127 | H13: =VLOOKUP(Athletes!A27,athlete,2,FALSE) -> JOHNSON | I13: =VLOOKUP(Athletes!A27,athlete,4,FALSE) -> GN
A14: =VLOOKUP(Athletes!A21,athlete,5,FALSE) -> 121 | C14: =VLOOKUP(Athletes!A21,athlete,2,FALSE) -> HERBORD | D14: =VLOOKUP(Athletes!A21,athlete,4,FALSE) -> GN | F14: =VLOOKUP(Athletes!A28,athlete,5,FALSE) -> 128 | H14: =VLOOKUP(Athletes!A28,athlete,2,FALSE) -> Khodan | I14: =VLOOKUP(Athletes!A28,athlete,4,FALSE) -> GN
A15: =VLOOKUP(Athletes!A29,athlete,5,FALSE) -> 129 | C15: =VLOOKUP(Athletes!A29,athlete,2,FALSE) -> King | D15: =VLOOKUP(Athletes!A29,athlete,4,FALSE) -> GN | F15: =VLOOKUP(Athletes!A36,athlete,5,FALSE) -> 136 | H15: =VLOOKUP(Athletes!A36,athlete,2,FALSE) -> MARTINEZ | I15: =VLOOKUP(Athletes!A36,athlete,4,FALSE) -> GN
A16: =VLOOKUP(Athletes!A30,athlete,5,FALSE) -> 130 | C16: =VLOOKUP(Athletes!A30,athlete,2,FALSE) -> Laherty | D16: =VLOOKUP(Athletes!A30,athlete,4,FALSE) -> GN | F16: =VLOOKUP(Athletes!A37,athlete,5,FALSE) -> 137 | H16: =VLOOKUP(Athletes!A37,athlete,2,FALSE) -> MENARD | I16: =VLOOKUP(Athletes!A37,athlete,4,FALSE) -> GN
A17: =VLOOKUP(Athletes!A31,athlete,5,FALSE) -> 131 | C17: =VLOOKUP(Athletes!A31,athlete,2,FALSE) -> LIM | D17: =VLOOKUP(Athletes!A31,athlete,4,FALSE) -> GN | F17: =VLOOKUP(Athletes!A38,athlete,5,FALSE) -> 138 | H17: =VLOOKUP(Athletes!A38,athlete,2,FALSE) -> MILSCHEWSKI | I17: =VLOOKUP(Athletes!A38,athlete,4,FALSE) -> GN
A18: =VLOOKUP(Athletes!A32,athlete,5,FALSE) -> 132 | C18: =VLOOKUP(Athletes!A32,athlete,2,FALSE) -> LUBBEN | D18: =VLOOKUP(Athletes!A32,athlete,4,FALSE) -> GN | F18: =VLOOKUP(Athletes!A39,athlete,5,FALSE) -> 139 | H18: =VLOOKUP(Athletes!A39,athlete,2,FALSE) -> MODI | I18: =VLOOKUP(Athletes!A39,athlete,4,FALSE) -> GN
A19: =VLOOKUP(Athletes!A33,athlete,5,FALSE) -> 133 | C19: =VLOOKUP(Athletes!A33,athlete,2,FALSE) -> Lukic | D19: =VLOOKUP(Athletes!A33,athlete,4,FALSE) -> GN | F19: =VLOOKUP(Athletes!A40,athlete,5,FALSE) -> 140 | H19: =VLOOKUP(Athletes!A40,athlete,2,FALSE) -> Moh Husien | I19: =VLOOKUP(Athletes!A40,athlete,4,FALSE) -> GN
A20: =VLOOKUP(Athletes!A34,athlete,5,FALSE) -> 134 | C20: =VLOOKUP(Athletes!A34,athlete,2,FALSE) -> MAHONEY | D20: =VLOOKUP(Athletes!A34,athlete,4,FALSE) -> GN | F20: =VLOOKUP(Athletes!A41,athlete,5,FALSE) -> 141 | H20: =VLOOKUP(Athletes!A41,athlete,2,FALSE) -> NEWSOME | I20: =VLOOKUP(Athletes!A41,athlete,4,FALSE) -> GN
A21: =VLOOKUP(Athletes!A35,athlete,5,FALSE) -> 135 | C21: =VLOOKUP(Athletes!A35,athlete,2,FALSE) -> MARINC | D21: =VLOOKUP(Athletes!A35,athlete,4,FALSE) -> GN | F21: =VLOOKUP(Athletes!A42,athlete,5,FALSE) -> 142 | H21: =VLOOKUP(Athletes!A42,athlete,2,FALSE) -> NGUYEN | I21: =VLOOKUP(Athletes!A42,athlete,4,FALSE) -> GN
A22: =VLOOKUP(Athletes!A43,athlete,5,FALSE) -> 143 | C22: =VLOOKUP(Athletes!A43,athlete,2,FALSE) -> Page | D22: =VLOOKUP(Athletes!A43,athlete,4,FALSE) -> GN | F22: =VLOOKUP(Athletes!A50,athlete,5,FALSE) -> 150 | H22: =VLOOKUP(Athletes!A50,athlete,2,FALSE) -> ROHDE | I22: =VLOOKUP(Athletes!A50,athlete,4,FALSE) -> GN
A23: =VLOOKUP(Athletes!A44,athlete,5,FALSE) -> 144 | C23: =VLOOKUP(Athletes!A44,athlete,2,FALSE) -> PATEL | D23: =VLOOKUP(Athletes!A44,athlete,4,FALSE) -> GN | F23: =VLOOKUP(Athletes!A51,athlete,5,FALSE) -> 151 | H23: =VLOOKUP(Athletes!A51,athlete,2,FALSE) -> Sawant | I23: =VLOOKUP(Athletes!A51,athlete,4,FALSE) -> GN
A24: =VLOOKUP(Athletes!A45,athlete,5,FALSE) -> 145 | C24: =VLOOKUP(Athletes!A45,athlete,2,FALSE) -> PATRIDGE | D24: =VLOOKUP(Athletes!A45,athlete,4,FALSE) -> GN | F24: =VLOOKUP(Athletes!A52,athlete,5,FALSE) -> 152 | H24: =VLOOKUP(Athletes!A52,athlete,2,FALSE) -> SAYANI | I24: =VLOOKUP(Athletes!A52,athlete,4,FALSE) -> GN
A25: =VLOOKUP(Athletes!A46,athlete,5,FALSE) -> 146 | C25: =VLOOKUP(Athletes!A46,athlete,2,FALSE) -> Perez | D25: =VLOOKUP(Athletes!A46,athlete,4,FALSE) -> GN | F25: =VLOOKUP(Athletes!A53,athlete,5,FALSE) -> 153 | H25: =VLOOKUP(Athletes!A53,athlete,2,FALSE) -> SCHWETZ | I25: =VLOOKUP(Athletes!A53,athlete,4,FALSE) -> GN
A26: =VLOOKUP(Athletes!A47,athlete,5,FALSE) -> 147 | C26: =VLOOKUP(Athletes!A47,athlete,2,FALSE) -> PICKFORD | D26: =VLOOKUP(Athletes!A47,athlete,4,FALSE) -> GN | F26: =VLOOKUP(Athletes!A54,athlete,5,FALSE) -> 154 | H26: =VLOOKUP(Athletes!A54,athlete,2,FALSE) -> SPADLOWSKI | I26: =VLOOKUP(Athletes!A54,athlete,4,FALSE) -> GN
A27: =VLOOKUP(Athletes!A48,athlete,5,FALSE) -> 148 | C27: =VLOOKUP(Athletes!A48,athlete,2,FALSE) -> REED | D27: =VLOOKUP(Athletes!A48,athlete,4,FALSE) -> GN | F27: =VLOOKUP(Athletes!A55,athlete,5,FALSE) -> 155 | H27: =VLOOKUP(Athletes!A55,athlete,2,FALSE) -> SPIKINGS | I27: =VLOOKUP(Athletes!A55,athlete,4,FALSE) -> GN
A28: =VLOOKUP(Athletes!A49,athlete,5,FALSE) -> 149 | C28: =VLOOKUP(Athletes!A49,athlete,2,FALSE) -> RODRIGUEZ | D28: =VLOOKUP(Athletes!A49,athlete,4,FALSE) -> GN | F28: =VLOOKUP(Athletes!A56,athlete,5,FALSE) -> 156 | H28: =VLOOKUP(Athletes!A56,athlete,2,FALSE) -> STIMMELL | I28: =VLOOKUP(Athletes!A56,athlete,4,FALSE) -> GN
A29: =VLOOKUP(Athletes!A57,athlete,5,FALSE) -> 157 | C29: =VLOOKUP(Athletes!A57,athlete,2,FALSE) -> STOKES | D29: =VLOOKUP(Athletes!A57,athlete,4,FALSE) -> GN | F29: =VLOOKUP(Athletes!A64,athlete,5,FALSE) -> 164 | H29: =VLOOKUP(Athletes!A64,athlete,2,FALSE) -> WIND | I29: =VLOOKUP(Athletes!A64,athlete,4,FALSE) -> GN
A30: =VLOOKUP(Athletes!A58,athlete,5,FALSE) -> 158 | C30: =VLOOKUP(Athletes!A58,athlete,2,FALSE) -> SUGGS | D30: =VLOOKUP(Athletes!A58,athlete,4,FALSE) -> GN | F30: =VLOOKUP(Athletes!A65,athlete,5,FALSE) -> 165 | H30: =VLOOKUP(Athletes!A65,athlete,2,FALSE) -> Ashley | I30: =VLOOKUP(Athletes!A65,athlete,4,FALSE) -> GN
A31: =VLOOKUP(Athletes!A59,athlete,5,FALSE) -> 159 | C31: =VLOOKUP(Athletes!A59,athlete,2,FALSE) -> Tornabene | D31: =VLOOKUP(Athletes!A59,athlete,4,FALSE) -> GN | F31: =VLOOKUP(Athletes!A66,athlete,5,FALSE) -> 166 | H31: =VLOOKUP(Athletes!A66,athlete,2,FALSE) -> Dominguez | I31: =VLOOKUP(Athletes!A66,athlete,4,FALSE) -> GN
A32: =VLOOKUP(Athletes!A60,athlete,5,FALSE) -> 160 | C32: =VLOOKUP(Athletes!A60,athlete,2,FALSE) -> VAN BENTUM | D32: =VLOOKUP(Athletes!A60,athlete,4,FALSE) -> GN | F32: =VLOOKUP(Athletes!A67,athlete,5,FALSE) -> 167 | H32: =VLOOKUP(Athletes!A67,athlete,2,FALSE) -> Paye | I32: =VLOOKUP(Athletes!A67,athlete,4,FALSE) -> GN
A33: =VLOOKUP(Athletes!A61,athlete,5,FALSE) -> 161 | C33: =VLOOKUP(Athletes!A61,athlete,2,FALSE) -> VIRGIN | D33: =VLOOKUP(Athletes!A61,athlete,4,FALSE) -> GN | F33: =VLOOKUP(Athletes!A68,athlete,5,FALSE) -> 168 | H33: =VLOOKUP(Athletes!A68,athlete,2,FALSE) | I33: =VLOOKUP(Athletes!A68,athlete,4,FALSE) -> GN
A34: =VLOOKUP(Athletes!A62,athlete,5,FALSE) -> 162 | C34: =VLOOKUP(Athletes!A62,athlete,2,FALSE) -> WAHRMAN | D34: =VLOOKUP(Athletes!A62,athlete,4,FALSE) -> GN | F34: =VLOOKUP(Athletes!A69,athlete,5,FALSE) -> 169 | H34: =VLOOKUP(Athletes!A69,athlete,2,FALSE) | I34: =VLOOKUP(Athletes!A69,athlete,4,FALSE) -> GN
A35: =VLOOKUP(Athletes!A63,athlete,5,FALSE) -> 163 | C35: =VLOOKUP(Athletes!A63,athlete,2,FALSE) -> WALKER | D35: =VLOOKUP(Athletes!A63,athlete,4,FALSE) -> GN | F35: =VLOOKUP(Athletes!A70,athlete,5,FALSE) -> 170 | H35: =VLOOKUP(Athletes!A70,athlete,2,FALSE) | I35: =VLOOKUP(Athletes!A70,athlete,4,FALSE) -> GN
A36: =VLOOKUP(Athletes!A71,athlete,5,FALSE) -> 171 | C36: =VLOOKUP(Athletes!A71,athlete,2,FALSE) | D36: =VLOOKUP(Athletes!A71,athlete,4,FALSE) -> GN | F36: =VLOOKUP(Athletes!A78,athlete,5,FALSE) -> 178 | H36: =VLOOKUP(Athletes!A78,athlete,2,FALSE) -> Aguirre | I36: =VLOOKUP(Athletes!A78,athlete,4,FALSE) -> SE
A37: =VLOOKUP(Athletes!A72,athlete,5,FALSE) -> 172 | C37: =VLOOKUP(Athletes!A72,athlete,2,FALSE) | D37: =VLOOKUP(Athletes!A72,athlete,4,FALSE) -> GN | F37: =VLOOKUP(Athletes!A79,athlete,5,FALSE) -> 179 | H37: =VLOOKUP(Athletes!A79,athlete,2,FALSE) -> Allen | I37: =VLOOKUP(Athletes!A79,athlete,4,FALSE) -> SE
A38: =VLOOKUP(Athletes!A73,athlete,5,FALSE) -> 173 | C38: =VLOOKUP(Athletes!A73,athlete,2,FALSE) | D38: =VLOOKUP(Athletes!A73,athlete,4,FALSE) -> GN | F38: =VLOOKUP(Athletes!A80,athlete,5,FALSE) -> 180 | H38: =VLOOKUP(Athletes!A80,athlete,2,FALSE) -> Alvarado | I38: =VLOOKUP(Athletes!A80,athlete,4,FALSE) -> SE
A39: =VLOOKUP(Athletes!A74,athlete,5,FALSE) -> 174 | C39: =VLOOKUP(Athletes!A74,athlete,2,FALSE) | D39: =VLOOKUP(Athletes!A74,athlete,4,FALSE) -> GN | F39: =VLOOKUP(Athletes!A81,athlete,5,FALSE) -> 181 | H39: =VLOOKUP(Athletes!A81,athlete,2,FALSE) -> Anderson | I39: =VLOOKUP(Athletes!A81,athlete,4,FALSE) -> SE
A40: =VLOOKUP(Athletes!A75,athlete,5,FALSE) -> 175 | C40: =VLOOKUP(Athletes!A75,athlete,2,FALSE) -> Ackermann | D40: =VLOOKUP(Athletes!A75,athlete,4,FALSE) -> SE | F40: =VLOOKUP(Athletes!A82,athlete,5,FALSE) -> 182 | H40: =VLOOKUP(Athletes!A82,athlete,2,FALSE) -> Arana | I40: =VLOOKUP(Athletes!A82,athlete,4,FALSE) -> SE
...

Sheet Scoresheet
A1: 122 | B1: Junior Varsity
A2: 129 | B2: Event | C2: GN | D2: East Aurora | E2: South Elgin | F2: Column5
A3: 182 | B3: High Jump | C3: ='High Jump'!C35 -> 8 | D3: ='High Jump'!C36 -> 0 | E3: ='High Jump'!C37 -> 3 | F3: =SUM(Scoresheet!$C3:$E3) -> 11
B4: Long Jump | C4: ='Long Jump'!L8 -> 8 | D4: ='Long Jump'!L9 -> 0 | E4: ='Long Jump'!L10 -> 1 | F4: =SUM(Scoresheet!$C4:$E4) -> 9
B5: Triple Jump | C5: ='Triple Jump '!L8 -> 6 | D5: ='Triple Jump '!L9 -> 0 | E5: ='Triple Jump '!L10 -> 5 | F5: =SUM(Scoresheet!$C5:$E5) -> 11
B6: Shot Put | C6: ='Shot Put'!M8 -> 4 | D6: ='Shot Put'!M9 -> 0 | E6: ='Shot Put'!M10 -> 7 | F6: =SUM(Scoresheet!$C6:$E6) -> 11
B7: Pole Vault | C7: ='Pole Vault'!C36 -> 0 | D7: ='Pole Vault'!C37 -> 0 | E7: ='Pole Vault'!C38 -> 5 | F7: =SUM(Scoresheet!$C7:$E7) -> 5
B8: 3200 | C8: ='3200'!D38 | D8: ='3200'!D39 | E8: ='3200'!D40 | F8: =SUM(Scoresheet!$C8:$E8) -> 0
B9: 4 X 800 | C9: ='4 x 800'!E15 -> 5 | D9: ='4 x 800'!E16 -> 0 | E9: ='4 x 800'!E17 -> 3 | F9: =SUM(Scoresheet!$C9:$E9) -> 8
B10: 4 X 160 | C10: ='4 x 160 '!E20 -> 5 | D10: ='4 x 160 '!E21 -> 0 | E10: ='4 x 160 '!E22 -> 3 | F10: =SUM(Scoresheet!$C10:$E10) -> 8
B11: 55 Meter Hurdles | C11: ='55 Hurdles'!E4 -> 5 | D11: ='55 Hurdles'!E5 -> 0 | E11: ='55 Hurdles'!E6 -> 6 | F11: =SUM(Scoresheet!$C11:$E11) -> 11
B12: 55 Meter Dash | C12: ='55 Dash '!E3 -> 3 | D12: ='55 Dash '!E4 -> 3 | E12: ='55 Dash '!E5 -> 5 | F12: =SUM(Scoresheet!$C12:$E12) -> 11
B13: 800 Meter Run | C13: ='800'!D2 -> 9 | D13: ='800'!D3 -> 0 | E13: ='800'!D4 -> 2 | F13: =SUM(Scoresheet!$C13:$E13) -> 11
B14: 4 X 240 | C14: ='4 x 240'!F4 -> 5 | D14: ='4 x 240'!F5 -> 0 | E14: ='4 x 240'!F6 -> 3 | F14: =SUM(Scoresheet!$C14:$E14) -> 8
B15: 400 Meter Dash | C15: ='400'!D4 -> 3 | D15: ='400'!D5 -> 0 | E15: ='400'!D6 -> 8 | F15: =SUM(Scoresheet!$C15:$E15) -> 11
B16: 1600 Meter Run | C16: ='1600'!D3 -> 4 | D16: ='1600'!D4 -> 0 | E16: ='1600'!D5 -> 7 | F16: =SUM(Scoresheet!$C16:$E16) -> 11
B17: 200 Meter Dash | C17: ='200'!F4 -> 3 | D17: ='200'!F5 -> 0 | E17: ='200'!F6 -> 8 | F17: =SUM(Scoresheet!$C17:$E17) -> 11
B18: 4 X 400 | C18: ='4 x 400'!E20 -> 3 | D18: ='4 x 400'!E21 -> 0 | E18: ='4 x 400'!E22 -> 5 | F18: =SUM(Scoresheet!$C18:$E18) -> 8
B19: Team Totals | C19: =SUM(C3:C18) -> 71 | D19: =SUM(D3:D18) -> 3 | E19: =SUM(E3:E18) -> 71
B20: Team Place | C20: =RANK(Scoresheet!$C$19,Scoresheet!$C$19:$E$19) -> 1 | D20: =RANK(Scoresheet!$D$19,Scoresheet!$C$19:$E$19) -> 3 | E20: =RANK(Scoresheet!$E$19,Scoresheet!$C$19:$E$19) -> 1
B21: Varsity
B23: Event | C23: GN | D23: East Aurora | E23: South Elgin | F23: Column5 | G23: 2
B24: High Jump | C24: =#REF! -> #REF! | D24: ='[1]Shot '!M9 -> #REF! | E24: ='[1]Shot '!M10 -> #REF! | F24: =SUM(Scoresheet!$C24:$E24) -> #REF!
B25: Long Jump | C25: ='Long Jump'!L30 | D25: ='Long Jump'!L31 | E25: ='Long Jump'!L32 | F25: =SUM(Scoresheet!$C25:$E25) -> 0
B26: Triple Jump | C26: ='Triple Jump '!L30 | D26: ='Triple Jump '!L31 | E26: ='Triple Jump '!L32 | F26: =SUM(Scoresheet!$C26:$E26) -> 0
B27: Shot Put | C27: ='[1]Shot '!M8 -> #REF! | F27: =SUM(Scoresheet!$C27:$E27) -> #REF!
B28: Pole Vault | C28: =#REF! -> #REF! | D28: =#REF! -> #REF! | E28: =#REF! -> #REF! | F28: =SUM(Scoresheet!$C28:$E28) -> #REF!
B29: 3200 | C29: ='3200'!D32 -> 0 | D29: ='3200'!D33 -> 0 | E29: ='3200'!D34 -> 0 | F29: =SUM(Scoresheet!$C29:$E29) -> 0
B30: 4 X 800 | C30: =#REF! -> #REF! | D30: =#REF! -> #REF! | E30: =#REF! -> #REF! | F30: =SUM(Scoresheet!$C30:$E30) -> #REF!
B31: 4 X 160 | C31: =#REF! -> #REF! | D31: =#REF! -> #REF! | E31: =#REF! -> #REF! | F31: =SUM(Scoresheet!$C31:$E31) -> #REF!
B32: 55 Meter Hurdles | C32: =#REF! -> #REF! | D32: =#REF! -> #REF! | E32: =#REF! -> #REF! | F32: =SUM(Scoresheet!$C32:$E32) -> #REF!
B33: 55 Meter Dash | C33: =#REF! -> #REF! | D33: =#REF! -> #REF! | E33: =#REF! -> #REF! | F33: =SUM(Scoresheet!$C33:$E33) -> #REF!
B34: 800 Meter Run | C34: =#REF! -> #REF! | D34: =#REF! -> #REF! | E34: =#REF! -> #REF! | F34: =SUM(Scoresheet!$C34:$E34) -> #REF!
B35: 4 X 240 | C35: =#REF! -> #REF! | D35: =#REF! -> #REF! | E35: =#REF! -> #REF! | F35: =SUM(Scoresheet!$C35:$E35) -> #REF!
B36: 400 Meter Dash | F36: =SUM(Scoresheet!$C36:$E36) -> 0
B37: 1600 Meter Run | C37: =#REF! -> #REF! | E37: =#REF! -> #REF! | F37: =SUM(Scoresheet!$C37:$E37) -> #REF!
B38: 200 Meter Dash | C38: =#REF! -> #REF! | D38: =#REF! -> #REF! | E38: =#REF! -> #REF! | F38: =SUM(Scoresheet!$C38:$E38) -> #REF!
B39: 4 X 400 | C39: =#REF! -> #REF! | D39: =#REF! -> #REF! | E39: =#REF! -> #REF! | F39: =SUM(Scoresheet!$C39:$E39) -> #REF!
B40: Team Totals | C40: =SUM(C24:C39) -> #REF! | D40: =SUM(D24:D39) -> #REF! | E40: =SUM(E24:E39) -> #REF!
B41: Team Place | C41: =RANK(Scoresheet!$C$40,Scoresheet!$C$40:$E$40) -> #REF! | D41: =RANK(Scoresheet!$D$40,Scoresheet!$C$40:$E$40) -> #REF! | E41: =RANK(Scoresheet!$E$40,Scoresheet!$C$40:$E$40) -> #REF!

Sheet 3200
C1: 3200 Meter Run
A4: Place | B4: Scan | C4: Name | D4: School | E4: Time | F4: Level
A5: 1 | G5: 5
A6: 2 | G6: 3
A7: 3 | G7: 2
A8: 4 | C8: =IF(ISNA(VLOOKUP(B8,athlete,2,FALSE)),"",VLOOKUP(B8,athlete,2,FALSE)) | D8: =IF(ISNA(VLOOKUP(B8,athlete,4,FALSE)),"",VLOOKUP(B8,athlete,4,FALSE)) | G8: 1
A9: 5 | C9: =IF(ISNA(VLOOKUP(B9,athlete,2,FALSE)),"",VLOOKUP(B9,athlete,2,FALSE)) | D9: =IF(ISNA(VLOOKUP(B9,athlete,4,FALSE)),"",VLOOKUP(B9,athlete,4,FALSE))
A10: 6 | C10: =IF(ISNA(VLOOKUP(B10,athlete,2,FALSE)),"",VLOOKUP(B10,athlete,2,FALSE)) | D10: =IF(ISNA(VLOOKUP(B10,athlete,4,FALSE)),"",VLOOKUP(B10,athlete,4,FALSE))
A11: 7 | C11: =IF(ISNA(VLOOKUP(B11,athlete,2,FALSE)),"",VLOOKUP(B11,athlete,2,FALSE)) | D11: =IF(ISNA(VLOOKUP(B11,athlete,4,FALSE)),"",VLOOKUP(B11,athlete,4,FALSE))
A12: 8 | C12: =IF(ISNA(VLOOKUP(B12,athlete,2,FALSE)),"",VLOOKUP(B12,athlete,2,FALSE)) | D12: =IF(ISNA(VLOOKUP(B12,athlete,4,FALSE)),"",VLOOKUP(B12,athlete,4,FALSE))
A13: 9 | C13: =IF(ISNA(VLOOKUP(B13,athlete,2,FALSE)),"",VLOOKUP(B13,athlete,2,FALSE)) | D13: =IF(ISNA(VLOOKUP(B13,athlete,4,FALSE)),"",VLOOKUP(B13,athlete,4,FALSE))
A14: 10 | C14: =IF(ISNA(VLOOKUP(B14,athlete,2,FALSE)),"",VLOOKUP(B14,athlete,2,FALSE)) | D14: =IF(ISNA(VLOOKUP(B14,athlete,4,FALSE)),"",VLOOKUP(B14,athlete,4,FALSE))
A15: 11 | C15: =IF(ISNA(VLOOKUP(B15,athlete,2,FALSE)),"",VLOOKUP(B15,athlete,2,FALSE)) | D15: =IF(ISNA(VLOOKUP(B15,athlete,4,FALSE)),"",VLOOKUP(B15,athlete,4,FALSE))
A16: 12 | C16: =IF(ISNA(VLOOKUP(B16,athlete,2,FALSE)),"",VLOOKUP(B16,athlete,2,FALSE)) | D16: =IF(ISNA(VLOOKUP(B16,athlete,4,FALSE)),"",VLOOKUP(B16,athlete,4,FALSE))
A17: 13 | C17: =IF(ISNA(VLOOKUP(B17,athlete,2,FALSE)),"",VLOOKUP(B17,athlete,2,FALSE)) | D17: =IF(ISNA(VLOOKUP(B17,athlete,4,FALSE)),"",VLOOKUP(B17,athlete,4,FALSE))
A18: 14 | C18: =IF(ISNA(VLOOKUP(B18,athlete,2,FALSE)),"",VLOOKUP(B18,athlete,2,FALSE)) | D18: =IF(ISNA(VLOOKUP(B18,athlete,4,FALSE)),"",VLOOKUP(B18,athlete,4,FALSE))
A19: 15 | C19: =IF(ISNA(VLOOKUP(B19,athlete,2,FALSE)),"",VLOOKUP(B19,athlete,2,FALSE)) | D19: =IF(ISNA(VLOOKUP(B19,athlete,4,FALSE)),"",VLOOKUP(B19,athlete,4,FALSE))
A20: 16 | C20: =IF(ISNA(VLOOKUP(B20,athlete,2,FALSE)),"",VLOOKUP(B20,athlete,2,FALSE)) | D20: =IF(ISNA(VLOOKUP(B20,athlete,4,FALSE)),"",VLOOKUP(B20,athlete,4,FALSE))
... A28: 24 | C28: =IF(ISNA(VLOOKUP(B28,athlete,2,FALSE)),"",VLOOKUP(B28,athlete,2,FALSE)) | D28: =IF(ISNA(VLOOKUP(B28,athlete,4,FALSE)),"",VLOOKUP(B28,athlete,4,FALSE))
C31: Varsity Team Points
C32: Glenbard North | D32: 0
C33: East Aurora | D33: 0
C34: South Elgin | D34: 0
C37: Junior Varsity Team Points
C38: Glenbard North
C39: East Aurora
C40: South Elgin

Sheet 4 x 800
A3: 4 X 800 | F3: Only one relay per school may score
B4: Place | C4: Scan | D4: School | E4: Time | F4: Points
B5: 1 | C5: 300 | D5: Glenbard North | E5: 11:11.1 | F5: 5
B6: 2 | C6: 301 | D6: South Elgin | E6: 11:28.8 | F6: 3
B7: 3 | C7: 300 | D7: =IF(ISNA(VLOOKUP(C7,athlete,2,FALSE)),"",VLOOKUP(C7,athlete,2,FALSE)) -> Glenbard North | E7: 12:03.5
B8: 4 | C8: 301 | D8: =IF(ISNA(VLOOKUP(C8,athlete,2,FALSE)),"",VLOOKUP(C8,athlete,2,FALSE)) -> South Elgin | E8: 12:53.0
B9: 5 | D9: =IF(ISNA(VLOOKUP(C9,athlete,2,FALSE)),"",VLOOKUP(C9,athlete,2,FALSE))
B10: 6 | D10: =IF(ISNA(VLOOKUP(C10,athlete,2,FALSE)),"",VLOOKUP(C10,athlete,2,FALSE))
B11: 7 | D11: =IF(ISNA(VLOOKUP(C11,athlete,2,FALSE)),"",VLOOKUP(C11,athlete,2,FALSE))
B12: 8 | D12: =IF(ISNA(VLOOKUP(C12,athlete,2,FALSE)),"",VLOOKUP(C12,athlete,2,FALSE))
D14: Team Points
D15: Glenbard North | E15: 5
D16: East Aurora | E16: 0
D17: South Elgin | E17: 3

Sheet 4 x 160 
A4: 4 x 160 | E4: Only one relay per school may score
A5: Place | B5: Heat Place | C5: Scan | D5: School | E5: Time | F5: Points
A6: 1 | B6: 1 | C6: 300 | D6: =IF(ISNA(VLOOKUP(C6,athlete,2,FALSE)),"",VLOOKUP(C6,athlete,2,FALSE)) -> Glenbard North | E6: 1:30.4 | F6: 5
A7: 2 | B7: 2 | C7: 301 | D7: =IF(ISNA(VLOOKUP(C7,athlete,2,FALSE)),"",VLOOKUP(C7,athlete,2,FALSE)) -> South Elgin | E7: 1:31.4 | F7: 3
A8: 3 | B8: 3 | C8: 300 | D8: =IF(ISNA(VLOOKUP(C8,athlete,2,FALSE)),"",VLOOKUP(C8,athlete,2,FALSE)) -> Glenbard North | E8: 1:34.7
A9: 4 | B9: 4 | C9: 301 | D9: =IF(ISNA(VLOOKUP(C9,athlete,2,FALSE)),"",VLOOKUP(C9,athlete,2,FALSE)) -> South Elgin | E9: 1:39.1
A10: 5 | B10: 1 | C10: 302 | D10: =IF(ISNA(VLOOKUP(C10,athlete,2,FALSE)),"",VLOOKUP(C10,athlete,2,FALSE)) -> East Aurora | E10: 1:43.4
A11: 6 | B11: 2 | C11: 300 | D11: Glenbard North | E11: 1:43.8
A12: 7 | B12: 3 | C12: 300 | D12: =IF(ISNA(VLOOKUP(C12,athlete,2,FALSE)),"",VLOOKUP(C12,athlete,2,FALSE)) -> Glenbard North | E12: 1:43.9
A13: 8 | B13: 4 | C13: 301 | D13: =IF(ISNA(VLOOKUP(C13,athlete,2,FALSE)),"",VLOOKUP(C13,athlete,2,FALSE)) -> South Elgin | E13: 1:44.6
A14: 9 | B14: 1 | C14: 301 | D14: =IF(ISNA(VLOOKUP(C14,athlete,2,FALSE)),"",VLOOKUP(C14,athlete,2,FALSE)) -> South Elgin | E14: 1:45.5
A15: 10 | B15: 2 | C15: 301 | D15: =IF(ISNA(VLOOKUP(C15,athlete,2,FALSE)),"",VLOOKUP(C15,athlete,2,FALSE)) -> South Elgin | E15: 1:47.2
A16: 11 | B16: 3 | C16: 301 | D16: =IF(ISNA(VLOOKUP(C16,athlete,2,FALSE)),"",VLOOKUP(C16,athlete,2,FALSE)) -> South Elgin | E16: 1:47.5
A17: 12 | B17: 4 | C17: 301 | D17: =IF(ISNA(VLOOKUP(C17,athlete,2,FALSE)),"",VLOOKUP(C17,athlete,2,FALSE)) -> South Elgin | E17: 1:57.2
D19: Team Points
D20: Glenbard North | E20: 5
D21: East Aurora | E21: 0
D22: South Elgin | E22: 3

Sheet 55 Hurdles
A1: 55 Meter Hurdles
D3: Junior Varsity Team Points
D4: Glenbard North | E4: 5
D5: East Aurora | E5: 0
D6: South Elgin | E6: 6
A7: Place | B7: Heat Place | C7: Scan | D7: Name | F7: Time | G7: Points
A8: 1 | B8: 1 | C8: 162 | D8: =IF(ISNA(VLOOKUP(C8,athlete,2,FALSE)),"",VLOOKUP(C8,athlete,2,FALSE)) -> WAHRMAN | E8: =IF(ISNA(VLOOKUP(C8,athlete,4,FALSE)),"",VLOOKUP(C8,athlete,4,FALSE)) -> GN | F8: 9.3 | G8: 5
A9: 2 | B9: 2 | C9: 240 | D9: =IF(ISNA(VLOOKUP(C9,athlete,2,FALSE)),"",VLOOKUP(C9,athlete,2,FALSE)) -> Smith | E9: =IF(ISNA(VLOOKUP(C9,athlete,4,FALSE)),"",VLOOKUP(C9,athlete,4,FALSE)) -> SE | F9: 9.8 | G9: 3
A10: 3 | B10: 3 | C10: 248 | D10: =IF(ISNA(VLOOKUP(C10,athlete,2,FALSE)),"",VLOOKUP(C10,athlete,2,FALSE)) -> Walters | E10: =IF(ISNA(VLOOKUP(C10,athlete,4,FALSE)),"",VLOOKUP(C10,athlete,4,FALSE)) -> SE | F10: 9.9 | G10: 2
A11: 7 | B11: 4 | C11: 199 | D11: =IF(ISNA(VLOOKUP(C11,athlete,2,FALSE)),"",VLOOKUP(C11,athlete,2,FALSE)) -> Duncan | E11: =IF(ISNA(VLOOKUP(C11,athlete,4,FALSE)),"",VLOOKUP(C11,athlete,4,FALSE)) -> SE | F11: 10 | G11: 1
A12: 4 | B12: 5 | C12: 189 | D12: =IF(ISNA(VLOOKUP(C12,athlete,2,FALSE)),"",VLOOKUP(C12,athlete,2,FALSE)) -> Bush | E12: =IF(ISNA(VLOOKUP(C12,athlete,4,FALSE)),"",VLOOKUP(C12,athlete,4,FALSE)) -> SE | F12: 10.2
A13: 8 | B13: 6 | C13: 222 | D13: =IF(ISNA(VLOOKUP(C13,athlete,2,FALSE)),"",VLOOKUP(C13,athlete,2,FALSE)) -> Muller | E13: =IF(ISNA(VLOOKUP(C13,athlete,4,FALSE)),"",VLOOKUP(C13,athlete,4,FALSE)) -> SE | F13: 10.222
A14: 9 | B14: 1 | C14: 120 | D14: =IF(ISNA(VLOOKUP(C14,athlete,2,FALSE)),"",VLOOKUP(C14,athlete,2,FALSE)) -> GUZMAN | E14: =IF(ISNA(VLOOKUP(C14,athlete,4,FALSE)),"",VLOOKUP(C14,athlete,4,FALSE)) -> GN | F14: 10.9
A15: 5 | B15: 2 | C15: 105 | D15: =IF(ISNA(VLOOKUP(C15,athlete,2,FALSE)),"",VLOOKUP(C15,athlete,2,FALSE)) -> AYYAD | E15: =IF(ISNA(VLOOKUP(C15,athlete,4,FALSE)),"",VLOOKUP(C15,athlete,4,FALSE)) -> GN | F15: 11.2
A16: 10 | B16: 3 | C16: 126 | D16: =IF(ISNA(VLOOKUP(C16,athlete,2,FALSE)),"",VLOOKUP(C16,athlete,2,FALSE)) -> JOHNSON | E16: =IF(ISNA(VLOOKUP(C16,athlete,4,FALSE)),"",VLOOKUP(C16,athlete,4,FALSE)) -> GN | F16: 11.3
A17: 6 | B17: 4 | C17: 205 | D17: =IF(ISNA(VLOOKUP(C17,athlete,2,FALSE)),"",VLOOKUP(C17,athlete,2,FALSE)) -> Greco | E17: =IF(ISNA(VLOOKUP(C17,athlete,4,FALSE)),"",VLOOKUP(C17,athlete,4,FALSE)) -> SE | F17: 11.4
A18: 11 | B18: 5 | C18: 146 | D18: =IF(ISNA(VLOOKUP(C18,athlete,2,FALSE)),"",VLOOKUP(C18,athlete,2,FALSE)) -> Perez | E18: =IF(ISNA(VLOOKUP(C18,athlete,4,FALSE)),"",VLOOKUP(C18,athlete,4,FALSE)) -> GN | F18: 11.5
A19: 12 | B19: 6 | C19: 195 | D19: =IF(ISNA(VLOOKUP(C19,athlete,2,FALSE)),"",VLOOKUP(C19,athlete,2,FALSE)) -> Derowski | E19: =IF(ISNA(VLOOKUP(C19,athlete,4,FALSE)),"",VLOOKUP(C19,athlete,4,FALSE)) -> SE | F19: 11.6
A20: 13 | B20: 1 | C20: 175 | D20: =IF(ISNA(VLOOKUP(C20,athlete,2,FALSE)),"",VLOOKUP(C20,athlete,2,FALSE)) -> Ackermann | E20: =IF(ISNA(VLOOKUP(C20,athlete,4,FALSE)),"",VLOOKUP(C20,athlete,4,FALSE)) -> SE | F20: 11.8
A21: 14 | B21: 2 | C21: 244 | D21: =IF(ISNA(VLOOKUP(C21,athlete,2,FALSE)),"",VLOOKUP(C21,athlete,2,FALSE)) -> Swanson | E21: =IF(ISNA(VLOOKUP(C21,athlete,4,FALSE)),"",VLOOKUP(C21,athlete,4,FALSE)) -> SE | F21: 12
A22: 15 | B22: 3 | C22: 227 | D22: =IF(ISNA(VLOOKUP(C22,athlete,2,FALSE)),"",VLOOKUP(C22,athlete,2,FALSE)) -> Patel | E22: =IF(ISNA(VLOOKUP(C22,athlete,4,FALSE)),"",VLOOKUP(C22,athlete,4,FALSE)) -> SE | F22: 12.1
A23: 16 | B23: 4 | C23: 188 | D23: =IF(ISNA(VLOOKUP(C23,athlete,2,FALSE)),"",VLOOKUP(C23,athlete,2,FALSE)) -> Brown | E23: =IF(ISNA(VLOOKUP(C23,athlete,4,FALSE)),"",VLOOKUP(C23,athlete,4,FALSE)) -> SE | F23: 12.5
... A26: 13 | B26: 1 | C26: 287 | D26: =IF(ISNA(VLOOKUP(C26,athlete,2,FALSE)),"",VLOOKUP(C26,athlete,2,FALSE)) -> Trejo | E26: =IF(ISNA(VLOOKUP(C26,athlete,4,FALSE)),"",VLOOKUP(C26,athlete,4,FALSE)) -> EA | F26: 19
A27: 14 | B27: 2 | D27: =IF(ISNA(VLOOKUP(C27,athlete,2,FALSE)),"",VLOOKUP(C27,athlete,2,FALSE)) | E27: =IF(ISNA(VLOOKUP(C27,athlete,4,FALSE)),"",VLOOKUP(C27,athlete,4,FALSE))
A28: 15 | B28: 3 | D28: =IF(ISNA(VLOOKUP(C28,athlete,2,FALSE)),"",VLOOKUP(C28,athlete,2,FALSE)) | E28: =IF(ISNA(VLOOKUP(C28,athlete,4,FALSE)),"",VLOOKUP(C28,athlete,4,FALSE))
A29: 16 | B29: 4 | D29: =IF(ISNA(VLOOKUP(C29,athlete,2,FALSE)),"",VLOOKUP(C29,athlete,2,FALSE)) | E29: =IF(ISNA(VLOOKUP(C29,athlete,4,FALSE)),"",VLOOKUP(C29,athlete,4,FALSE))
A30: 17 | B30: 5 | D30: =IF(ISNA(VLOOKUP(C30,athlete,2,FALSE)),"",VLOOKUP(C30,athlete,2,FALSE)) | E30: =IF(ISNA(VLOOKUP(C30,athlete,4,FALSE)),"",VLOOKUP(C30,athlete,4,FALSE))
A31: 18 | B31: 6 | D31: =IF(ISNA(VLOOKUP(C31,athlete,2,FALSE)),"",VLOOKUP(C31,athlete,2,FALSE)) | E31: =IF(ISNA(VLOOKUP(C31,athlete,4,FALSE)),"",VLOOKUP(C31,athlete,4,FALSE))

Sheet 55 Dash 
D2: Team Points
D3: Glenbard North | E3: 3
D4: East Aurora | E4: 3
D5: South Elgin | E5: 5
A7: Junior Varsity 55 Meter Dash
A8: Place | B8: Heat Place | C8: Scan | D8: Name | E8: School | F8: Time | G8: Points
A9: 1 | B9: 1 | C9: 251 | D9: =IF(ISNA(VLOOKUP(C9,athlete,2,FALSE)),"",VLOOKUP(C9,athlete,2,FALSE)) -> Williams | E9: =IF(ISNA(VLOOKUP(C9,athlete,4,FALSE)),"",VLOOKUP(C9,athlete,4,FALSE)) -> SE | F9: 8 | G9: 5
A10: 2 | B10: 2 | C10: 290 | D10: =IF(ISNA(VLOOKUP(C10,athlete,2,FALSE)),"",VLOOKUP(C10,athlete,2,FALSE)) -> Wiggins | E10: =IF(ISNA(VLOOKUP(C10,athlete,4,FALSE)),"",VLOOKUP(C10,athlete,4,FALSE)) -> EA | F10: 8.01 | G10: 3
A11: 3 | B11: 3 | C11: 103 | D11: =IF(ISNA(VLOOKUP(C11,athlete,2,FALSE)),"",VLOOKUP(C11,athlete,2,FALSE)) -> ARON | E11: =IF(ISNA(VLOOKUP(C11,athlete,4,FALSE)),"",VLOOKUP(C11,athlete,4,FALSE)) -> GN | F11: 8.02 | G11: 2
A12: 4 | B12: 4 | C12: 107 | D12: =IF(ISNA(VLOOKUP(C12,athlete,2,FALSE)),"",VLOOKUP(C12,athlete,2,FALSE)) -> BLACKMAN | E12: =IF(ISNA(VLOOKUP(C12,athlete,4,FALSE)),"",VLOOKUP(C12,athlete,4,FALSE)) -> GN | F12: 8.1 | G12: 1
A13: 5 | B13: 5 | C13: 224 | D13: =IF(ISNA(VLOOKUP(C13,athlete,2,FALSE)),"",VLOOKUP(C13,athlete,2,FALSE)) -> Ordija | E13: =IF(ISNA(VLOOKUP(C13,athlete,4,FALSE)),"",VLOOKUP(C13,athlete,4,FALSE)) -> SE | F13: 8.11
A14: 6 | B14: 6 | C14: 148 | D14: =IF(ISNA(VLOOKUP(C14,athlete,2,FALSE)),"",VLOOKUP(C14,athlete,2,FALSE)) -> REED | E14: =IF(ISNA(VLOOKUP(C14,athlete,4,FALSE)),"",VLOOKUP(C14,athlete,4,FALSE)) -> GN | F14: 8.2
A15: 7 | B15: 1 | C15: 116 | D15: =IF(ISNA(VLOOKUP(C15,athlete,2,FALSE)),"",VLOOKUP(C15,athlete,2,FALSE)) -> FISHER | E15: =IF(ISNA(VLOOKUP(C15,athlete,4,FALSE)),"",VLOOKUP(C15,athlete,4,FALSE)) -> GN | F15: 8.3
A16: 8 | B16: 2 | C16: 231 | D16: =IF(ISNA(VLOOKUP(C16,athlete,2,FALSE)),"",VLOOKUP(C16,athlete,2,FALSE)) -> Roberson | E16: =IF(ISNA(VLOOKUP(C16,athlete,4,FALSE)),"",VLOOKUP(C16,athlete,4,FALSE)) -> SE | F16: 8.3
A17: 9 | B17: 3 | C17: 152 | D17: =IF(ISNA(VLOOKUP(C17,athlete,2,FALSE)),"",VLOOKUP(C17,athlete,2,FALSE)) -> SAYANI | E17: =IF(ISNA(VLOOKUP(C17,athlete,4,FALSE)),"",VLOOKUP(C17,athlete,4,FALSE)) -> GN | F17: 8.4
A18: 10 | B18: 4 | C18: 123 | D18: =IF(ISNA(VLOOKUP(C18,athlete,2,FALSE)),"",VLOOKUP(C18,athlete,2,FALSE)) -> HICKEY | E18: =IF(ISNA(VLOOKUP(C18,athlete,4,FALSE)),"",VLOOKUP(C18,athlete,4,FALSE)) -> GN | F18: 8.4
A19: 11 | B19: 5 | C19: 185 | D19: =IF(ISNA(VLOOKUP(C19,athlete,2,FALSE)),"",VLOOKUP(C19,athlete,2,FALSE)) -> Berry | E19: =IF(ISNA(VLOOKUP(C19,athlete,4,FALSE)),"",VLOOKUP(C19,athlete,4,FALSE)) -> SE | F19: 8.5
A20: 12 | B20: 6 | C20: 191 | D20: =IF(ISNA(VLOOKUP(C20,athlete,2,FALSE)),"",VLOOKUP(C20,athlete,2,FALSE)) -> Castro | E20: =IF(ISNA(VLOOKUP(C20,athlete,4,FALSE)),"",VLOOKUP(C20,athlete,4,FALSE)) -> SE | F20: 8.5
A21: 13 | B21: 1 | C21: 205 | D21: =IF(ISNA(VLOOKUP(C21,athlete,2,FALSE)),"",VLOOKUP(C21,athlete,2,FALSE)) -> Greco | E21: =IF(ISNA(VLOOKUP(C21,athlete,4,FALSE)),"",VLOOKUP(C21,athlete,4,FALSE)) -> SE | F21: 8.5
A22: 14 | B22: 2 | C22: 193 | D22: =IF(ISNA(VLOOKUP(C22,athlete,2,FALSE)),"",VLOOKUP(C22,athlete,2,FALSE)) -> Czyz | E22: =IF(ISNA(VLOOKUP(C22,athlete,4,FALSE)),"",VLOOKUP(C22,athlete,4,FALSE)) -> SE | F22: 8.6
A23: 15 | B23: 3 | C23: 188 | D23: =IF(ISNA(VLOOKUP(C23,athlete,2,FALSE)),"",VLOOKUP(C23,athlete,2,FALSE)) -> Brown | E23: =IF(ISNA(VLOOKUP(C23,athlete,4,FALSE)),"",VLOOKUP(C23,athlete,4,FALSE)) -> SE | F23: 8.6
A24: 16 | B24: 4 | C24: 217 | D24: =IF(ISNA(VLOOKUP(C24,athlete,2,FALSE)),"",VLOOKUP(C24,athlete,2,FALSE)) -> Mahkri | E24: =IF(ISNA(VLOOKUP(C24,athlete,4,FALSE)),"",VLOOKUP(C24,athlete,4,FALSE)) -> SE | F24: 8.6
... A59: 51 | B59: 3 | C59: 145 | D59: =IF(ISNA(VLOOKUP(C59,athlete,2,FALSE)),"",VLOOKUP(C59,athlete,2,FALSE)) -> PATRIDGE | E59: =IF(ISNA(VLOOKUP(C59,athlete,4,FALSE)),"",VLOOKUP(C59,athlete,4,FALSE)) -> GN | F59: 10.7
A60: 52 | B60: 4 | D60: =IF(ISNA(VLOOKUP(C60,athlete,2,FALSE)),"",VLOOKUP(C60,athlete,2,FALSE)) | E60: =IF(ISNA(VLOOKUP(C60,athlete,4,FALSE)),"",VLOOKUP(C60,athlete,4,FALSE))
A61: 53 | B61: 5 | D61: =IF(ISNA(VLOOKUP(C61,athlete,2,FALSE)),"",VLOOKUP(C61,athlete,2,FALSE)) | E61: =IF(ISNA(VLOOKUP(C61,athlete,4,FALSE)),"",VLOOKUP(C61,athlete,4,FALSE))
A62: 54 | B62: 6 | D62: =IF(ISNA(VLOOKUP(C62,athlete,2,FALSE)),"",VLOOKUP(C62,athlete,2,FALSE)) | E62: =IF(ISNA(VLOOKUP(C62,athlete,4,FALSE)),"",VLOOKUP(C62,athlete,4,FALSE))
A63: 55 | B63: 1 | D63: =IF(ISNA(VLOOKUP(C63,athlete,2,FALSE)),"",VLOOKUP(C63,athlete,2,FALSE)) | E63: =IF(ISNA(VLOOKUP(C63,athlete,4,FALSE)),"",VLOOKUP(C63,athlete,4,FALSE))
A64: 56 | B64: 2 | D64: =IF(ISNA(VLOOKUP(C64,athlete,2,FALSE)),"",VLOOKUP(C64,athlete,2,FALSE)) | E64: =IF(ISNA(VLOOKUP(C64,athlete,4,FALSE)),"",VLOOKUP(C64,athlete,4,FALSE))
A65: 57 | B65: 3 | D65: =IF(ISNA(VLOOKUP(C65,athlete,2,FALSE)),"",VLOOKUP(C65,athlete,2,FALSE)) | E65: =IF(ISNA(VLOOKUP(C65,athlete,4,FALSE)),"",VLOOKUP(C65,athlete,4,FALSE))
A66: 58 | B66: 4 | D66: =IF(ISNA(VLOOKUP(C66,athlete,2,FALSE)),"",VLOOKUP(C66,athlete,2,FALSE)) | E66: =IF(ISNA(VLOOKUP(C66,athlete,4,FALSE)),"",VLOOKUP(C66,athlete,4,FALSE))
A67: 59 | B67: 5 | D67: =IF(ISNA(VLOOKUP(C67,athlete,2,FALSE)),"",VLOOKUP(C67,athlete,2,FALSE)) | E67: =IF(ISNA(VLOOKUP(C67,athlete,4,FALSE)),"",VLOOKUP(C67,athlete,4,FALSE))
A68: 60 | B68: 6 | D68: =IF(ISNA(VLOOKUP(C68,athlete,2,FALSE)),"",VLOOKUP(C68,athlete,2,FALSE)) | E68: =IF(ISNA(VLOOKUP(C68,athlete,4,FALSE)),"",VLOOKUP(C68,athlete,4,FALSE))
A69: 61 | B69: 1 | D69: =IF(ISNA(VLOOKUP(C69,athlete,2,FALSE)),"",VLOOKUP(C69,athlete,2,FALSE)) | E69: =IF(ISNA(VLOOKUP(C69,athlete,4,FALSE)),"",VLOOKUP(C69,athlete,4,FALSE))
A70: 62 | B70: 2 | D70: =IF(ISNA(VLOOKUP(C70,athlete,2,FALSE)),"",VLOOKUP(C70,athlete,2,FALSE)) | E70: =IF(ISNA(VLOOKUP(C70,athlete,4,FALSE)),"",VLOOKUP(C70,athlete,4,FALSE))
A71: 63 | B71: 3 | D71: =IF(ISNA(VLOOKUP(C71,athlete,2,FALSE)),"",VLOOKUP(C71,athlete,2,FALSE)) | E71: =IF(ISNA(VLOOKUP(C71,athlete,4,FALSE)),"",VLOOKUP(C71,athlete,4,FALSE))
... A116: 108 | B116: 6 | D116: =IF(ISNA(VLOOKUP(C116,athlete,2,FALSE)),"",VLOOKUP(C116,athlete,2,FALSE)) | E116: =IF(ISNA(VLOOKUP(C116,athlete,4,FALSE)),"",VLOOKUP(C116,athlete,4,FALSE))
A117: 109 | D117: =IF(ISNA(VLOOKUP(C117,athlete,2,FALSE)),"",VLOOKUP(C117,athlete,2,FALSE)) | E117: =IF(ISNA(VLOOKUP(C117,athlete,4,FALSE)),"",VLOOKUP(C117,athlete,4,FALSE))
A118: 110 | D118: =IF(ISNA(VLOOKUP(C118,athlete,2,FALSE)),"",VLOOKUP(C118,athlete,2,FALSE)) | E118: =IF(ISNA(VLOOKUP(C118,athlete,4,FALSE)),"",VLOOKUP(C118,athlete,4,FALSE))
D119: =IF(ISNA(VLOOKUP(C119,athlete,2,FALSE)),"",VLOOKUP(C119,athlete,2,FALSE)) | E119: =IF(ISNA(VLOOKUP(C119,athlete,4,FALSE)),"",VLOOKUP(C119,athlete,4,FALSE))
E120: =IF(ISNA(VLOOKUP(C120,athlete,4,FALSE)),"",VLOOKUP(C120,athlete,4,FALSE))

Sheet 800
C1: Junior Varsity Team Points
C2: Glenbard North | D2: 9
C3: East Aurora | D3: 0
C4: South Elgin | D4: 2
A6: 800 Meter Run
A7: Place | B7: Scan | C7: Name | D7: School | E7: Time
A8: 1 | C8: LUBIN | D8: GN | E8: 2:45.1 | F8: 5
A9: 2 | B9: 111 | C9: =IF(ISNA(VLOOKUP(B9,athlete,2,FALSE)),"",VLOOKUP(B9,athlete,2,FALSE)) -> CASTELTON | D9: =IF(ISNA(VLOOKUP(B9,athlete,4,FALSE)),"",VLOOKUP(B9,athlete,4,FALSE)) -> GN | E9: 2:46.3 | F9: 3
A10: 3 | B10: 204 | C10: =IF(ISNA(VLOOKUP(B10,athlete,2,FALSE)),"",VLOOKUP(B10,athlete,2,FALSE)) -> Greco | D10: =IF(ISNA(VLOOKUP(B10,athlete,4,FALSE)),"",VLOOKUP(B10,athlete,4,FALSE)) -> SE | E10: 3:00.3 | F10: 2
A11: 4 | B11: 112 | C11: =IF(ISNA(VLOOKUP(B11,athlete,2,FALSE)),"",VLOOKUP(B11,athlete,2,FALSE)) -> COTTA | D11: =IF(ISNA(VLOOKUP(B11,athlete,4,FALSE)),"",VLOOKUP(B11,athlete,4,FALSE)) -> GN | E11: 3:00.9 | F11: 1
A12: 5 | B12: 154 | C12: =IF(ISNA(VLOOKUP(B12,athlete,2,FALSE)),"",VLOOKUP(B12,athlete,2,FALSE)) -> SPADLOWSKI | D12: =IF(ISNA(VLOOKUP(B12,athlete,4,FALSE)),"",VLOOKUP(B12,athlete,4,FALSE)) -> GN | E12: 3:01.7
A13: 6 | B13: 280 | C13: =IF(ISNA(VLOOKUP(B13,athlete,2,FALSE)),"",VLOOKUP(B13,athlete,2,FALSE)) -> Meraz | D13: =IF(ISNA(VLOOKUP(B13,athlete,4,FALSE)),"",VLOOKUP(B13,athlete,4,FALSE)) -> EA | E13: 3:01.9
A14: 7 | B14: 181 | C14: =IF(ISNA(VLOOKUP(B14,athlete,2,FALSE)),"",VLOOKUP(B14,athlete,2,FALSE)) -> Anderson | D14: =IF(ISNA(VLOOKUP(B14,athlete,4,FALSE)),"",VLOOKUP(B14,athlete,4,FALSE)) -> SE | E14: 3:13.7
A15: 8 | B15: 284 | C15: =IF(ISNA(VLOOKUP(B15,athlete,2,FALSE)),"",VLOOKUP(B15,athlete,2,FALSE)) -> Rodriguez | D15: =IF(ISNA(VLOOKUP(B15,athlete,4,FALSE)),"",VLOOKUP(B15,athlete,4,FALSE)) -> EA | E15: 3:15.4
A16: 9 | B16: 238 | C16: =IF(ISNA(VLOOKUP(B16,athlete,2,FALSE)),"",VLOOKUP(B16,athlete,2,FALSE)) -> Sepp | D16: =IF(ISNA(VLOOKUP(B16,athlete,4,FALSE)),"",VLOOKUP(B16,athlete,4,FALSE)) -> SE | E16: 3:22.5
A17: 10 | B17: 202 | C17: =IF(ISNA(VLOOKUP(B17,athlete,2,FALSE)),"",VLOOKUP(B17,athlete,2,FALSE)) -> Gallagher | D17: =IF(ISNA(VLOOKUP(B17,athlete,4,FALSE)),"",VLOOKUP(B17,athlete,4,FALSE)) -> SE | E17: 3:09.6
A18: 11 | B18: 160 | C18: =IF(ISNA(VLOOKUP(B18,athlete,2,FALSE)),"",VLOOKUP(B18,athlete,2,FALSE)) -> VAN BENTUM | D18: =IF(ISNA(VLOOKUP(B18,athlete,4,FALSE)),"",VLOOKUP(B18,athlete,4,FALSE)) -> GN | E18: 3:11.8
A19: 12 | B19: 122 | C19: =IF(ISNA(VLOOKUP(B19,athlete,2,FALSE)),"",VLOOKUP(B19,athlete,2,FALSE)) -> HERNANDEZ | D19: =IF(ISNA(VLOOKUP(B19,athlete,4,FALSE)),"",VLOOKUP(B19,athlete,4,FALSE)) -> GN | E19: 3:12.7
A20: 13 | B20: 129 | C20: =IF(ISNA(VLOOKUP(B20,athlete,2,FALSE)),"",VLOOKUP(B20,athlete,2,FALSE)) -> King | D20: =IF(ISNA(VLOOKUP(B20,athlete,4,FALSE)),"",VLOOKUP(B20,athlete,4,FALSE)) -> GN | E20: 3:18.5
A21: 14 | B21: 182 | C21: =IF(ISNA(VLOOKUP(B21,athlete,2,FALSE)),"",VLOOKUP(B21,athlete,2,FALSE)) -> Arana | D21: =IF(ISNA(VLOOKUP(B21,athlete,4,FALSE)),"",VLOOKUP(B21,athlete,4,FALSE)) -> SE | E21: 3:19.6
A22: 15 | B22: 271 | C22: =IF(ISNA(VLOOKUP(B22,athlete,2,FALSE)),"",VLOOKUP(B22,athlete,2,FALSE)) -> Gonsalez | D22: =IF(ISNA(VLOOKUP(B22,athlete,4,FALSE)),"",VLOOKUP(B22,athlete,4,FALSE)) -> EA | E22: 3:23.8
A23: 16 | B23: 226 | C23: =IF(ISNA(VLOOKUP(B23,athlete,2,FALSE)),"",VLOOKUP(B23,athlete,2,FALSE)) -> Patel | D23: =IF(ISNA(VLOOKUP(B23,athlete,4,FALSE)),"",VLOOKUP(B23,athlete,4,FALSE)) -> SE | E23: 3:27.8
... A30: 23 | B30: 187 | C30: =IF(ISNA(VLOOKUP(B30,athlete,2,FALSE)),"",VLOOKUP(B30,athlete,2,FALSE)) -> Boongaling | D30: =IF(ISNA(VLOOKUP(B30,athlete,4,FALSE)),"",VLOOKUP(B30,athlete,4,FALSE)) -> SE | E30: 4:08.7
A31: 24 | C31: =IF(ISNA(VLOOKUP(B31,athlete,2,FALSE)),"",VLOOKUP(B31,athlete,2,FALSE)) | D31: =IF(ISNA(VLOOKUP(B31,athlete,4,FALSE)),"",VLOOKUP(B31,athlete,4,FALSE))
A32: 25 | C32: =IF(ISNA(VLOOKUP(B32,athlete,2,FALSE)),"",VLOOKUP(B32,athlete,2,FALSE)) | D32: =IF(ISNA(VLOOKUP(B32,athlete,4,FALSE)),"",VLOOKUP(B32,athlete,4,FALSE))
A33: 26 | C33: =IF(ISNA(VLOOKUP(B33,athlete,2,FALSE)),"",VLOOKUP(B33,athlete,2,FALSE)) | D33: =IF(ISNA(VLOOKUP(B33,athlete,4,FALSE)),"",VLOOKUP(B33,athlete,4,FALSE))
A34: 27 | C34: =IF(ISNA(VLOOKUP(B34,athlete,2,FALSE)),"",VLOOKUP(B34,athlete,2,FALSE)) | D34: =IF(ISNA(VLOOKUP(B34,athlete,4,FALSE)),"",VLOOKUP(B34,athlete,4,FALSE))
A35: 28 | C35: =IF(ISNA(VLOOKUP(B35,athlete,2,FALSE)),"",VLOOKUP(B35,athlete,2,FALSE)) | D35: =IF(ISNA(VLOOKUP(B35,athlete,4,FALSE)),"",VLOOKUP(B35,athlete,4,FALSE))
A36: 29 | C36: =IF(ISNA(VLOOKUP(B36,athlete,2,FALSE)),"",VLOOKUP(B36,athlete,2,FALSE)) | D36: =IF(ISNA(VLOOKUP(B36,athlete,4,FALSE)),"",VLOOKUP(B36,athlete,4,FALSE))
A37: 30 | C37: =IF(ISNA(VLOOKUP(B37,athlete,2,FALSE)),"",VLOOKUP(B37,athlete,2,FALSE)) | D37: =IF(ISNA(VLOOKUP(B37,athlete,4,FALSE)),"",VLOOKUP(B37,athlete,4,FALSE))
A38: 31 | C38: =IF(ISNA(VLOOKUP(B38,athlete,2,FALSE)),"",VLOOKUP(B38,athlete,2,FALSE)) | D38: =IF(ISNA(VLOOKUP(B38,athlete,4,FALSE)),"",VLOOKUP(B38,athlete,4,FALSE))
A39: 32 | C39: =IF(ISNA(VLOOKUP(B39,athlete,2,FALSE)),"",VLOOKUP(B39,athlete,2,FALSE)) | D39: =IF(ISNA(VLOOKUP(B39,athlete,4,FALSE)),"",VLOOKUP(B39,athlete,4,FALSE))
A40: 33 | C40: =IF(ISNA(VLOOKUP(B40,athlete,2,FALSE)),"",VLOOKUP(B40,athlete,2,FALSE)) | D40: =IF(ISNA(VLOOKUP(B40,athlete,4,FALSE)),"",VLOOKUP(B40,athlete,4,FALSE))
A41: 34 | C41: =IF(ISNA(VLOOKUP(B41,athlete,2,FALSE)),"",VLOOKUP(B41,athlete,2,FALSE)) | D41: =IF(ISNA(VLOOKUP(B41,athlete,4,FALSE)),"",VLOOKUP(B41,athlete,4,FALSE))
A42: 35 | C42: =IF(ISNA(VLOOKUP(B42,athlete,2,FALSE)),"",VLOOKUP(B42,athlete,2,FALSE)) | D42: =IF(ISNA(VLOOKUP(B42,athlete,4,FALSE)),"",VLOOKUP(B42,athlete,4,FALSE))
... A46: 39 | C46: =IF(ISNA(VLOOKUP(B46,athlete,2,FALSE)),"",VLOOKUP(B46,athlete,2,FALSE)) | D46: =IF(ISNA(VLOOKUP(B46,athlete,4,FALSE)),"",VLOOKUP(B46,athlete,4,FALSE))

Sheet 4 x 240
A1: 4 X 240
E3: Junior Varsity Team Points
E4: Glenbard North | F4: 5
E5: East Aurora | F5: 0
E6: South Elgin | F6: 3
E8: Only one relay per school may score
B9: Place | C9: Heat Place | D9: Scan | E9: School | F9: Time | G9: Points
B10: 1 | C10: 1 | D10: 300 | E10: =IF(ISNA(VLOOKUP(D10,athlete,2,FALSE)),"",VLOOKUP(D10,athlete,2,FALSE)) -> Glenbard North | F10: 2:22.8 | G10: 5
B11: 2 | C11: 2 | D11: 301 | E11: =IF(ISNA(VLOOKUP(D11,athlete,2,FALSE)),"",VLOOKUP(D11,athlete,2,FALSE)) -> South Elgin | F11: 2:28.5 | G11: 3
B12: 3 | C12: 3 | D12: 300 | E12: =IF(ISNA(VLOOKUP(D12,athlete,2,FALSE)),"",VLOOKUP(D12,athlete,2,FALSE)) -> Glenbard North | F12: 2:44.2
B13: 4 | C13: 4 | D13: 302 | E13: =IF(ISNA(VLOOKUP(D13,athlete,2,FALSE)),"",VLOOKUP(D13,athlete,2,FALSE)) -> East Aurora | F13: 2:45.3
B14: 5 | C14: 1 | D14: 301 | E14: =IF(ISNA(VLOOKUP(D14,athlete,2,FALSE)),"",VLOOKUP(D14,athlete,2,FALSE)) -> South Elgin | F14: 2:46.6
B15: 6 | C15: 2 | D15: 300 | E15: =IF(ISNA(VLOOKUP(D15,athlete,2,FALSE)),"",VLOOKUP(D15,athlete,2,FALSE)) -> Glenbard North | F15: 2:47.0
B16: 7 | C16: 3 | D16: 301 | E16: =IF(ISNA(VLOOKUP(D16,athlete,2,FALSE)),"",VLOOKUP(D16,athlete,2,FALSE)) -> South Elgin | F16: 3:00.1
B17: 8 | C17: 4 | D17: 300 | E17: =IF(ISNA(VLOOKUP(D17,athlete,2,FALSE)),"",VLOOKUP(D17,athlete,2,FALSE)) -> Glenbard North | F17: 3:11.5
B18: 9 | C18: 1 | E18: =IF(ISNA(VLOOKUP(D18,athlete,2,FALSE)),"",VLOOKUP(D18,athlete,2,FALSE))
B19: 10 | C19: 2 | E19: =IF(ISNA(VLOOKUP(D19,athlete,2,FALSE)),"",VLOOKUP(D19,athlete,2,FALSE))
B20: 11 | C20: 3 | E20: =IF(ISNA(VLOOKUP(D20,athlete,2,FALSE)),"",VLOOKUP(D20,athlete,2,FALSE))
B21: 12 | C21: 4 | E21: =IF(ISNA(VLOOKUP(D21,athlete,2,FALSE)),"",VLOOKUP(D21,athlete,2,FALSE))

Sheet 400
A1: 400 Meter Dash
C3: Junior Varsity Team Points
C4: Glenbard North | D4: 3
C5: EAST AURORA | D5: 0
C6: South Elgin | D6: 8
A8: Place | B8: Scan | C8: Name | D8: School | E8: Time
A9: 1 | B9: 258 | C9: =IF(ISNA(VLOOKUP(B9,athlete,2,FALSE)),"",VLOOKUP(B9,athlete,2,FALSE)) | D9: =IF(ISNA(VLOOKUP(B9,athlete,4,FALSE)),"",VLOOKUP(B9,athlete,4,FALSE)) -> SE | E9: 1:05.7 | F9: 5
A10: 2 | B10: 114 | C10: =IF(ISNA(VLOOKUP(B10,athlete,2,FALSE)),"",VLOOKUP(B10,athlete,2,FALSE)) -> DZIEWIOR | D10: =IF(ISNA(VLOOKUP(B10,athlete,4,FALSE)),"",VLOOKUP(B10,athlete,4,FALSE)) -> GN | E10: 1:06.7 | F10: 3
A11: 3 | B11: 195 | C11: =IF(ISNA(VLOOKUP(B11,athlete,2,FALSE)),"",VLOOKUP(B11,athlete,2,FALSE)) -> Derowski | D11: =IF(ISNA(VLOOKUP(B11,athlete,4,FALSE)),"",VLOOKUP(B11,athlete,4,FALSE)) -> SE | E11: 1:10.2 | F11: 2
A12: 4 | B12: 261 | C12: =IF(ISNA(VLOOKUP(B12,athlete,2,FALSE)),"",VLOOKUP(B12,athlete,2,FALSE)) | D12: =IF(ISNA(VLOOKUP(B12,athlete,4,FALSE)),"",VLOOKUP(B12,athlete,4,FALSE)) -> SE | E12: 1:13.6 | F12: 1
A13: 5 | B13: 108 | C13: =IF(ISNA(VLOOKUP(B13,athlete,2,FALSE)),"",VLOOKUP(B13,athlete,2,FALSE)) -> BLUMHARDT | D13: =IF(ISNA(VLOOKUP(B13,athlete,4,FALSE)),"",VLOOKUP(B13,athlete,4,FALSE)) -> GN | E13: 1:14.0
A14: 6 | B14: 180 | C14: =IF(ISNA(VLOOKUP(B14,athlete,2,FALSE)),"",VLOOKUP(B14,athlete,2,FALSE)) -> Alvarado | D14: =IF(ISNA(VLOOKUP(B14,athlete,4,FALSE)),"",VLOOKUP(B14,athlete,4,FALSE)) -> SE | E14: 1:15.5
A15: 7 | B15: 236 | C15: =IF(ISNA(VLOOKUP(B15,athlete,2,FALSE)),"",VLOOKUP(B15,athlete,2,FALSE)) -> Salvadori | D15: =IF(ISNA(VLOOKUP(B15,athlete,4,FALSE)),"",VLOOKUP(B15,athlete,4,FALSE)) -> SE | E15: 1:15.6
A16: 8 | B16: 113 | C16: =IF(ISNA(VLOOKUP(B16,athlete,2,FALSE)),"",VLOOKUP(B16,athlete,2,FALSE)) -> DOLLAS | D16: =IF(ISNA(VLOOKUP(B16,athlete,4,FALSE)),"",VLOOKUP(B16,athlete,4,FALSE)) -> GN | E16: 1:15.7
A17: 9 | B17: 244 | C17: =IF(ISNA(VLOOKUP(B17,athlete,2,FALSE)),"",VLOOKUP(B17,athlete,2,FALSE)) -> Swanson | D17: =IF(ISNA(VLOOKUP(B17,athlete,4,FALSE)),"",VLOOKUP(B17,athlete,4,FALSE)) -> SE | E17: 1:17.1
A18: 10 | B18: 121 | C18: =IF(ISNA(VLOOKUP(B18,athlete,2,FALSE)),"",VLOOKUP(B18,athlete,2,FALSE)) -> HERBORD | D18: =IF(ISNA(VLOOKUP(B18,athlete,4,FALSE)),"",VLOOKUP(B18,athlete,4,FALSE)) -> GN | E18: 1:22.4
A19: 11 | B19: 129 | C19: =IF(ISNA(VLOOKUP(B19,athlete,2,FALSE)),"",VLOOKUP(B19,athlete,2,FALSE)) -> King | D19: =IF(ISNA(VLOOKUP(B19,athlete,4,FALSE)),"",VLOOKUP(B19,athlete,4,FALSE)) -> GN | E19: 1:22.9
A20: 12 | B20: 247 | C20: =IF(ISNA(VLOOKUP(B20,athlete,2,FALSE)),"",VLOOKUP(B20,athlete,2,FALSE)) -> Vios | D20: =IF(ISNA(VLOOKUP(B20,athlete,4,FALSE)),"",VLOOKUP(B20,athlete,4,FALSE)) -> SE | E20: 1:24.9
A21: 13 | B21: 226 | C21: =IF(ISNA(VLOOKUP(B21,athlete,2,FALSE)),"",VLOOKUP(B21,athlete,2,FALSE)) -> Patel | D21: =IF(ISNA(VLOOKUP(B21,athlete,4,FALSE)),"",VLOOKUP(B21,athlete,4,FALSE)) -> SE | E21: 1:26.5
A22: 14 | B22: 287 | C22: =IF(ISNA(VLOOKUP(B22,athlete,2,FALSE)),"",VLOOKUP(B22,athlete,2,FALSE)) -> Trejo | D22: =IF(ISNA(VLOOKUP(B22,athlete,4,FALSE)),"",VLOOKUP(B22,athlete,4,FALSE)) -> EA | E22: 1:28.8
A23: 15 | B23: 202 | C23: =IF(ISNA(VLOOKUP(B23,athlete,2,FALSE)),"",VLOOKUP(B23,athlete,2,FALSE)) -> Gallagher | D23: =IF(ISNA(VLOOKUP(B23,athlete,4,FALSE)),"",VLOOKUP(B23,athlete,4,FALSE)) -> SE | E23: 1:29.5
A24: 16 | B24: 183 | C24: =IF(ISNA(VLOOKUP(B24,athlete,2,FALSE)),"",VLOOKUP(B24,athlete,2,FALSE)) -> Bautista | D24: =IF(ISNA(VLOOKUP(B24,athlete,4,FALSE)),"",VLOOKUP(B24,athlete,4,FALSE)) -> SE | E24: 1:31.4
A25: 17 | B25: 152 | C25: =IF(ISNA(VLOOKUP(B25,athlete,2,FALSE)),"",VLOOKUP(B25,athlete,2,FALSE)) -> SAYANI | D25: =IF(ISNA(VLOOKUP(B25,athlete,4,FALSE)),"",VLOOKUP(B25,athlete,4,FALSE)) -> GN | E25: DQ
A26: 18 | C26: =IF(ISNA(VLOOKUP(B26,athlete,2,FALSE)),"",VLOOKUP(B26,athlete,2,FALSE)) | D26: =IF(ISNA(VLOOKUP(B26,athlete,4,FALSE)),"",VLOOKUP(B26,athlete,4,FALSE))
A27: 19 | C27: =IF(ISNA(VLOOKUP(B27,athlete,2,FALSE)),"",VLOOKUP(B27,athlete,2,FALSE)) | D27: =IF(ISNA(VLOOKUP(B27,athlete,4,FALSE)),"",VLOOKUP(B27,athlete,4,FALSE))
A28: 20 | C28: =IF(ISNA(VLOOKUP(B28,athlete,2,FALSE)),"",VLOOKUP(B28,athlete,2,FALSE)) | D28: =IF(ISNA(VLOOKUP(B28,athlete,4,FALSE)),"",VLOOKUP(B28,athlete,4,FALSE))
A29: 21 | C29: =IF(ISNA(VLOOKUP(B29,athlete,2,FALSE)),"",VLOOKUP(B29,athlete,2,FALSE)) | D29: =IF(ISNA(VLOOKUP(B29,athlete,4,FALSE)),"",VLOOKUP(B29,athlete,4,FALSE))
A30: 22 | C30: =IF(ISNA(VLOOKUP(B30,athlete,2,FALSE)),"",VLOOKUP(B30,athlete,2,FALSE)) | D30: =IF(ISNA(VLOOKUP(B30,athlete,4,FALSE)),"",VLOOKUP(B30,athlete,4,FALSE))
A31: 23 | C31: =IF(ISNA(VLOOKUP(B31,athlete,2,FALSE)),"",VLOOKUP(B31,athlete,2,FALSE)) | D31: =IF(ISNA(VLOOKUP(B31,athlete,4,FALSE)),"",VLOOKUP(B31,athlete,4,FALSE))
A32: 24 | C32: =IF(ISNA(VLOOKUP(B32,athlete,2,FALSE)),"",VLOOKUP(B32,athlete,2,FALSE)) | D32: =IF(ISNA(VLOOKUP(B32,athlete,4,FALSE)),"",VLOOKUP(B32,athlete,4,FALSE))
A33: 25 | C33: =IF(ISNA(VLOOKUP(B33,athlete,2,FALSE)),"",VLOOKUP(B33,athlete,2,FALSE)) | D33: =IF(ISNA(VLOOKUP(B33,athlete,4,FALSE)),"",VLOOKUP(B33,athlete,4,FALSE))
A34: 26 | C34: =IF(ISNA(VLOOKUP(B34,athlete,2,FALSE)),"",VLOOKUP(B34,athlete,2,FALSE)) | D34: =IF(ISNA(VLOOKUP(B34,athlete,4,FALSE)),"",VLOOKUP(B34,athlete,4,FALSE))
A35: 27 | C35: =IF(ISNA(VLOOKUP(B35,athlete,2,FALSE)),"",VLOOKUP(B35,athlete,2,FALSE)) | D35: =IF(ISNA(VLOOKUP(B35,athlete,4,FALSE)),"",VLOOKUP(B35,athlete,4,FALSE))
A36: 28 | C36: =IF(ISNA(VLOOKUP(B36,athlete,2,FALSE)),"",VLOOKUP(B36,athlete,2,FALSE)) | D36: =IF(ISNA(VLOOKUP(B36,athlete,4,FALSE)),"",VLOOKUP(B36,athlete,4,FALSE))
A37: 29 | C37: =IF(ISNA(VLOOKUP(B37,athlete,2,FALSE)),"",VLOOKUP(B37,athlete,2,FALSE)) | D37: =IF(ISNA(VLOOKUP(B37,athlete,4,FALSE)),"",VLOOKUP(B37,athlete,4,FALSE))
... A44: 36 | C44: =IF(ISNA(VLOOKUP(B44,athlete,2,FALSE)),"",VLOOKUP(B44,athlete,2,FALSE)) | D44: =IF(ISNA(VLOOKUP(B44,athlete,4,FALSE)),"",VLOOKUP(B44,athlete,4,FALSE))

Sheet 1600
C2: Junior Varsity Team Points
C3: Glenbard North | D3: 4
C4: Minooka | D4: 0
C5: South Elgin | D5: 7
B7: 1600 Meter Run
A8: Place | B8: Scan | C8: Name | D8: School | E8: Time
A9: 1 | B9: 192 | C9: =IF(ISNA(VLOOKUP(B9,athlete,2,FALSE)),"",VLOOKUP(B9,athlete,2,FALSE)) -> Czuprynski | D9: =IF(ISNA(VLOOKUP(B9,athlete,4,FALSE)),"",VLOOKUP(B9,athlete,4,FALSE)) -> SE | E9: 6:11.6 | F9: 5
A10: 2 | B10: 135 | C10: =IF(ISNA(VLOOKUP(B10,athlete,2,FALSE)),"",VLOOKUP(B10,athlete,2,FALSE)) -> MARINC | D10: =IF(ISNA(VLOOKUP(B10,athlete,4,FALSE)),"",VLOOKUP(B10,athlete,4,FALSE)) -> GN | E10: 6:14.0 | F10: 3
A11: 3 | B11: 246 | C11: =IF(ISNA(VLOOKUP(B11,athlete,2,FALSE)),"",VLOOKUP(B11,athlete,2,FALSE)) -> Vickrey | D11: =IF(ISNA(VLOOKUP(B11,athlete,4,FALSE)),"",VLOOKUP(B11,athlete,4,FALSE)) -> SE | E11: 6:30.9 | F11: 2
A12: 4 | B12: 106 | C12: =IF(ISNA(VLOOKUP(B12,athlete,2,FALSE)),"",VLOOKUP(B12,athlete,2,FALSE)) -> BARTKOWIAK | D12: =IF(ISNA(VLOOKUP(B12,athlete,4,FALSE)),"",VLOOKUP(B12,athlete,4,FALSE)) -> GN | E12: 6:34.6 | F12: 1
A13: 5 | B13: 154 | C13: =IF(ISNA(VLOOKUP(B13,athlete,2,FALSE)),"",VLOOKUP(B13,athlete,2,FALSE)) -> SPADLOWSKI | D13: =IF(ISNA(VLOOKUP(B13,athlete,4,FALSE)),"",VLOOKUP(B13,athlete,4,FALSE)) -> GN | E13: 6:36.2
A14: 6 | B14: 127 | C14: =IF(ISNA(VLOOKUP(B14,athlete,2,FALSE)),"",VLOOKUP(B14,athlete,2,FALSE)) -> JOHNSON | D14: =IF(ISNA(VLOOKUP(B14,athlete,4,FALSE)),"",VLOOKUP(B14,athlete,4,FALSE)) -> GN | E14: 6:50.0
A15: 7 | B15: 216 | C15: =IF(ISNA(VLOOKUP(B15,athlete,2,FALSE)),"",VLOOKUP(B15,athlete,2,FALSE)) -> Lusco | D15: =IF(ISNA(VLOOKUP(B15,athlete,4,FALSE)),"",VLOOKUP(B15,athlete,4,FALSE)) -> SE | E15: 6:56.3
A16: 8 | B16: 122 | C16: =IF(ISNA(VLOOKUP(B16,athlete,2,FALSE)),"",VLOOKUP(B16,athlete,2,FALSE)) -> HERNANDEZ | D16: =IF(ISNA(VLOOKUP(B16,athlete,4,FALSE)),"",VLOOKUP(B16,athlete,4,FALSE)) -> GN | E16: 7:09.4
A17: 9 | B17: 181 | C17: =IF(ISNA(VLOOKUP(B17,athlete,2,FALSE)),"",VLOOKUP(B17,athlete,2,FALSE)) -> Anderson | D17: =IF(ISNA(VLOOKUP(B17,athlete,4,FALSE)),"",VLOOKUP(B17,athlete,4,FALSE)) -> SE | E17: 7:12.8
A18: 10 | B18: 109 | C18: =IF(ISNA(VLOOKUP(B18,athlete,2,FALSE)),"",VLOOKUP(B18,athlete,2,FALSE)) -> BRIGGS | D18: =IF(ISNA(VLOOKUP(B18,athlete,4,FALSE)),"",VLOOKUP(B18,athlete,4,FALSE)) -> GN | E18: 7:17.8
A19: 11 | B19: 119 | C19: =IF(ISNA(VLOOKUP(B19,athlete,2,FALSE)),"",VLOOKUP(B19,athlete,2,FALSE)) -> GREENE | D19: =IF(ISNA(VLOOKUP(B19,athlete,4,FALSE)),"",VLOOKUP(B19,athlete,4,FALSE)) -> GN | E19: 7:24.8
A20: 12 | B20: 194 | C20: =IF(ISNA(VLOOKUP(B20,athlete,2,FALSE)),"",VLOOKUP(B20,athlete,2,FALSE)) -> DeLaney | D20: =IF(ISNA(VLOOKUP(B20,athlete,4,FALSE)),"",VLOOKUP(B20,athlete,4,FALSE)) -> SE | E20: 7:33.8
A21: 13 | B21: 277 | C21: =IF(ISNA(VLOOKUP(B21,athlete,2,FALSE)),"",VLOOKUP(B21,athlete,2,FALSE)) -> Lozano | D21: =IF(ISNA(VLOOKUP(B21,athlete,4,FALSE)),"",VLOOKUP(B21,athlete,4,FALSE)) -> EA | E21: 7:40.8
A22: 14 | B22: 279 | C22: =IF(ISNA(VLOOKUP(B22,athlete,2,FALSE)),"",VLOOKUP(B22,athlete,2,FALSE)) -> Marin | D22: =IF(ISNA(VLOOKUP(B22,athlete,4,FALSE)),"",VLOOKUP(B22,athlete,4,FALSE)) -> EA | E22: 8:30.8
A23: 15 | B23: 282 | C23: =IF(ISNA(VLOOKUP(B23,athlete,2,FALSE)),"",VLOOKUP(B23,athlete,2,FALSE)) -> Ramirez | D23: =IF(ISNA(VLOOKUP(B23,athlete,4,FALSE)),"",VLOOKUP(B23,athlete,4,FALSE)) -> EA | E23: 8:45.3
A24: 16 | B24: 242 | C24: =IF(ISNA(VLOOKUP(B24,athlete,2,FALSE)),"",VLOOKUP(B24,athlete,2,FALSE)) -> Stallings | D24: =IF(ISNA(VLOOKUP(B24,athlete,4,FALSE)),"",VLOOKUP(B24,athlete,4,FALSE)) -> SE | E24: 8:52.5
A25: 17 | B25: 144 | C25: =IF(ISNA(VLOOKUP(B25,athlete,2,FALSE)),"",VLOOKUP(B25,athlete,2,FALSE)) -> PATEL | D25: =IF(ISNA(VLOOKUP(B25,athlete,4,FALSE)),"",VLOOKUP(B25,athlete,4,FALSE)) -> GN | E25: 8:52.9
A26: 18 | C26: =IF(ISNA(VLOOKUP(B26,athlete,2,FALSE)),"",VLOOKUP(B26,athlete,2,FALSE)) | D26: =IF(ISNA(VLOOKUP(B26,athlete,4,FALSE)),"",VLOOKUP(B26,athlete,4,FALSE))
A27: 19 | C27: =IF(ISNA(VLOOKUP(B27,athlete,2,FALSE)),"",VLOOKUP(B27,athlete,2,FALSE)) | D27: =IF(ISNA(VLOOKUP(B27,athlete,4,FALSE)),"",VLOOKUP(B27,athlete,4,FALSE))
A28: 20 | C28: =IF(ISNA(VLOOKUP(B28,athlete,2,FALSE)),"",VLOOKUP(B28,athlete,2,FALSE)) | D28: =IF(ISNA(VLOOKUP(B28,athlete,4,FALSE)),"",VLOOKUP(B28,athlete,4,FALSE))
A29: 21 | C29: =IF(ISNA(VLOOKUP(B29,athlete,2,FALSE)),"",VLOOKUP(B29,athlete,2,FALSE)) | D29: =IF(ISNA(VLOOKUP(B29,athlete,4,FALSE)),"",VLOOKUP(B29,athlete,4,FALSE))
A30: 22 | C30: =IF(ISNA(VLOOKUP(B30,athlete,2,FALSE)),"",VLOOKUP(B30,athlete,2,FALSE)) | D30: =IF(ISNA(VLOOKUP(B30,athlete,4,FALSE)),"",VLOOKUP(B30,athlete,4,FALSE))
A31: 23 | C31: =IF(ISNA(VLOOKUP(B31,athlete,2,FALSE)),"",VLOOKUP(B31,athlete,2,FALSE)) | D31: =IF(ISNA(VLOOKUP(B31,athlete,4,FALSE)),"",VLOOKUP(B31,athlete,4,FALSE))
A32: 24 | C32: =IF(ISNA(VLOOKUP(B32,athlete,2,FALSE)),"",VLOOKUP(B32,athlete,2,FALSE)) | D32: =IF(ISNA(VLOOKUP(B32,athlete,4,FALSE)),"",VLOOKUP(B32,athlete,4,FALSE))
A33: 25 | C33: =IF(ISNA(VLOOKUP(B33,athlete,2,FALSE)),"",VLOOKUP(B33,athlete,2,FALSE)) | D33: =IF(ISNA(VLOOKUP(B33,athlete,4,FALSE)),"",VLOOKUP(B33,athlete,4,FALSE))
A34: 26 | C34: =IF(ISNA(VLOOKUP(B34,athlete,2,FALSE)),"",VLOOKUP(B34,athlete,2,FALSE)) | D34: =IF(ISNA(VLOOKUP(B34,athlete,4,FALSE)),"",VLOOKUP(B34,athlete,4,FALSE))
A35: 27 | C35: =IF(ISNA(VLOOKUP(B35,athlete,2,FALSE)),"",VLOOKUP(B35,athlete,2,FALSE)) | D35: =IF(ISNA(VLOOKUP(B35,athlete,4,FALSE)),"",VLOOKUP(B35,athlete,4,FALSE))
A36: 28 | C36: =IF(ISNA(VLOOKUP(B36,athlete,2,FALSE)),"",VLOOKUP(B36,athlete,2,FALSE)) | D36: =IF(ISNA(VLOOKUP(B36,athlete,4,FALSE)),"",VLOOKUP(B36,athlete,4,FALSE))
A37: 29 | C37: =IF(ISNA(VLOOKUP(B37,athlete,2,FALSE)),"",VLOOKUP(B37,athlete,2,FALSE)) | D37: =IF(ISNA(VLOOKUP(B37,athlete,4,FALSE)),"",VLOOKUP(B37,athlete,4,FALSE))
... A44: 36 | C44: =IF(ISNA(VLOOKUP(B44,athlete,2,FALSE)),"",VLOOKUP(B44,athlete,2,FALSE)) | D44: =IF(ISNA(VLOOKUP(B44,athlete,4,FALSE)),"",VLOOKUP(B44,athlete,4,FALSE))

Sheet 200
B1: 200 Meter Dash
E3: Junior Varsity Team Points
E4: Glenbard North | F4: 3
E5: East Aurora | F5: 0
E6: South Elgin | F6: 8
B8: Place | C8: Heat Place | D8: Scan | E8: Name | F8: School | G8: Time
B9: 1 | C9: 1 | D9: 250 | E9: =IF(ISNA(VLOOKUP(D9,athlete,2,FALSE)),"",VLOOKUP(D9,athlete,2,FALSE)) -> Wells | F9: =IF(ISNA(VLOOKUP(D9,athlete,4,FALSE)),"",VLOOKUP(D9,athlete,4,FALSE)) -> SE | G9: 27.8 | H9: 5
B10: 2 | C10: 1 | D10: 261 | E10: =IF(ISNA(VLOOKUP(D10,athlete,2,FALSE)),"",VLOOKUP(D10,athlete,2,FALSE)) | F10: =IF(ISNA(VLOOKUP(D10,athlete,4,FALSE)),"",VLOOKUP(D10,athlete,4,FALSE)) -> SE | G10: 27.9 | H10: 3
B11: 3 | C11: 2 | D11: 170 | E11: MOH HUSSEIN | F11: =IF(ISNA(VLOOKUP(D11,athlete,4,FALSE)),"",VLOOKUP(D11,athlete,4,FALSE)) -> GN | G11: 28.5 | H11: 2
B12: 4 | C12: 1 | D12: 162 | E12: =IF(ISNA(VLOOKUP(D12,athlete,2,FALSE)),"",VLOOKUP(D12,athlete,2,FALSE)) -> WAHRMAN | F12: =IF(ISNA(VLOOKUP(D12,athlete,4,FALSE)),"",VLOOKUP(D12,athlete,4,FALSE)) -> GN | G12: 29.2 | H12: 1
B13: 5 | C13: 1 | D13: 290 | E13: =IF(ISNA(VLOOKUP(D13,athlete,2,FALSE)),"",VLOOKUP(D13,athlete,2,FALSE)) -> Wiggins | F13: =IF(ISNA(VLOOKUP(D13,athlete,4,FALSE)),"",VLOOKUP(D13,athlete,4,FALSE)) -> EA | G13: 29.4
B14: 6 | C14: 2 | D14: 114 | E14: =IF(ISNA(VLOOKUP(D14,athlete,2,FALSE)),"",VLOOKUP(D14,athlete,2,FALSE)) -> DZIEWIOR | F14: =IF(ISNA(VLOOKUP(D14,athlete,4,FALSE)),"",VLOOKUP(D14,athlete,4,FALSE)) -> GN | G14: 30
B15: 7 | C15: 3 | D15: 199 | E15: =IF(ISNA(VLOOKUP(D15,athlete,2,FALSE)),"",VLOOKUP(D15,athlete,2,FALSE)) -> Duncan | F15: =IF(ISNA(VLOOKUP(D15,athlete,4,FALSE)),"",VLOOKUP(D15,athlete,4,FALSE)) -> SE | G15: 30.8
B16: 8 | C16: 2 | D16: 170 | E16: JOHNSON | F16: =IF(ISNA(VLOOKUP(D16,athlete,4,FALSE)),"",VLOOKUP(D16,athlete,4,FALSE)) -> GN | G16: 30.8
B17: 9 | C17: 1 | D17: 188 | E17: =IF(ISNA(VLOOKUP(D17,athlete,2,FALSE)),"",VLOOKUP(D17,athlete,2,FALSE)) -> Brown | F17: =IF(ISNA(VLOOKUP(D17,athlete,4,FALSE)),"",VLOOKUP(D17,athlete,4,FALSE)) -> SE | G17: 31.1
B18: 10 | C18: 3 | D18: 125 | E18: =IF(ISNA(VLOOKUP(D18,athlete,2,FALSE)),"",VLOOKUP(D18,athlete,2,FALSE)) -> IVY | F18: =IF(ISNA(VLOOKUP(D18,athlete,4,FALSE)),"",VLOOKUP(D18,athlete,4,FALSE)) -> GN | G18: 31.4
B19: 11 | C19: 2 | D19: 130 | E19: =IF(ISNA(VLOOKUP(D19,athlete,2,FALSE)),"",VLOOKUP(D19,athlete,2,FALSE)) -> Laherty | F19: =IF(ISNA(VLOOKUP(D19,athlete,4,FALSE)),"",VLOOKUP(D19,athlete,4,FALSE)) -> GN | G19: 31.8
B20: 12 | C20: 1 | D20: 116 | E20: =IF(ISNA(VLOOKUP(D20,athlete,2,FALSE)),"",VLOOKUP(D20,athlete,2,FALSE)) -> FISHER | F20: =IF(ISNA(VLOOKUP(D20,athlete,4,FALSE)),"",VLOOKUP(D20,athlete,4,FALSE)) -> GN | G20: 31.9
B21: 13 | C21: 4 | D21: 105 | E21: =IF(ISNA(VLOOKUP(D21,athlete,2,FALSE)),"",VLOOKUP(D21,athlete,2,FALSE)) -> AYYAD | F21: =IF(ISNA(VLOOKUP(D21,athlete,4,FALSE)),"",VLOOKUP(D21,athlete,4,FALSE)) -> GN | G21: 32.2
B22: 14 | C22: 3 | D22: 193 | E22: =IF(ISNA(VLOOKUP(D22,athlete,2,FALSE)),"",VLOOKUP(D22,athlete,2,FALSE)) -> Czyz | F22: =IF(ISNA(VLOOKUP(D22,athlete,4,FALSE)),"",VLOOKUP(D22,athlete,4,FALSE)) -> SE | G22: 32.4
B23: 15 | C23: 2 | D23: 185 | E23: =IF(ISNA(VLOOKUP(D23,athlete,2,FALSE)),"",VLOOKUP(D23,athlete,2,FALSE)) -> Berry | F23: =IF(ISNA(VLOOKUP(D23,athlete,4,FALSE)),"",VLOOKUP(D23,athlete,4,FALSE)) -> SE | G23: 32.4
B24: 16 | C24: 2 | D24: 213 | E24: =IF(ISNA(VLOOKUP(D24,athlete,2,FALSE)),"",VLOOKUP(D24,athlete,2,FALSE)) -> Lacorte | F24: =IF(ISNA(VLOOKUP(D24,athlete,4,FALSE)),"",VLOOKUP(D24,athlete,4,FALSE)) -> SE | G24: 32.6
B25: 17 | C25: 4 | D25: 289 | E25: =IF(ISNA(VLOOKUP(D25,athlete,2,FALSE)),"",VLOOKUP(D25,athlete,2,FALSE)) -> Sanchez | F25: =IF(ISNA(VLOOKUP(D25,athlete,4,FALSE)),"",VLOOKUP(D25,athlete,4,FALSE)) -> EA | G25: 32.9
B26: 18 | C26: 3 | D26: 170 | E26: GUZMAN | F26: =IF(ISNA(VLOOKUP(D26,athlete,4,FALSE)),"",VLOOKUP(D26,athlete,4,FALSE)) -> GN | G26: 32.9
B27: 19 | C27: 4 | D27: 165 | E27: =IF(ISNA(VLOOKUP(D27,athlete,2,FALSE)),"",VLOOKUP(D27,athlete,2,FALSE)) -> Ashley | F27: =IF(ISNA(VLOOKUP(D27,athlete,4,FALSE)),"",VLOOKUP(D27,athlete,4,FALSE)) -> GN | G27: 33.5
