Workbook
Name athlete: Athletes!$A$1:$G$399
Name rank: Scoresheet!$C$19:$E$19
Name rank: Scoresheet!$C$19:$E$19
Name rank: Scoresheet!$C$19:$E$19
Name rank: Scoresheet!$C$19:$E$19

Sheet Athletes
A1: 101 | B1: ANDRES | C1: JACQUELYN | D1: GN | E1: 101
A2: 102 | B2: Alberta | C2: Alyssa | D2: GN | E2: 102
A3: 103 | B3: ARON | C3: ABIGAIL | D3: GN | E3: 103
A4: 104 | B4: AYELE | C4: WDASIE | D4: GN | E4: 104
A5: 105 | B5: AYYAD | C5: SARAH | D5: GN | E5: 105
A6: 106 | B6: BARTKOWIAK | C6: ALEXANDRA | D6: GN | E6: 106
A7: 107 | B7: BLACKMAN | C7: SHAUNA | D7: GN | E7: 107
A8: 108 | B8: BLUMHARDT | C8: HAYLEY | D8: GN | E8: 108
A9: 109 | B9: BRIGGS | C9: KELSEY | D9: GN | E9: 109
A10: 110 | B10: CARBON | C10: BRIDGETTE | D10: GN | E10: 110
A11: 111 | B11: CASTELTON | C11: ELIZABETH | D11: GN | E11: 111
A12: 112 | B12: COTTA | C12: RACHEL | D12: GN | E12: 112
... A67: 167 | B67: Paye | C67: Muabun | D67: GN | E67: 167
A68: 168 | D68: GN | E68: 168
A69: 169 | D69: GN | E69: 169
A70: 170 | D70: GN | E70: 170
A71: 171 | D71: GN | E71: 171
A72: 172 | D72: GN | E72: 172
A73: 173 | D73: GN | E73: 173
A74: 174 | D74: GN | E74: 174
A75: 175 | B75: Ackermann | C75: Anna | D75: SE | E75: 175
A76: 176 | B76: Adkins | C76: Nadia | D76: SE | E76: 176
A77: 177 | B77: Aguinaldo | C77: Melissa | D77: SE | E77: 177
A78: 178 | B78: Aguirre | C78: Isabela | D78: SE | E78: 178
A79: 179 | B79: Allen | C79: Darrielle | D79: SE | E79: 179
A80: 180 | B80: Alvarado | C80: Lindsay | D80: SE | E80: 180
A81: 181 | B81: Anderson | C81: Annika | D81: SE | E81: 181
A82: 182 | B82: Arana | C82: Arielynne | D82: SE | E82: 182
A83: 183 | B83: Bautista | C83: Aleah | D83: SE | E83: 183
A84: 184 | B84: Bautista | C84: Allison | D84: SE | E84: 184
A85: 185 | B85: Berry | C85: Emily | D85: SE | E85: 185
A86: 186 | B86: Bibbs | C86: Janese | D86: SE | E86: 186
... A153: 253 | B153: Ziemba | C153: Emily | D153: SE | E153: 253
A154: 254 | D154: SE | E154: 254
A155: 255 | D155: SE | E155: 255
A156: 256 | D156: SE | E156: 256
A157: 257 | D157: SE | E157: 257
A158: 258 | D158: SE | E158: 258
A159: 259 | D159: SE | E159: 259
A160: 260 | D160: SE | E160: 260
A161: 261 | D161: SE | E161: 261
A162: 262 | D162: SE | E162: 262
A163: 263 | D163: SE | E163: 263
A164: 264 | D164: SE | E164: 264
A165: 265 | B165: Alonzo | C165: Sabrina | D165: EA | E165: 265
A166: 266 | B166: Apantenco | C166: Venus | D166: EA | E166: 266
A167: 267 | B167: Castillo | C167: Natalie | D167: EA | E167: 267
A168: 268 | B168: Cerecero | C168: Yahaira | D168: EA | E168: 268
A169: 269 | B169: Del Toro | C169: Karina | D169: EA | E169: 269
A170: 270 | B170: Dzaferi | C170: Emina | D170: EA | E170: 270
A171: 271 | B171: Gonsalez | C171: Paola | D171: EA | E171: 271
A172: 272 | B172: Guido | C172: Laura | D172: EA | E172: 272
A173: 273 | B173: Harris | C173: Kenasia | D173: EA | E173: 273
A174: 274 | B174: Hernandez | C174: Abigail | D174: EA | E174: 274
A175: 275 | B175: Juarez | C175: Gabriela | D175: EA | E175: 275
A176: 276 | B176: Lopez | C176: Andrea | D176: EA | E176: 276
... A191: 291 | B191: Cardona | C191: Sarah | D191: EA | E191: 291
A192: 292 | D192: EA | E192: 292
A193: 293 | D193: EA | E193: 293
A194: 294 | D194: EA | E194: 294
A195: 295 | D195: EA | E195: 295
A196: 296 | D196: EA | E196: 296
A197: 297 | E197: 297
A198: 298 | E198: 298
A199: 299 | E199: 299
A200: 300 | B200: Glenbard North | E200: 300
A201: 301 | B201: South Elgin | E201: 301
A202: 302 | B202: East Aurora | E202: 302
A203: 303 | E203: 303
A204: 304 | E204: 304
A205: 305 | E205: 305
A206: 306 | E206: 306
A207: 307 | E207: 307
A208: 308 | E208: 308
A209: 309 | E209: 309
A210: 310 | E210: 310
A211: 311 | E211: 311
A212: 312 | E212: 312
A213: 313 | E213: 313
A214: 314 | E214: 314
... A313: 413 | E313: 413
A314: 414 | B314: Heilers | E314: 414
A315: 415 | E315: 415
A316: 416 | E316: 416
A317: 417 | E317: 417
A318: 418 | E318: 418
A319: 419 | E319: 419
A320: 420 | E320: 420
A321: 421 | E321: 421
A322: 422 | E322: 422
A323: 423 | E323: 423
A324: 424 | E324: 424
A325: 425 | E325: 425
A326: 426 | E326: 426
... A399: 499 | E399: 499

Sheet Labels
A1: =VLOOKUP(Athletes!A1,athlete,5,FALSE) -> 101 | C1: =VLOOKUP(Athletes!A1,athlete,2,FALSE) -> ANDRES | D1: =VLOOKUP(Athletes!A1,athlete,4,FALSE) -> GN | F1: =VLOOKUP(Athletes!A8,athlete,5,FALSE) -> 108 | H1: =VLOOKUP(Athletes!A8,athlete,2,FALSE) -> BLUMHARDT | I1: =VLOOKUP(Athletes!A8,athlete,4,FALSE) -> GN
A2: =VLOOKUP(Athletes!A2,athlete,5,FALSE) -> 102 | C2: =VLOOKUP(Athletes!A2,athlete,2,FALSE) -> Alberta | D2: =VLOOKUP(Athletes!A2,athlete,4,FALSE) -> GN | F2: =VLOOKUP(Athletes!A9,athlete,5,FALSE) -> 109 | H2: =VLOOKUP(Athletes!A9,athlete,2,FALSE) -> BRIGGS | I2: =VLOOKUP(Athletes!A9,athlete,4,FALSE) -> GN
A3: =VLOOKUP(Athletes!A3,athlete,5,FALSE) -> 103 | C3: =VLOOKUP(Athletes!A3,athlete,2,FALSE) -> ARON | D3: =VLOOKUP(Athletes!A3,athlete,4,FALSE) -> GN | F3: =VLOOKUP(Athletes!A10,athlete,5,FALSE) -> 110 | H3: =VLOOKUP(Athletes!A10,athlete,2,FALSE) -> CARBON | I3: =VLOOKUP(Athletes!A10,athlete,4,FALSE) -> GN
A4: =VLOOKUP(Athletes!A4,athlete,5,FALSE) -> 104 | C4: =VLOOKUP(Athletes!A4,athlete,2,FALSE) -> AYELE | D4: =VLOOKUP(Athletes!A4,athlete,4,FALSE) -> GN | F4: =VLOOKUP(Athletes!A11,athlete,5,FALSE) -> 111 | H4: =VLOOKUP(Athletes!A11,athlete,2,FALSE) -> CASTELTON | I4: =VLOOKUP(Athletes!A11,athlete,4,FALSE) -> GN
A5: =VLOOKUP(Athletes!A5,athlete,5,FALSE) -> 105 | C5: =VLOOKUP(Athletes!A5,athlete,2,FALSE) -> AYYAD | D5: =VLOOKUP(Athletes!A5,athlete,4,FALSE) -> GN | F5: =VLOOKUP(Athletes!A12,athlete,5,FALSE) -> 112 | H5: =VLOOKUP(Athletes!A12,athlete,2,FALSE) -> COTTA | I5: =VLOOKUP(Athletes!A12,athlete,4,FALSE) -> GN
A6: =VLOOKUP(Athletes!A6,athlete,5,FALSE) -> 106 | C6: =VLOOKUP(Athletes!A6,athlete,2,FALSE) -> BARTKOWIAK | D6: =VLOOKUP(Athletes!A6,athlete,4,FALSE) -> GN | F6: =VLOOKUP(Athletes!A13,athlete,5,FALSE) -> 113 | H6: =VLOOKUP(Athletes!A13,athlete,2,FALSE) -> DOLLAS | I6: =VLOOKUP(Athletes!A13,athlete,4,FALSE) -> GN
A7: =VLOOKUP(Athletes!A7,athlete,5,FALSE) -> 107 | C7: =VLOOKUP(Athletes!A7,athlete,2,FALSE) -> BLACKMAN | D7: =VLOOKUP(Athletes!A7,athlete,4,FALSE) -> GN | F7: =VLOOKUP(Athletes!A14,athlete,5,FALSE) -> 114 | H7: =VLOOKUP(Athletes!A14,athlete,2,FALSE) -> DZIEWIOR | I7: =VLOOKUP(Athletes!A14,athlete,4,FALSE) -> GN
A8: =VLOOKUP(Athletes!A15,athlete,5,FALSE) -> 115 | C8: =VLOOKUP(Athletes!A15,athlete,2,FALSE) -> Enriquez | D8: =VLOOKUP(Athletes!A15,athlete,4,FALSE) -> GN | F8: =VLOOKUP(Athletes!A22,athlete,5,FALSE) -> 122 | H8: =VLOOKUP(Athletes!A22,athlete,2,FALSE) -> HERNANDEZ | I8: =VLOOKUP(Athletes!A22,athlete,4,FALSE) -> GN
A9: =VLOOKUP(Athletes!A16,athlete,5,FALSE) -> 116 | C9: =VLOOKUP(Athletes!A16,athlete,2,FALSE) -> FISHER | D9: =VLOOKUP(Athletes!A16,athlete,4,FALSE) -> GN | F9: =VLOOKUP(Athletes!A23,athlete,5,FALSE) -> 123 | H9: =VLOOKUP(Athletes!A23,athlete,2,FALSE) -> HICKEY | I9: =VLOOKUP(Athletes!A23,athlete,4,FALSE) -> GN
A10: =VLOOKUP(Athletes!A17,athlete,5,FALSE) -> 117 | C10: =VLOOKUP(Athletes!A17,athlete,2,FALSE) -> GALANG | D10: =VLOOKUP(Athletes!A17,athlete,4,FALSE) -> GN | F10: =VLOOKUP(Athletes!A24,athlete,5,FALSE) -> 124 | H10: =VLOOKUP(Athletes!A24,athlete,2,FALSE) -> HIRSIG | I10: =VLOOKUP(Athletes!A24,athlete,4,FALSE) -> GN
A11: =VLOOKUP(Athletes!A18,athlete,5,FALSE) -> 118 | C11: =VLOOKUP(Athletes!A18,athlete,2,FALSE) -> GALANG | D11: =VLOOKUP(Athletes!A18,athlete,4,FALSE) -> GN | F11: =VLOOKUP(Athletes!A25,athlete,5,FALSE) -> 125 | H11: =VLOOKUP(Athletes!A25,athlete,2,FALSE) -> IVY | I11: =VLOOKUP(Athletes!A25,athlete,4,FALSE) -> GN
A12: =VLOOKUP(Athletes!A19,athlete,5,FALSE) -> 119 | C12: =VLOOKUP(Athletes!A19,athlete,2,FALSE) -> GREENE | D12: =VLOOKUP(Athletes!A19,athlete,4,FALSE) -> GN | F12: =VLOOKUP(Athletes!A26,athlete,5,FALSE) -> 126 | H12: =VLOOKUP(Athletes!A26,athlete,2,FALSE) -> JOHNSON | I12: =VLOOKUP(Athletes!A26,athlete,4,FALSE) -> GN
A13: =VLOOKUP(Athletes!A20,athlete,5,FALSE) -> 120 | C13: =VLOOKUP(Athletes!A20,athlete,2,FALSE) -> GUZMAN | D13: =VLOOKUP(Athletes!A20,athlete,4,FALSE) -> GN | F13: =VLOOKUP(Athletes!A27,athlete,5,FALSE) -> 127 | H13: =VLOOKUP(Athletes!A27,athlete,2,FALSE) -> JOHNSON | I13: =VLOOKUP(Athletes!A27,athlete,4,FALSE) -> GN
A14: =VLOOKUP(Athletes!A21,athlete,5,FALSE) -> 121 | C14: =VLOOKUP(Athletes!A21,athlete,2,FALSE) -> HERBORD | D14: =VLOOKUP(Athletes!A21,athlete,4,FALSE) -> GN | F14: =VLOOKUP(Athletes!A28,athlete,5,FALSE) -> 128 | H14: =VLOOKUP(Athletes!A28,athlete,2,FALSE) -> Khodan | I14: =VLOOKUP(Athletes!A28,athlete,4,FALSE) -> GN
A15: =VLOOKUP(Athletes!A29,athlete,5,FALSE) -> 129 | C15: =VLOOKUP(Athletes!A29,athlete,2,FALSE) -> King | D15: =VLOOKUP(Athletes!A29,athlete,4,FALSE) -> GN | F15: =VLOOKUP(Athletes!A36,athlete,5,FALSE) -> 136 | H15: =VLOOKUP(Athletes!A36,athlete,2,FALSE) -> MARTINEZ | I15: =VLOOKUP(Athletes!A36,athlete,4,FALSE) -> GN
A16: =VLOOKUP(Athletes!A30,athlete,5,FALSE) -> 130 | C16: =VLOOKUP(Athletes!A30,athlete,2,FALSE) -> Laherty | D16: =VLOOKUP(Athletes!A30,athlete,4,FALSE) -> GN | F16: =VLOOKUP(Athletes!A37,athlete,5,FALSE) -> 137 | H16: =VLOOKUP(Athletes!A37,athlete,2,FALSE) -> MENARD | I16: =VLOOKUP(Athletes!A37,athlete,4,FALSE) -> GN
A17: =VLOOKUP(Athletes!A31,athlete,5,FALSE) -> 131 | C17: =VLOOKUP(Athletes!A31,athlete,2,FALSE) -> LIM | D17: =VLOOKUP(Athletes!A31,athlete,4,FALSE) -> GN | F17: =VLOOKUP(Athletes!A38,athlete,5,FALSE) -> 138 | H17: =VLOOKUP(Athletes!A38,athlete,2,FALSE) -> MILSCHEWSKI | I17: =VLOOKUP(Athletes!A38,athlete,4,FALSE) -> GN
A18: =VLOOKUP(Athletes!A32,athlete,5,FALSE) -> 132 | C18: =VLOOKUP(Athletes!A32,athlete,2,FALSE) -> LUBBEN | D18: =VLOOKUP(Athletes!A32,athlete,4,FALSE) -> GN | F18: =VLOOKUP(Athletes!A39,athlete,5,FALSE) -> 139 | H18: =VLOOKUP(Athletes!A39,athlete,2,FALSE) -> MODI | I18: =VLOOKUP(Athletes!A39,athlete,4,FALSE) -> GN
A19: =VLOOKUP(Athletes!A33,athlete,5,FALSE) -> 133 | C19: =VLOOKUP(Athletes!A33,athlete,2,FALSE) -> Lukic | D19: =VLOOKUP(Athletes!A33,athlete,4,FALSE) -> GN | F19: =VLOOKUP(Athletes!A40,athlete,5,FALSE) -> 140 | H19: =VLOOKUP(Athletes!A40,athlete,2,FALSE) -> Moh Husien | I19: =VLOOKUP(Athletes!A40,athlete,4,FALSE) -> GN
A20: =VLOOKUP(Athletes!A34,athlete,5,FALSE) -> 134 | C20: =VLOOKUP(Athletes!A34,athlete,2,FALSE) -> MAHONEY | D20: =VLOOKUP(Athletes!A34,athlete,4,FALSE) -> GN | F20: =VLOOKUP(Athletes!A41,athlete,5,FALSE) -> 141 | H20: =VLOOKUP(Athletes!A41,athlete,2,FALSE) -> NEWSOME | I20: =VLOOKUP(Athletes!A41,athlete,4,FALSE) -> GN
A21: =VLOOKUP(Athletes!A35,athlete,5,FALSE) -> 135 | C21: =VLOOKUP(Athletes!A35,athlete,2,FALSE) -> MARINC | D21: =VLOOKUP(Athletes!A35,athlete,4,FALSE) -> GN | F21: =VLOOKUP(Athletes!A42,athlete,5,FALSE) -> 142 | H21: =VLOOKUP(Athletes!A42,athlete,2,FALSE) -> NGUYEN | I21: =VLOOKUP(Athletes!A42,athlete,4,FALSE) -> GN
A22: =VLOOKUP(Athletes!A43,athlete,5,FALSE) -> 143 | C22: =VLOOKUP(Athletes!A43,athlete,2,FALSE) -> Page | D22: =VLOOKUP(Athletes!A43,athlete,4,FALSE) -> GN | F22: =VLOOKUP(Athletes!A50,athlete,5,FALSE) -> 150 | H22: =VLOOKUP(Athletes!A50,athlete,2,FALSE) -> ROHDE | I22: =VLOOKUP(Athletes!A50,athlete,4,FALSE) -> GN
A23: =VLOOKUP(Athletes!A44,athlete,5,FALSE) -> 144 | C23: =VLOOKUP(Athletes!A44,athlete,2,FALSE) -> PATEL | D23: =VLOOKUP(Athletes!A44,athlete,4,FALSE) -> GN | F23: =VLOOKUP(Athletes!A51,athlete,5,FALSE) -> 151 | H23: =VLOOKUP(Athletes!A51,athlete,2,FALSE) -> Sawant | I23: =VLOOKUP(Athletes!A51,athlete,4,FALSE) -> GN
A24: =VLOOKUP(Athletes!A45,athlete,5,FALSE) -> 145 | C24: =VLOOKUP(Athletes!A45,athlete,2,FALSE) -> PATRIDGE | D24: =VLOOKUP(Athletes!A45,athlete,4,FALSE) -> GN | F24: =VLOOKUP(Athletes!A52,athlete,5,FALSE) -> 152 | H24: =VLOOKUP(Athletes!A52,athlete,2,FALSE) -> SAYANI | I24: =VLOOKUP(Athletes!A52,athlete,4,FALSE) -> GN
A25: =VLOOKUP(Athletes!A46,athlete,5,FALSE) -> 146 | C25: =VLOOKUP(Athletes!A46,athlete,2,FALSE) -> Perez | D25: =VLOOKUP(Athletes!A46,athlete,4,FALSE) -> GN | F25: =VLOOKUP(Athletes!A53,athlete,5,FALSE) -> 153 | H25: =VLOOKUP(Athletes!A53,athlete,2,FALSE) -> SCHWETZ | I25: =VLOOKUP(Athletes!A53,athlete,4,FALSE) -> GN
A26: =VLOOKUP(Athletes!A47,athlete,5,FALSE) -> 147 | C26: =VLOOKUP(Athletes!A47,athlete,2,FALSE) -> PICKFORD | D26: =VLOOKUP(Athletes!A47,athlete,4,FALSE) -> GN | F26: =VLOOKUP(Athletes!A54,athlete,5,FALSE) -> 154 | H26: =VLOOKUP(Athletes!A54,athlete,2,FALSE) -> SPADLOWSKI | I26: =VLOOKUP(Athletes!A54,athlete,4,FALSE) -> GN
A27: =VLOOKUP(Athletes!A48,athlete,5,FALSE) -> 148 | C27: =VLOOKUP(Athletes!A48,athlete,2,FALSE) -> REED | D27: =VLOOKUP(Athletes!A48,athlete,4,FALSE) -> GN | F27: =VLOOKUP(Athletes!A55,athlete,5,FALSE) -> 155 | H27: =VLOOKUP(Athletes!A55,athlete,2,FALSE) -> SPIKINGS | I27: =VLOOKUP(Athletes!A55,athlete,4,FALSE) -> GN
A28: =VLOOKUP(Athletes!A49,athlete,5,FALSE) -> 149 | C28: =VLOOKUP(Athletes!A49,athlete,2,FALSE) -> RODRIGUEZ | D28: =VLOOKUP(Athletes!A49,athlete,4,FALSE) -> GN | F28: =VLOOKUP(Athletes!A56,athlete,5,FALSE) -> 156 | H28: =VLOOKUP(Athletes!A56,athlete,2,FALSE) -> STIMMELL | I28: =VLOOKUP(Athletes!A56,athlete,4,FALSE) -> GN
A29: =VLOOKUP(Athletes!A57,athlete,5,FALSE) -> 157 | C29: =VLOOKUP(Athletes!A57,athlete,2,FALSE) -> STOKES | D29: =VLOOKUP(Athletes!A57,athlete,4,FALSE) -> GN | F29: =VLOOKUP(Athletes!A64,athlete,5,FALSE) -> 164 | H29: =VLOOKUP(Athletes!A64,athlete,2,FALSE) -> WIND | I29: =VLOOKUP(Athletes!A64,athlete,4,FALSE) -> GN
A30: =VLOOKUP(Athletes!A58,athlete,5,FALSE) -> 158 | C30: =VLOOKUP(Athletes!A58,athlete,2,FALSE) -> SUGGS | D30: =VLOOKUP(Athletes!A58,athlete,4,FALSE) -> GN | F30: =VLOOKUP(Athletes!A65,athlete,5,FALSE) -> 165 | H30: =VLOOKUP(Athletes!A65,athlete,2,FALSE) -> Ashley | I30: =VLOOKUP(Athletes!A65,athlete,4,FALSE) -> GN
A31: =VLOOKUP(Athletes!A59,athlete,5,FALSE) -> 159 | C31: =VLOOKUP(Athletes!A59,athlete,2,FALSE) -> Tornabene | D31: =VLOOKUP(Athletes!A59,athlete,4,FALSE) -> GN | F31: =VLOOKUP(Athletes!A66,athlete,5,FALSE) -> 166 | H31: =VLOOKUP(Athletes!A66,athlete,2,FALSE) -> Dominguez | I31: =VLOOKUP(Athletes!A66,athlete,4,FALSE) -> GN
A32: =VLOOKUP(Athletes!A60,athlete,5,FALSE) -> 160 | C32: =VLOOKUP(Athletes!A60,athlete,2,FALSE) -> VAN BENTUM | D32: =VLOOKUP(Athletes!A60,athlete,4,FALSE) -> GN | F32: =VLOOKUP(Athletes!A67,athlete,5,FALSE) -> 167 | H32: =VLOOKUP(Athletes!A67,athlete,2,FALSE) -> Paye | I32: =VLOOKUP(Athletes!A67,athlete,4,FALSE) -> GN
A33: =VLOOKUP(Athletes!A61,athlete,5,FALSE) -> 161 | C33: =VLOOKUP(Athletes!A61,athlete,2,FALSE) -> VIRGIN | D33: =VLOOKUP(Athletes!A61,athlete,4,FALSE) -> GN | F33: =VLOOKUP(Athletes!A68,athlete,5,FALSE) -> 168 | H33: =VLOOKUP(Athletes!A68,athlete,2,FALSE) | I33: =VLOOKUP(Athletes!A68,athlete,4,FALSE) -> GN
A34: =VLOOKUP(Athletes!A62,athlete,5,FALSE) -> 162 | C34: =VLOOKUP(Athletes!A62,athlete,2,FALSE) -> WAHRMAN | D34: =VLOOKUP(Athletes!A62,athlete,4,FALSE) -> GN | F34: =VLOOKUP(Athletes!A69,athlete,5,FALSE) -> 169 | H34: =VLOOKUP(Athletes!A69,athlete,2,FALSE) | I34: =VLOOKUP(Athletes!A69,athlete,4,FALSE) -> GN
A35: =VLOOKUP(Athletes!A63,athlete,5,FALSE) -> 163 | C35: =VLOOKUP(Athletes!A63,athlete,2,FALSE) -> WALKER | D35: =VLOOKUP(Athletes!A63,athlete,4,FALSE) -> GN | F35: =VLOOKUP(Athletes!A70,athlete,5,FALSE) -> 170 | H35: =VLOOKUP(Athletes!A70,athlete,2,FALSE) | I35: =VLOOKUP(Athletes!A70,athlete,4,FALSE) -> GN
A36: =VLOOKUP(Athletes!A71,athlete,5,FALSE) -> 171 | C36: =VLOOKUP(Athletes!A71,athlete,2,FALSE) | D36: =VLOOKUP(Athletes!A71,athlete,4,FALSE) -> GN | F36: =VLOOKUP(Athletes!A78,athlete,5,FALSE) -> 178 | H36: =VLOOKUP(Athletes!A78,athlete,2,FALSE) -> Aguirre | I36: =VLOOKUP(Athletes!A78,athlete,4,FALSE) -> SE
A37: =VLOOKUP(Athletes!A72,athlete,5,FALSE) -> 172 | C37: =VLOOKUP(Athletes!A72,athlete,2,FALSE) | D37: =VLOOKUP(Athletes!A72,athlete,4,FALSE) -> GN | F37: =VLOOKUP(Athletes!A79,athlete,5,FALSE) -> 179 | H37: =VLOOKUP(Athletes!A79,athlete,2,FALSE) -> Allen | I37: =VLOOKUP(Athletes!A79,athlete,4,FALSE) -> SE
A38: =VLOOKUP(Athletes!A73,athlete,5,FALSE) -> 173 | C38: =VLOOKUP(Athletes!A73,athlete,2,FALSE) | D38: =VLOOKUP(Athletes!A73,athlete,4,FALSE) -> GN | F38: =VLOOKUP(Athletes!A80,athlete,5,FALSE) -> 180 | H38: =VLOOKUP(Athletes!A80,athlete,2,FALSE) -> Alvarado | I38: =VLOOKUP(Athletes!A80,athlete,4,FALSE) -> SE
A39: =VLOOKUP(Athletes!A74,athlete,5,FALSE) -> 174 | C39: =VLOOKUP(Athletes!A74,athlete,2,FALSE) | D39: =VLOOKUP(Athletes!A74,athlete,4,FALSE) -> GN | F39: =VLOOKUP(Athletes!A81,athlete,5,FALSE) -> 181 | H39: =VLOOKUP(Athletes!A81,athlete,2,FALSE) -> Anderson | I39: =VLOOKUP(Athletes!A81,athlete,4,FALSE) -> SE
A40: =VLOOKUP(Athletes!A75,athlete,5,FALSE) -> 175 | C40: =VLOOKUP(Athletes!A75,athlete,2,FALSE) -> Ackermann | D40: =VLOOKUP(Athletes!A75,athlete,4,FALSE) -> SE | F40: =VLOOKUP(Athletes!A82,athlete,5,FALSE) -> 182 | H40: =VLOOKUP(Athletes!A82,athlete,2,FALSE) -> Arana | I40: =VLOOKUP(Athletes!A82,athlete,4,FALSE) -> SE
A41: =VLOOKUP(Athletes!A76,athlete,5,FALSE) -> 176 | C41: =VLOOKUP(Athletes!A76,athlete,2,FALSE) -> Adkins | D41: =VLOOKUP(Athletes!A76,athlete,4,FALSE) -> SE | F41: =VLOOKUP(Athletes!A83,athlete,5,FALSE) -> 183 | H41: =VLOOKUP(Athletes!A83,athlete,2,FALSE) -> Bautista | I41: =VLOOKUP(Athletes!A83,athlete,4,FALSE) -> SE
A42: =VLOOKUP(Athletes!A77,athlete,5,FALSE) -> 177 | C42: =VLOOKUP(Athletes!A77,athlete,2,FALSE) -> Aguinaldo | D42: =VLOOKUP(Athletes!A77,athlete,4,FALSE) -> SE | F42: =VLOOKUP(Athletes!A84,athlete,5,FALSE) -> 184 | H42: =VLOOKUP(Athletes!A84,athlete,2,FALSE) -> Bautista | I42: =VLOOKUP(Athletes!A84,athlete,4,FALSE) -> SE
A43: =VLOOKUP(Athletes!A85,athlete,5,FALSE) -> 185 | C43: =VLOOKUP(Athletes!A85,athlete,2,FALSE) -> Berry | D43: =VLOOKUP(Athletes!A85,athlete,4,FALSE) -> SE | F43: =VLOOKUP(Athletes!A92,athlete,5,FALSE) -> 192 | H43: =VLOOKUP(Athletes!A92,athlete,2,FALSE) -> Czuprynski | I43: =VLOOKUP(Athletes!A92,athlete,4,FALSE) -> SE
A44: =VLOOKUP(Athletes!A86,athlete,5,FALSE) -> 186 | C44: =VLOOKUP(Athletes!A86,athlete,2,FALSE) -> Bibbs | D44: =VLOOKUP(Athletes!A86,athlete,4,FALSE) -> SE | F44: =VLOOKUP(Athletes!A93,athlete,5,FALSE) -> 193 | H44: =VLOOKUP(Athletes!A93,athlete,2,FALSE) -> Czyz | I44: =VLOOKUP(Athletes!A93,athlete,4,FALSE) -> SE
A45: =VLOOKUP(Athletes!A87,athlete,5,FALSE) -> 187 | C45: =VLOOKUP(Athletes!A87,athlete,2,FALSE) -> Boongaling | D45: =VLOOKUP(Athletes!A87,athlete,4,FALSE) -> SE | F45: =VLOOKUP(Athletes!A94,athlete,5,FALSE) -> 194 | H45: =VLOOKUP(Athletes!A94,athlete,2,FALSE) -> DeLaney | I45: =VLOOKUP(Athletes!A94,athlete,4,FALSE) -> SE
A46: =VLOOKUP(Athletes!A88,athlete,5,FALSE) -> 188 | C46: =VLOOKUP(Athletes!A88,athlete,2,FALSE) -> Brown | D46: =VLOOKUP(Athletes!A88,athlete,4,FALSE) -> SE | F46: =VLOOKUP(Athletes!A95,athlete,5,FALSE) -> 195 | H46: =VLOOKUP(Athletes!A95,athlete,2,FALSE) -> Derowski | I46: =VLOOKUP(Athletes!A95,athlete,4,FALSE) -> SE
A47: =VLOOKUP(Athletes!A89,athlete,5,FALSE) -> 189 | C47: =VLOOKUP(Athletes!A89,athlete,2,FALSE) -> Bush | D47: =VLOOKUP(Athletes!A89,athlete,4,FALSE) -> SE | F47: =VLOOKUP(Athletes!A96,athlete,5,FALSE) -> 196 | H47: =VLOOKUP(Athletes!A96,athlete,2,FALSE) -> Diem | I47: =VLOOKUP(Athletes!A96,athlete,4,FALSE) -> SE
A48: =VLOOKUP(Athletes!A90,athlete,5,FALSE) -> 190 | C48: =VLOOKUP(Athletes!A90,athlete,2,FALSE) -> Calderon | D48: =VLOOKUP(Athletes!A90,athlete,4,FALSE) -> SE | F48: =VLOOKUP(Athletes!A97,athlete,5,FALSE) -> 197 | H48: =VLOOKUP(Athletes!A97,athlete,2,FALSE) -> Doherty | I48: =VLOOKUP(Athletes!A97,athlete,4,FALSE) -> SE
A49: =VLOOKUP(Athletes!A91,athlete,5,FALSE) -> 191 | C49: =VLOOKUP(Athletes!A91,athlete,2,FALSE) -> Castro | D49: =VLOOKUP(Athletes!A91,athlete,4,FALSE) -> SE | F49: =VLOOKUP(Athletes!A98,athlete,5,FALSE) -> 198 | H49: =VLOOKUP(Athletes!A98,athlete,2,FALSE) -> Dortmund | I49: =VLOOKUP(Athletes!A98,athlete,4,FALSE) -> SE
A50: =VLOOKUP(Athletes!A99,athlete,5,FALSE) -> 199 | C50: =VLOOKUP(Athletes!A99,athlete,2,FALSE) -> Duncan | D50: =VLOOKUP(Athletes!A99,athlete,4,FALSE) -> SE | F50: =VLOOKUP(Athletes!A106,athlete,5,FALSE) -> 206 | H50: =VLOOKUP(Athletes!A106,athlete,2,FALSE) -> Guadalajara | I50: =VLOOKUP(Athletes!A106,athlete,4,FALSE) -> SE
A51: =VLOOKUP(Athletes!A100,athlete,5,FALSE) -> 200 | C51: =VLOOKUP(Athletes!A100,athlete,2,FALSE) -> Espinoza | D51: =VLOOKUP(Athletes!A100,athlete,4,FALSE) -> SE | F51: =VLOOKUP(Athletes!A107,athlete,5,FALSE) -> 207 | H51: =VLOOKUP(Athletes!A107,athlete,2,FALSE) -> Handtmann | I51: =VLOOKUP(Athletes!A107,athlete,4,FALSE) -> SE
A52: =VLOOKUP(Athletes!A101,athlete,5,FALSE) -> 201 | C52: =VLOOKUP(Athletes!A101,athlete,2,FALSE) -> Forsythe | D52: =VLOOKUP(Athletes!A101,athlete,4,FALSE) -> SE | F52: =VLOOKUP(Athletes!A108,athlete,5,FALSE) -> 208 | H52: =VLOOKUP(Athletes!A108,athlete,2,FALSE) -> Hernandez | I52: =VLOOKUP(Athletes!A108,athlete,4,FALSE) -> SE
A53: =VLOOKUP(Athletes!A102,athlete,5,FALSE) -> 202 | C53: =VLOOKUP(Athletes!A102,athlete,2,FALSE) -> Gallagher | D53: =VLOOKUP(Athletes!A102,athlete,4,FALSE) -> SE | F53: =VLOOKUP(Athletes!A109,athlete,5,FALSE) -> 209 | H53: =VLOOKUP(Athletes!A109,athlete,2,FALSE) -> Hernandez | I53: =VLOOKUP(Athletes!A109,athlete,4,FALSE) -> SE
A54: =VLOOKUP(Athletes!A103,athlete,5,FALSE) -> 203 | C54: =VLOOKUP(Athletes!A103,athlete,2,FALSE) -> Garcia | D54: =VLOOKUP(Athletes!A103,athlete,4,FALSE) -> SE | F54: =VLOOKUP(Athletes!A110,athlete,5,FALSE) -> 210 | H54: =VLOOKUP(Athletes!A110,athlete,2,FALSE) -> Huesca | I54: =VLOOKUP(Athletes!A110,athlete,4,FALSE) -> SE
A55: =VLOOKUP(Athletes!A104,athlete,5,FALSE) -> 204 | C55: =VLOOKUP(Athletes!A104,athlete,2,FALSE) -> Greco | D55: =VLOOKUP(Athletes!A104,athlete,4,FALSE) -> SE | F55: =VLOOKUP(Athletes!A111,athlete,5,FALSE) -> 211 | H55: =VLOOKUP(Athletes!A111,athlete,2,FALSE) -> Knight | I55: =VLOOKUP(Athletes!A111,athlete,4,FALSE) -> SE
A56: =VLOOKUP(Athletes!A105,athlete,5,FALSE) -> 205 | C56: =VLOOKUP(Athletes!A105,athlete,2,FALSE) -> Greco | D56: =VLOOKUP(Athletes!A105,athlete,4,FALSE) -> SE | F56: =VLOOKUP(Athletes!A112,athlete,5,FALSE) -> 212 | H56: =VLOOKUP(Athletes!A112,athlete,2,FALSE) -> Kulevich | I56: =VLOOKUP(Athletes!A112,athlete,4,FALSE) -> SE
A57: =VLOOKUP(Athletes!A113,athlete,5,FALSE) -> 213 | C57: =VLOOKUP(Athletes!A113,athlete,2,FALSE) -> Lacorte | D57: =VLOOKUP(Athletes!A113,athlete,4,FALSE) -> SE | F57: =VLOOKUP(Athletes!A120,athlete,5,FALSE) -> 220 | H57: =VLOOKUP(Athletes!A120,athlete,2,FALSE) -> Medrano | I57: =VLOOKUP(Athletes!A120,athlete,4,FALSE) -> SE
A58: =VLOOKUP(Athletes!A114,athlete,5,FALSE) -> 214 | C58: =VLOOKUP(Athletes!A114,athlete,2,FALSE) -> Lara | D58: =VLOOKUP(Athletes!A114,athlete,4,FALSE) -> SE | F58: =VLOOKUP(Athletes!A121,athlete,5,FALSE) -> 221 | H58: =VLOOKUP(Athletes!A121,athlete,2,FALSE) -> Mikulecky | I58: =VLOOKUP(Athletes!A121,athlete,4,FALSE) -> SE
A59: =VLOOKUP(Athletes!A115,athlete,5,FALSE) -> 215 | C59: =VLOOKUP(Athletes!A115,athlete,2,FALSE) -> Lara | D59: =VLOOKUP(Athletes!A115,athlete,4,FALSE) -> SE | F59: =VLOOKUP(Athletes!A122,athlete,5,FALSE) -> 222 | H59: =VLOOKUP(Athletes!A122,athlete,2,FALSE) -> Muller | I59: =VLOOKUP(Athletes!A122,athlete,4,FALSE) -> SE
A60: =VLOOKUP(Athletes!A116,athlete,5,FALSE) -> 216 | C60: =VLOOKUP(Athletes!A116,athlete,2,FALSE) -> Lusco | D60: =VLOOKUP(Athletes!A116,athlete,4,FALSE) -> SE | F60: =VLOOKUP(Athletes!A123,athlete,5,FALSE) -> 223 | H60: =VLOOKUP(Athletes!A123,athlete,2,FALSE) -> Olsen | I60: =VLOOKUP(Athletes!A123,athlete,4,FALSE) -> SE
A61: =VLOOKUP(Athletes!A117,athlete,5,FALSE) -> 217 | C61: =VLOOKUP(Athletes!A117,athlete,2,FALSE) -> Mahkri | D61: =VLOOKUP(Athletes!A117,athlete,4,FALSE) -> SE | F61: =VLOOKUP(Athletes!A124,athlete,5,FALSE) -> 224 | H61: =VLOOKUP(Athletes!A124,athlete,2,FALSE) -> Ordija | I61: =VLOOKUP(Athletes!A124,athlete,4,FALSE) -> SE
A62: =VLOOKUP(Athletes!A118,athlete,5,FALSE) -> 218 | C62: =VLOOKUP(Athletes!A118,athlete,2,FALSE) -> Marasa | D62: =VLOOKUP(Athletes!A118,athlete,4,FALSE) -> SE | F62: =VLOOKUP(Athletes!A125,athlete,5,FALSE) -> 225 | H62: =VLOOKUP(Athletes!A125,athlete,2,FALSE) -> Pacheco | I62: =VLOOKUP(Athletes!A125,athlete,4,FALSE) -> SE
A63: =VLOOKUP(Athletes!A119,athlete,5,FALSE) -> 219 | C63: =VLOOKUP(Athletes!A119,athlete,2,FALSE) -> Marks | D63: =VLOOKUP(Athletes!A119,athlete,4,FALSE) -> SE | F63: =VLOOKUP(Athletes!A126,athlete,5,FALSE) -> 226 | H63: =VLOOKUP(Athletes!A126,athlete,2,FALSE) -> Patel | I63: =VLOOKUP(Athletes!A126,athlete,4,FALSE) -> SE
A64: =VLOOKUP(Athletes!A127,athlete,5,FALSE) -> 227 | C64: =VLOOKUP(Athletes!A127,athlete,2,FALSE) -> Patel | D64: =VLOOKUP(Athletes!A127,athlete,4,FALSE) -> SE | F64: =VLOOKUP(Athletes!A134,athlete,5,FALSE) -> 234 | H64: =VLOOKUP(Athletes!A134,athlete,2,FALSE) -> Sagun | I64: =VLOOKUP(Athletes!A134,athlete,4,FALSE) -> SE
A65: =VLOOKUP(Athletes!A128,athlete,5,FALSE) -> 228 | C65: =VLOOKUP(Athletes!A128,athlete,2,FALSE) -> Patel | D65: =VLOOKUP(Athletes!A128,athlete,4,FALSE) -> SE | F65: =VLOOKUP(Athletes!A135,athlete,5,FALSE) -> 235 | H65: =VLOOKUP(Athletes!A135,athlete,2,FALSE) -> Salas | I65: =VLOOKUP(Athletes!A135,athlete,4,FALSE) -> SE
A66: =VLOOKUP(Athletes!A129,athlete,5,FALSE) -> 229 | C66: =VLOOKUP(Athletes!A129,athlete,2,FALSE) -> Pedroza | D66: =VLOOKUP(Athletes!A129,athlete,4,FALSE) -> SE | F66: =VLOOKUP(Athletes!A136,athlete,5,FALSE) -> 236 | H66: =VLOOKUP(Athletes!A136,athlete,2,FALSE) -> Salvadori | I66: =VLOOKUP(Athletes!A136,athlete,4,FALSE) -> SE
A67: =VLOOKUP(Athletes!A130,athlete,5,FALSE) -> 230 | C67: =VLOOKUP(Athletes!A130,athlete,2,FALSE) -> Richardson | D67: =VLOOKUP(Athletes!A130,athlete,4,FALSE) -> SE | F67: =VLOOKUP(Athletes!A137,athlete,5,FALSE) -> 237 | H67: =VLOOKUP(Athletes!A137,athlete,2,FALSE) -> Sarno | I67: =VLOOKUP(Athletes!A137,athlete,4,FALSE) -> SE
A68: =VLOOKUP(Athletes!A131,athlete,5,FALSE) -> 231 | C68: =VLOOKUP(Athletes!A131,athlete,2,FALSE) -> Roberson | D68: =VLOOKUP(Athletes!A131,athlete,4,FALSE) -> SE | F68: =VLOOKUP(Athletes!A138,athlete,5,FALSE) -> 238 | H68: =VLOOKUP(Athletes!A138,athlete,2,FALSE) -> Sepp | I68: =VLOOKUP(Athletes!A138,athlete,4,FALSE) -> SE
A69: =VLOOKUP(Athletes!A132,athlete,5,FALSE) -> 232 | C69: =VLOOKUP(Athletes!A132,athlete,2,FALSE) -> Robinson | D69: =VLOOKUP(Athletes!A132,athlete,4,FALSE) -> SE | F69: =VLOOKUP(Athletes!A139,athlete,5,FALSE) -> 239 | H69: =VLOOKUP(Athletes!A139,athlete,2,FALSE) -> Septoski | I69: =VLOOKUP(Athletes!A139,athlete,4,FALSE) -> SE
A70: =VLOOKUP(Athletes!A133,athlete,5,FALSE) -> 233 | C70: =VLOOKUP(Athletes!A133,athlete,2,FALSE) -> Roldan | D70: =VLOOKUP(Athletes!A133,athlete,4,FALSE) -> SE | F70: =VLOOKUP(Athletes!A140,athlete,5,FALSE) -> 240 | H70: =VLOOKUP(Athletes!A140,athlete,2,FALSE) -> Smith | I70: =VLOOKUP(Athletes!A140,athlete,4,FALSE) -> SE
A71: =VLOOKUP(Athletes!A141,athlete,5,FALSE) -> 241 | C71: =VLOOKUP(Athletes!A141,athlete,2,FALSE) -> Som | D71: =VLOOKUP(Athletes!A141,athlete,4,FALSE) -> SE | F71: =VLOOKUP(Athletes!A148,athlete,5,FALSE) -> 248 | H71: =VLOOKUP(Athletes!A148,athlete,2,FALSE) -> Walters | I71: =VLOOKUP(Athletes!A148,athlete,4,FALSE) -> SE
A72: =VLOOKUP(Athletes!A142,athlete,5,FALSE) -> 242 | C72: =VLOOKUP(Athletes!A142,athlete,2,FALSE) -> Stallings | D72: =VLOOKUP(Athletes!A142,athlete,4,FALSE) -> SE | F72: =VLOOKUP(Athletes!A149,athlete,5,FALSE) -> 249 | H72: =VLOOKUP(Athletes!A149,athlete,2,FALSE) -> Waluszko | I72: =VLOOKUP(Athletes!A149,athlete,4,FALSE) -> SE
A73: =VLOOKUP(Athletes!A143,athlete,5,FALSE) -> 243 | C73: =VLOOKUP(Athletes!A143,athlete,2,FALSE) -> Stiff | D73: =VLOOKUP(Athletes!A143,athlete,4,FALSE) -> SE | F73: =VLOOKUP(Athletes!A150,athlete,5,FALSE) -> 250 | H73: =VLOOKUP(Athletes!A150,athlete,2,FALSE) -> Wells | I73: =VLOOKUP(Athletes!A150,athlete,4,FALSE) -> SE
A74: =VLOOKUP(Athletes!A144,athlete,5,FALSE) -> 244 | C74: =VLOOKUP(Athletes!A144,athlete,2,FALSE) -> Swanson | D74: =VLOOKUP(Athletes!A144,athlete,4,FALSE) -> SE | F74: =VLOOKUP(Athletes!A151,athlete,5,FALSE) -> 251 | H74: =VLOOKUP(Athletes!A151,athlete,2,FALSE) -> Williams | I74: =VLOOKUP(Athletes!A151,athlete,4,FALSE) -> SE
A75: =VLOOKUP(Athletes!A145,athlete,5,FALSE) -> 245 | C75: =VLOOKUP(Athletes!A145,athlete,2,FALSE) -> Toussaint | D75: =VLOOKUP(Athletes!A145,athlete,4,FALSE) -> SE | F75: =VLOOKUP(Athletes!A152,athlete,5,FALSE) -> 252 | H75: =VLOOKUP(Athletes!A152,athlete,2,FALSE) -> Winger | I75: =VLOOKUP(Athletes!A152,athlete,4,FALSE) -> SE
A76: =VLOOKUP(Athletes!A146,athlete,5,FALSE) -> 246 | C76: =VLOOKUP(Athletes!A146,athlete,2,FALSE) -> Vickrey | D76: =VLOOKUP(Athletes!A146,athlete,4,FALSE) -> SE | F76: =VLOOKUP(Athletes!A153,athlete,5,FALSE) -> 253 | H76: =VLOOKUP(Athletes!A153,athlete,2,FALSE) -> Ziemba | I76: =VLOOKUP(Athletes!A153,athlete,4,FALSE) -> SE
A77: =VLOOKUP(Athletes!A147,athlete,5,FALSE) -> 247 | C77: =VLOOKUP(Athletes!A147,athlete,2,FALSE) -> Vios | D77: =VLOOKUP(Athletes!A147,athlete,4,FALSE) -> SE | F77: =VLOOKUP(Athletes!A154,athlete,5,FALSE) -> 254 | H77: =VLOOKUP(Athletes!A154,athlete,2,FALSE) | I77: =VLOOKUP(Athletes!A154,athlete,4,FALSE) -> SE
A78: =VLOOKUP(Athletes!A155,athlete,5,FALSE) -> 255 | C78: =VLOOKUP(Athletes!A155,athlete,2,FALSE) | D78: =VLOOKUP(Athletes!A155,athlete,4,FALSE) -> SE | F78: =VLOOKUP(Athletes!A162,athlete,5,FALSE) -> 262 | H78: =VLOOKUP(Athletes!A162,athlete,2,FALSE) | I78: =VLOOKUP(Athletes!A162,athlete,4,FALSE) -> SE
A79: =VLOOKUP(Athletes!A156,athlete,5,FALSE) -> 256 | C79: =VLOOKUP(Athletes!A156,athlete,2,FALSE) | D79: =VLOOKUP(Athletes!A156,athlete,4,FALSE) -> SE | F79: =VLOOKUP(Athletes!A163,athlete,5,FALSE) -> 263 | H79: =VLOOKUP(Athletes!A163,athlete,2,FALSE) | I79: =VLOOKUP(Athletes!A163,athlete,4,FALSE) -> SE
A80: =VLOOKUP(Athletes!A157,athlete,5,FALSE) -> 257 | C80: =VLOOKUP(Athletes!A157,athlete,2,FALSE) | D80: =VLOOKUP(Athletes!A157,athlete,4,FALSE) -> SE | F80: =VLOOKUP(Athletes!A164,athlete,5,FALSE) -> 264 | H80: =VLOOKUP(Athletes!A164,athlete,2,FALSE) | I80: =VLOOKUP(Athletes!A164,athlete,4,FALSE) -> SE
A81: =VLOOKUP(Athletes!A158,athlete,5,FALSE) -> 258 | C81: =VLOOKUP(Athletes!A158,athlete,2,FALSE) | D81: =VLOOKUP(Athletes!A158,athlete,4,FALSE) -> SE | F81: =VLOOKUP(Athletes!A165,athlete,5,FALSE) -> 265 | H81: =VLOOKUP(Athletes!A165,athlete,2,FALSE) -> Alonzo | I81: =VLOOKUP(Athletes!A165,athlete,4,FALSE) -> EA
A82: =VLOOKUP(Athletes!A159,athlete,5,FALSE) -> 259 | C82: =VLOOKUP(Athletes!A159,athlete,2,FALSE) | D82: =VLOOKUP(Athletes!A159,athlete,4,FALSE) -> SE | F82: =VLOOKUP(Athletes!A166,athlete,5,FALSE) -> 266 | H82: =VLOOKUP(Athletes!A166,athlete,2,FALSE) -> Apantenco | I82: =VLOOKUP(Athletes!A166,athlete,4,FALSE) -> EA
A83: =VLOOKUP(Athletes!A160,athlete,5,FALSE) -> 260 | C83: =VLOOKUP(Athletes!A160,athlete,2,FALSE) | D83: =VLOOKUP(Athletes!A160,athlete,4,FALSE) -> SE | F83: =VLOOKUP(Athletes!A167,athlete,5,FALSE) -> 267 | H83: =VLOOKUP(Athletes!A167,athlete,2,FALSE) -> Castillo | I83: =VLOOKUP(Athletes!A167,athlete,4,FALSE) -> EA
A84: =VLOOKUP(Athletes!A161,athlete,5,FALSE) -> 261 | C84: =VLOOKUP(Athletes!A161,athlete,2,FALSE) | D84: =VLOOKUP(Athletes!A161,athlete,4,FALSE) -> SE | F84: =VLOOKUP(Athletes!A168,athlete,5,FALSE) -> 268 | H84: =VLOOKUP(Athletes!A168,athlete,2,FALSE) -> Cerecero | I84: =VLOOKUP(Athletes!A168,athlete,4,FALSE) -> EA
A85: =VLOOKUP(Athletes!A169,athlete,5,FALSE) -> 269 | C85: =VLOOKUP(Athletes!A169,athlete,2,FALSE) -> Del Toro | D85: =VLOOKUP(Athletes!A169,athlete,4,FALSE) -> EA | F85: =VLOOKUP(Athletes!A176,athlete,5,FALSE) -> 276 | H85: =VLOOKUP(Athletes!A176,athlete,2,FALSE) -> Lopez | I85: =VLOOKUP(Athletes!A176,athlete,4,FALSE) -> EA
A86: =VLOOKUP(Athletes!A170,athlete,5,FALSE) -> 270 | C86: =VLOOKUP(Athletes!A170,athlete,2,FALSE) -> Dzaferi | D86: =VLOOKUP(Athletes!A170,athlete,4,FALSE) -> EA | F86: =VLOOKUP(Athletes!A177,athlete,5,FALSE) -> 277 | H86: =VLOOKUP(Athletes!A177,athlete,2,FALSE) -> Lozano | I86: =VLOOKUP(Athletes!A177,athlete,4,FALSE) -> EA
A87: =VLOOKUP(Athletes!A171,athlete,5,FALSE) -> 271 | C87: =VLOOKUP(Athletes!A171,athlete,2,FALSE) -> Gonsalez | D87: =VLOOKUP(Athletes!A171,athlete,4,FALSE) -> EA | F87: =VLOOKUP(Athletes!A178,athlete,5,FALSE) -> 278 | H87: =VLOOKUP(Athletes!A178,athlete,2,FALSE) -> Magana | I87: =VLOOKUP(Athletes!A178,athlete,4,FALSE) -> EA
A88: =VLOOKUP(Athletes!A172,athlete,5,FALSE) -> 272 | C88: =VLOOKUP(Athletes!A172,athlete,2,FALSE) -> Guido | D88: =VLOOKUP(Athletes!A172,athlete,4,FALSE) -> EA | F88: =VLOOKUP(Athletes!A179,athlete,5,FALSE) -> 279 | H88: =VLOOKUP(Athletes!A179,athlete,2,FALSE) -> Marin | I88: =VLOOKUP(Athletes!A179,athlete,4,FALSE) -> EA
A89: =VLOOKUP(Athletes!A173,athlete,5,FALSE) -> 273 | C89: =VLOOKUP(Athletes!A173,athlete,2,FALSE) -> Harris | D89: =VLOOKUP(Athletes!A173,athlete,4,FALSE) -> EA | F89: =VLOOKUP(Athletes!A180,athlete,5,FALSE) -> 280 | H89: =VLOOKUP(Athletes!A180,athlete,2,FALSE) -> Meraz | I89: =VLOOKUP(Athletes!A180,athlete,4,FALSE) -> EA
A90: =VLOOKUP(Athletes!A174,athlete,5,FALSE) -> 274 | C90: =VLOOKUP(Athletes!A174,athlete,2,FALSE) -> Hernandez | D90: =VLOOKUP(Athletes!A174,athlete,4,FALSE) -> EA | F90: =VLOOKUP(Athletes!A181,athlete,5,FALSE) -> 281 | H90: =VLOOKUP(Athletes!A181,athlete,2,FALSE) -> Patino | I90: =VLOOKUP(Athletes!A181,athlete,4,FALSE) -> EA
A91: =VLOOKUP(Athletes!A175,athlete,5,FALSE) -> 275 | C91: =VLOOKUP(Athletes!A175,athlete,2,FALSE) -> Juarez | D91: =VLOOKUP(Athletes!A175,athlete,4,FALSE) -> EA | F91: =VLOOKUP(Athletes!A182,athlete,5,FALSE) -> 282 | H91: =VLOOKUP(Athletes!A182,athlete,2,FALSE) -> Ramirez | I91: =VLOOKUP(Athletes!A182,athlete,4,FALSE) -> EA
A92: =VLOOKUP(Athletes!A183,athlete,5,FALSE) -> 283 | C92: =VLOOKUP(Athletes!A183,athlete,2,FALSE) -> Ramirez | D92: =VLOOKUP(Athletes!A183,athlete,4,FALSE) -> EA | F92: =VLOOKUP(Athletes!A190,athlete,5,FALSE) -> 290 | H92: =VLOOKUP(Athletes!A190,athlete,2,FALSE) -> Wiggins | I92: =VLOOKUP(Athletes!A190,athlete,4,FALSE) -> EA
A93: =VLOOKUP(Athletes!A184,athlete,5,FALSE) -> 284 | C93: =VLOOKUP(Athletes!A184,athlete,2,FALSE) -> Rodriguez | D93: =VLOOKUP(Athletes!A184,athlete,4,FALSE) -> EA | F93: =VLOOKUP(Athletes!A191,athlete,5,FALSE) -> 291 | H93: =VLOOKUP(Athletes!A191,athlete,2,FALSE) -> Cardona | I93: =VLOOKUP(Athletes!A191,athlete,4,FALSE) -> EA
A94: =VLOOKUP(Athletes!A185,athlete,5,FALSE) -> 285 | C94: =VLOOKUP(Athletes!A185,athlete,2,FALSE) -> Solis | D94: =VLOOKUP(Athletes!A185,athlete,4,FALSE) -> EA | F94: =VLOOKUP(Athletes!A192,athlete,5,FALSE) -> 292 | H94: =VLOOKUP(Athletes!A192,athlete,2,FALSE) | I94: =VLOOKUP(Athletes!A192,athlete,4,FALSE) -> EA
A95: =VLOOKUP(Athletes!A186,athlete,5,FALSE) -> 286 | C95: =VLOOKUP(Athletes!A186,athlete,2,FALSE) -> Soto | D95: =VLOOKUP(Athletes!A186,athlete,4,FALSE) -> EA | F95: =VLOOKUP(Athletes!A193,athlete,5,FALSE) -> 293 | H95: =VLOOKUP(Athletes!A193,athlete,2,FALSE) | I95: =VLOOKUP(Athletes!A193,athlete,4,FALSE) -> EA
A96: =VLOOKUP(Athletes!A187,athlete,5,FALSE) -> 287 | C96: =VLOOKUP(Athletes!A187,athlete,2,FALSE) -> Trejo | D96: =VLOOKUP(Athletes!A187,athlete,4,FALSE) -> EA | F96: =VLOOKUP(Athletes!A194,athlete,5,FALSE) -> 294 | H96: =VLOOKUP(Athletes!A194,athlete,2,FALSE) | I96: =VLOOKUP(Athletes!A194,athlete,4,FALSE) -> EA
A97: =VLOOKUP(Athletes!A188,athlete,5,FALSE) -> 288 | C97: =VLOOKUP(Athletes!A188,athlete,2,FALSE) -> Viayra | D97: =VLOOKUP(Athletes!A188,athlete,4,FALSE) -> EA | F97: =VLOOKUP(Athletes!A195,athlete,5,FALSE) -> 295 | H97: =VLOOKUP(Athletes!A195,athlete,2,FALSE) | I97: =VLOOKUP(Athletes!A195,athlete,4,FALSE) -> EA
A98: =VLOOKUP(Athletes!A189,athlete,5,FALSE) -> 289 | C98: =VLOOKUP(Athletes!A189,athlete,2,FALSE) -> Sanchez | D98: =VLOOKUP(Athletes!A189,athlete,4,FALSE) -> EA | F98: =VLOOKUP(Athletes!A196,athlete,5,FALSE) -> 296 | H98: =VLOOKUP(Athletes!A196,athlete,2,FALSE) | I98: =VLOOKUP(Athletes!A196,athlete,4,FALSE) -> EA
A99: =VLOOKUP(Athletes!A197,athlete,5,FALSE) -> 297 | C99: =VLOOKUP(Athletes!A197,athlete,2,FALSE) | D99: =VLOOKUP(Athletes!A197,athlete,4,FALSE) | F99: =VLOOKUP(Athletes!A204,athlete,5,FALSE) -> 304 | H99: =VLOOKUP(Athletes!A204,athlete,2,FALSE) | I99: =VLOOKUP(Athletes!A204,athlete,4,FALSE)
A100: =VLOOKUP(Athletes!A198,athlete,5,FALSE) -> 298 | C100: =VLOOKUP(Athletes!A198,athlete,2,FALSE) | D100: =VLOOKUP(Athletes!A198,athlete,4,FALSE) | F100: =VLOOKUP(Athletes!A205,athlete,5,FALSE) -> 305 | H100: =VLOOKUP(Athletes!A205,athlete,2,FALSE) | I100: =VLOOKUP(Athletes!A205,athlete,4,FALSE)
...

Sheet Scoresheet
A1: 122 | B1: Junior Varsity
A2: 129 | B2: Event | C2: GN | D2: East Aurora | E2: South Elgin | F2: Column5
A3: 182 | B3: High Jump | C3: ='High Jump'!C35 -> 8 | D3: ='High Jump'!C36 -> 0 | E3: ='High Jump'!C37 -> 3 | F3: =SUM(Scoresheet!$C3:$E3) -> 11
B4: Long Jump | C4: ='Long Jump'!L8 -> 8 | D4: ='Long Jump'!L9 -> 0 | E4: ='Long Jump'!L10 -> 1 | F4: =SUM(Scoresheet!$C4:$E4) -> 9
B5: Triple Jump | C5: ='Triple Jump '!L8 -> 6 | D5: ='Triple Jump '!L9 -> 0 | E5: ='Triple Jump '!L10 -> 5 | F5: =SUM(Scoresheet!$C5:$E5) -> 11
B6: Shot Put | C6: ='Shot Put'!M8 -> 4 | D6: ='Shot Put'!M9 -> 0 | E6: ='Shot Put'!M10 -> 7 | F6: =SUM(Scoresheet!$C6:$E6) -> 11
B7: Pole Vault | C7: ='Pole Vault'!C36 -> 0 | D7: ='Pole Vault'!C37 -> 0 | E7: ='Pole Vault'!C38 -> 5 | F7: =SUM(Scoresheet!$C7:$E7) -> 5
B8: 3200 | C8: ='3200'!D38 | D8: ='3200'!D39 | E8: ='3200'!D40 | F8: =SUM(Scoresheet!$C8:$E8) -> 0
B9: 4 X 800 | C9: ='4 x 800'!E15 -> 5 | D9: ='4 x 800'!E16 -> 0 | E9: ='4 x 800'!E17 -> 3 | F9: =SUM(Scoresheet!$C9:$E9) -> 8
B10: 4 X 160 | C10: ='4 x 160 '!E20 -> 5 | D10: ='4 x 160 '!E21 -> 0 | E10: ='4 x 160 '!E22 -> 3 | F10: =SUM(Scoresheet!$C10:$E10) -> 8
B11: 55 Meter Hurdles | C11: ='55 Hurdles'!E4 -> 5 | D11: ='55 Hurdles'!E5 -> 0 | E11: ='55 Hurdles'!E6 -> 6 | F11: =SUM(Scoresheet!$C11:$E11) -> 11
B12: 55 Meter Dash | C12: ='55 Dash '!E3 -> 3 | D12: ='55 Dash '!E4 -> 3 | E12: ='55 Dash '!E5 -> 5 | F12: =SUM(Scoresheet!$C12:$E12) -> 11
B13: 800 Meter Run | C13: ='800'!D2 -> 9 | D13: ='800'!D3 -> 0 | E13: ='800'!D4 -> 2 | F13: =SUM(Scoresheet!$C13:$E13) -> 11
B14: 4 X 240 | C14: ='4 x 240'!F4 -> 5 | D14: ='4 x 240'!F5 -> 0 | E14: ='4 x 240'!F6 -> 3 | F14: =SUM(Scoresheet!$C14:$E14) -> 8
B15: 400 Meter Dash | C15: ='400'!D4 -> 3 | D15: ='400'!D5 -> 0 | E15: ='400'!D6 -> 8 | F15: =SUM(Scoresheet!$C15:$E15) -> 11
B16: 1600 Meter Run | C16: ='1600'!D3 -> 4 | D16: ='1600'!D4 -> 0 | E16: ='1600'!D5 -> 7 | F16: =SUM(Scoresheet!$C16:$E16) -> 11
B17: 200 Meter Dash | C17: ='200'!F4 -> 3 | D17: ='200'!F5 -> 0 | E17: ='200'!F6 -> 8 | F17: =SUM(Scoresheet!$C17:$E17) -> 11
B18: 4 X 400 | C18: ='4 x 400'!E20 -> 3 | D18: ='4 x 400'!E21 -> 0 | E18: ='4 x 400'!E22 -> 5 | F18: =SUM(Scoresheet!$C18:$E18) -> 8
B19: Team Totals | C19: =SUM(C3:C18) -> 71 | D19: =SUM(D3:D18) -> 3 | E19: =SUM(E3:E18) -> 71
B20: Team Place | C20: =RANK(Scoresheet!$C$19,Scoresheet!$C$19:$E$19) -> 1 | D20: =RANK(Scoresheet!$D$19,Scoresheet!$C$19:$E$19) -> 3 | E20: =RANK(Scoresheet!$E$19,Scoresheet!$C$19:$E$19) -> 1
B21: Varsity
B23: Event | C23: GN | D23: East Aurora | E23: South Elgin | F23: Column5 | G23: 2
B24: High Jump | C24: =#REF! -> #REF! | D24: ='[1]Shot '!M9 -> #REF! | E24: ='[1]Shot '!M10 -> #REF! | F24: =SUM(Scoresheet!$C24:$E24) -> #REF!
B25: Long Jump | C25: ='Long Jump'!L30 | D25: ='Long Jump'!L31 | E25: ='Long Jump'!L32 | F25: =SUM(Scoresheet!$C25:$E25) -> 0
B26: Triple Jump | C26: ='Triple Jump '!L30 | D26: ='Triple Jump '!L31 | E26: ='Triple Jump '!L32 | F26: =SUM(Scoresheet!$C26:$E26) -> 0
B27: Shot Put | C27: ='[1]Shot '!M8 -> #REF! | F27: =SUM(Scoresheet!$C27:$E27) -> #REF!
B28: Pole Vault | C28: =#REF! -> #REF! | D28: =#REF! -> #REF! | E28: =#REF! -> #REF! | F28: =SUM(Scoresheet!$C28:$E28) -> #REF!
B29: 3200 | C29: ='3200'!D32 -> 0 | D29: ='3200'!D33 -> 0 | E29: ='3200'!D34 -> 0 | F29: =SUM(Scoresheet!$C29:$E29) -> 0
B30: 4 X 800 | C30: =#REF! -> #REF! | D30: =#REF! -> #REF! | E30: =#REF! -> #REF! | F30: =SUM(Scoresheet!$C30:$E30) -> #REF!
B31: 4 X 160 | C31: =#REF! -> #REF! | D31: =#REF! -> #REF! | E31: =#REF! -> #REF! | F31: =SUM(Scoresheet!$C31:$E31) -> #REF!
B32: 55 Meter Hurdles | C32: =#REF! -> #REF! | D32: =#REF! -> #REF! | E32: =#REF! -> #REF! | F32: =SUM(Scoresheet!$C32:$E32) -> #REF!
B33: 55 Meter Dash | C33: =#REF! -> #REF! | D33: =#REF! -> #REF! | E33: =#REF! -> #REF! | F33: =SUM(Scoresheet!$C33:$E33) -> #REF!
B34: 800 Meter Run | C34: =#REF! -> #REF! | D34: =#REF! -> #REF! | E34: =#REF! -> #REF! | F34: =SUM(Scoresheet!$C34:$E34) -> #REF!
B35: 4 X 240 | C35: =#REF! -> #REF! | D35: =#REF! -> #REF! | E35: =#REF! -> #REF! | F35: =SUM(Scoresheet!$C35:$E35) -> #REF!
B36: 400 Meter Dash | F36: =SUM(Scoresheet!$C36:$E36) -> 0
B37: 1600 Meter Run | C37: =#REF! -> #REF! | E37: =#REF! -> #REF! | F37: =SUM(Scoresheet!$C37:$E37) -> #REF!
B38: 200 Meter Dash | C38: =#REF! -> #REF! | D38: =#REF! -> #REF! | E38: =#REF! -> #REF! | F38: =SUM(Scoresheet!$C38:$E38) -> #REF!
B39: 4 X 400 | C39: =#REF! -> #REF! | D39: =#REF! -> #REF! | E39: =#REF! -> #REF! | F39: =SUM(Scoresheet!$C39:$E39) -> #REF!
B40: Team Totals | C40: =SUM(C24:C39) -> #REF! | D40: =SUM(D24:D39) -> #REF! | E40: =SUM(E24:E39) -> #REF!
B41: Team Place | C41: =RANK(Scoresheet!$C$40,Scoresheet!$C$40:$E$40) -> #REF! | D41: =RANK(Scoresheet!$D$40,Scoresheet!$C$40:$E$40) -> #REF! | E41: =RANK(Scoresheet!$E$40,Scoresheet!$C$40:$E$40) -> #REF!

Sheet 3200
C1: 3200 Meter Run
A4: Place | B4: Scan | C4: Name | D4: School | E4: Time | F4: Level
A5: 1 | G5: 5
A6: 2 | G6: 3
A7: 3 | G7: 2
A8: 4 | C8: =IF(ISNA(VLOOKUP(B8,athlete,2,FALSE)),"",VLOOKUP(B8,athlete,2,FALSE)) | D8: =IF(ISNA(VLOOKUP(B8,athlete,4,FALSE)),"",VLOOKUP(B8,athlete,4,FALSE)) | G8: 1
A9: 5 | C9: =IF(ISNA(VLOOKUP(B9,athlete,2,FALSE)),"",VLOOKUP(B9,athlete,2,FALSE)) | D9: =IF(ISNA(VLOOKUP(B9,athlete,4,FALSE)),"",VLOOKUP(B9,athlete,4,FALSE))
A10: 6 | C10: =IF(ISNA(VLOOKUP(B10,athlete,2,FALSE)),"",VLOOKUP(B10,athlete,2,FALSE)) | D10: =IF(ISNA(VLOOKUP(B10,athlete,4,FALSE)),"",VLOOKUP(B10,athlete,4,FALSE))
A11: 7 | C11: =IF(ISNA(VLOOKUP(B11,athlete,2,FALSE)),"",VLOOKUP(B11,athlete,2,FALSE)) | D11: =IF(ISNA(VLOOKUP(B11,athlete,4,FALSE)),"",VLOOKUP(B11,athlete,4,FALSE))
A12: 8 | C12: =IF(ISNA(VLOOKUP(B12,athlete,2,FALSE)),"",VLOOKUP(B12,athlete,2,FALSE)) | D12: =IF(ISNA(VLOOKUP(B12,athlete,4,FALSE)),"",VLOOKUP(B12,athlete,4,FALSE))
A13: 9 | C13: =IF(ISNA(VLOOKUP(B13,athlete,2,FALSE)),"",VLOOKUP(B13,athlete,2,FALSE)) | D13: =IF(ISNA(VLOOKUP(B13,athlete,4,FALSE)),"",VLOOKUP(B13,athlete,4,FALSE))
A14: 10 | C14: =IF(ISNA(VLOOKUP(B14,athlete,2,FALSE)),"",VLOOKUP(B14,athlete,2,FALSE)) | D14: =IF(ISNA(VLOOKUP(B14,athlete,4,FALSE)),"",VLOOKUP(B14,athlete,4,FALSE))
A15: 11 | C15: =IF(ISNA(VLOOKUP(B15,athlete,2,FALSE)),"",VLOOKUP(B15,athlete,2,FALSE)) | D15: =IF(ISNA(VLOOKUP(B15,athlete,4,FALSE)),"",VLOOKUP(B15,athlete,4,FALSE))
A16: 12 | C16: =IF(ISNA(VLOOKUP(B16,athlete,2,FALSE)),"",VLOOKUP(B16,athlete,2,FALSE)) | D16: =IF(ISNA(VLOOKUP(B16,athlete,4,FALSE)),"",VLOOKUP(B16,athlete,4,FALSE))
A17: 13 | C17: =IF(ISNA(VLOOKUP(B17,athlete,2,FALSE)),"",VLOOKUP(B17,athlete,2,FALSE)) | D17: =IF(ISNA(VLOOKUP(B17,athlete,4,FALSE)),"",VLOOKUP(B17,athlete,4,FALSE))
A18: 14 | C18: =IF(ISNA(VLOOKUP(B18,athlete,2,FALSE)),"",VLOOKUP(B18,athlete,2,FALSE)) | D18: =IF(ISNA(VLOOKUP(B18,athlete,4,FALSE)),"",VLOOKUP(B18,athlete,4,FALSE))
A19: 15 | C19: =IF(ISNA(VLOOKUP(B19,athlete,2,FALSE)),"",VLOOKUP(B19,athlete,2,FALSE)) | D19: =IF(ISNA(VLOOKUP(B19,athlete,4,FALSE)),"",VLOOKUP(B19,athlete,4,FALSE))
A20: 16 | C20: =IF(ISNA(VLOOKUP(B20,athlete,2,FALSE)),"",VLOOKUP(B20,athlete,2,FALSE)) | D20: =IF(ISNA(VLOOKUP(B20,athlete,4,FALSE)),"",VLOOKUP(B20,athlete,4,FALSE))
... A28: 24 | C28: =IF(ISNA(VLOOKUP(B28,athlete,2,FALSE)),"",VLOOKUP(B28,athlete,2,FALSE)) | D28: =IF(ISNA(VLOOKUP(B28,athlete,4,FALSE)),"",VLOOKUP(B28,athlete,4,FALSE))
C31: Varsity Team Points
C32: Glenbard North | D32: 0
C33: East Aurora | D33: 0
C34: South Elgin | D34: 0
C37: Junior Varsity Team Points
C38: Glenbard North
C39: East Aurora
C40: South Elgin

Sheet 4 x 800
A3: 4 X 800 | F3: Only one relay per school may score
B4: Place | C4: Scan | D4: School | E4: Time | F4: Points
B5: 1 | C5: 300 | D5: Glenbard North | E5: 11:11.1 | F5: 5
B6: 2 | C6: 301 | D6: South Elgin | E6: 11:28.8 | F6: 3
B7: 3 | C7: 300 | D7: =IF(ISNA(VLOOKUP(C7,athlete,2,FALSE)),"",VLOOKUP(C7,athlete,2,FALSE)) -> Glenbard North | E7: 12:03.5
B8: 4 | C8: 301 | D8: =IF(ISNA(VLOOKUP(C8,athlete,2,FALSE)),"",VLOOKUP(C8,athlete,2,FALSE)) -> South Elgin | E8: 12:53.0
B9: 5 | D9: =IF(ISNA(VLOOKUP(C9,athlete,2,FALSE)),"",VLOOKUP(C9,athlete,2,FALSE))
B10: 6 | D10: =IF(ISNA(VLOOKUP(C10,athlete,2,FALSE)),"",VLOOKUP(C10,athlete,2,FALSE))
B11: 7 | D11: =IF(ISNA(VLOOKUP(C11,athlete,2,FALSE)),"",VLOOKUP(C11,athlete,2,FALSE))
B12: 8 | D12: =IF(ISNA(VLOOKUP(C12,athlete,2,FALSE)),"",VLOOKUP(C12,athlete,2,FALSE))
D14: Team Points
D15: Glenbard North | E15: 5
D16: East Aurora | E16: 0
D17: South Elgin | E17: 3

Sheet 4 x 160 
A4: 4 x 160 | E4: Only one relay per school may score
A5: Place | B5: Heat Place | C5: Scan | D5: School | E5: Time | F5: Points
A6: 1 | B6: 1 | C6: 300 | D6: =IF(ISNA(VLOOKUP(C6,athlete,2,FALSE)),"",VLOOKUP(C6,athlete,2,FALSE)) -> Glenbard North | E6: 1:30.4 | F6: 5
A7: 2 | B7: 2 | C7: 301 | D7: =IF(ISNA(VLOOKUP(C7,athlete,2,FALSE)),"",VLOOKUP(C7,athlete,2,FALSE)) -> South Elgin | E7: 1:31.4 | F7: 3
A8: 3 | B8: 3 | C8: 300 | D8: =IF(ISNA(VLOOKUP(C8,athlete,2,FALSE)),"",VLOOKUP(C8,athlete,2,FALSE)) -> Glenbard North | E8: 1:34.7
A9: 4 | B9: 4 | C9: 301 | D9: =IF(ISNA(VLOOKUP(C9,athlete,2,FALSE)),"",VLOOKUP(C9,athlete,2,FALSE)) -> South Elgin | E9: 1:39.1
A10: 5 | B10: 1 | C10: 302 | D10: =IF(ISNA(VLOOKUP(C10,athlete,2,FALSE)),"",VLOOKUP(C10,athlete,2,FALSE)) -> East Aurora | E10: 1:43.4
A11: 6 | B11: 2 | C11: 300 | D11: Glenbard North | E11: 1:43.8
A12: 7 | B12: 3 | C12: 300 | D12: =IF(ISNA(VLOOKUP(C12,athlete,2,FALSE)),"",VLOOKUP(C12,athlete,2,FALSE)) -> Glenbard North | E12: 1:43.9
A13: 8 | B13: 4 | C13: 301 | D13: =IF(ISNA(VLOOKUP(C13,athlete,2,FALSE)),"",VLOOKUP(C13,athlete,2,FALSE)) -> South Elgin | E13: 1:44.6
A14: 9 | B14: 1 | C14: 301 | D14: =IF(ISNA(VLOOKUP(C14,athlete,2,FALSE)),"",VLOOKUP(C14,athlete,2,FALSE)) -> South Elgin | E14: 1:45.5
A15: 10 | B15: 2 | C15: 301 | D15: =IF(ISNA(VLOOKUP(C15,athlete,2,FALSE)),"",VLOOKUP(C15,athlete,2,FALSE)) -> South Elgin | E15: 1:47.2
A16: 11 | B16: 3 | C16: 301 | D16: =IF(ISNA(VLOOKUP(C16,athlete,2,FALSE)),"",VLOOKUP(C16,athlete,2,FALSE)) -> South Elgin | E16: 1:47.5
A17: 12 | B17: 4 | C17: 301 | D17: =IF(ISNA(VLOOKUP(C17,athlete,2,FALSE)),"",VLOOKUP(C17,athlete,2,FALSE)) -> South Elgin | E17: 1:57.2
D19: Team Points
D20: Glenbard North | E20: 5
D21: East Aurora | E21: 0
D22: South Elgin | E22: 3

Sheet 55 Hurdles
A1: 55 Meter Hurdles
D3: Junior Varsity Team Points
D4: Glenbard North | E4: 5
D5: East Aurora | E5: 0
D6: South Elgin | E6: 6
A7: Place | B7: Heat Place | C7: Scan | D7: Name | F7: Time | G7: Points
A8: 1 | B8: 1 | C8: 162 | D8: =IF(ISNA(VLOOKUP(C8,athlete,2,FALSE)),"",VLOOKUP(C8,athlete,2,FALSE)) -> WAHRMAN | E8: =IF(ISNA(VLOOKUP(C8,athlete,4,FALSE)),"",VLOOKUP(C8,athlete,4,FALSE)) -> GN | F8: 9.3 | G8: 5
A9: 2 | B9: 2 | C9: 240 | D9: =IF(ISNA(VLOOKUP(C9,athlete,2,FALSE)),"",VLOOKUP(C9,athlete,2,FALSE)) -> Smith | E9: =IF(ISNA(VLOOKUP(C9,athlete,4,FALSE)),"",VLOOKUP(C9,athlete,4,FALSE)) -> SE | F9: 9.8 | G9: 3
A10: 3 | B10: 3 | C10: 248 | D10: =IF(ISNA(VLOOKUP(C10,athlete,2,FALSE)),"",VLOOKUP(C10,athlete,2,FALSE)) -> Walters | E10: =IF(ISNA(VLOOKUP(C10,athlete,4,FALSE)),"",VLOOKUP(C10,athlete,4,FALSE)) -> SE | F10: 9.9 | G10: 2
A11: 7 | B11: 4 | C11: 199 | D11: =IF(ISNA(VLOOKUP(C11,athlete,2,FALSE)),"",VLOOKUP(C11,athlete,2,FALSE)) -> Duncan | E11: =IF(ISNA(VLOOKUP(C11,athlete,4,FALSE)),"",VLOOKUP(C11,athlete,4,FALSE)) -> SE | F11: 10 | G11: 1
A12: 4 | B12: 5 | C12: 189 | D12: =IF(ISNA(VLOOKUP(C12,athlete,2,FALSE)),"",VLOOKUP(C12,athlete,2,FALSE)) -> Bush | E12: =IF(ISNA(VLOOKUP(C12,athlete,4,FALSE)),"",VLOOKUP(C12,athlete,4,FALSE)) -> SE | F12: 10.2
A13: 8 | B13: 6 | C13: 222 | D13: =IF(ISNA(VLOOKUP(C13,athlete,2,FALSE)),"",VLOOKUP(C13,athlete,2,FALSE)) -> Muller | E13: =IF(ISNA(VLOOKUP(C13,athlete,4,FALSE)),"",VLOOKUP(C13,athlete,4,FALSE)) -> SE | F13: 10.222
A14: 9 | B14: 1 | C14: 120 | D14: =IF(ISNA(VLOOKUP(C14,athlete,2,FALSE)),"",VLOOKUP(C14,athlete,2,FALSE)) -> GUZMAN | E14: =IF(ISNA(VLOOKUP(C14,athlete,4,FALSE)),"",VLOOKUP(C14,athlete,4,FALSE)) -> GN | F14: 10.9
A15: 5 | B15: 2 | C15: 105 | D15: =IF(ISNA(VLOOKUP(C15,athlete,2,FALSE)),"",VLOOKUP(C15,athlete,2,FALSE)) -> AYYAD | E15: =IF(ISNA(VLOOKUP(C15,athlete,4,FALSE)),"",VLOOKUP(C15,athlete,4,FALSE)) -> GN | F15: 11.2
A16: 10 | B16: 3 | C16: 126 | D16: =IF(ISNA(VLOOKUP(C16,athlete,2,FALSE)),"",VLOOKUP(C16,athlete,2,FALSE)) -> JOHNSON | E16: =IF(ISNA(VLOOKUP(C16,athlete,4,FALSE)),"",VLOOKUP(C16,athlete,4,FALSE)) -> GN | F16: 11.3
A17: 6 | B17: 4 | C17: 205 | D17: =IF(ISNA(VLOOKUP(C17,athlete,2,FALSE)),"",VLOOKUP(C17,athlete,2,FALSE)) -> Greco | E17: =IF(ISNA(VLOOKUP(C17,athlete,4,FALSE)),"",VLOOKUP(C17,athlete,4,FALSE)) -> SE | F17: 11.4
A18: 11 | B18: 5 | C18: 146 | D18: =IF(ISNA(VLOOKUP(C18,athlete,2,FALSE)),"",VLOOKUP(C18,athlete,2,FALSE)) -> Perez | E18: =IF(ISNA(VLOOKUP(C18,athlete,4,FALSE)),"",VLOOKUP(C18,athlete,4,FALSE)) -> GN | F18: 11.5
A19: 12 | B19: 6 | C19: 195 | D19: =IF(ISNA(VLOOKUP(C19,athlete,2,FALSE)),"",VLOOKUP(C19,athlete,2,FALSE)) -> Derowski | E19: =IF(ISNA(VLOOKUP(C19,athlete,4,FALSE)),"",VLOOKUP(C19,athlete,4,FALSE)) -> SE | F19: 11.6
A20: 13 | B20: 1 | C20: 175 | D20: =IF(ISNA(VLOOKUP(C20,athlete,2,FALSE)),"",VLOOKUP(C20,athlete,2,FALSE)) -> Ackermann | E20: =IF(ISNA(VLOOKUP(C20,athlete,4,FALSE)),"",VLOOKUP(C20,athlete,4,FALSE)) -> SE | F20: 11.8
A21: 14 | B21: 2 | C21: 244 | D21: =IF(ISNA(VLOOKUP(C21,athlete,2,FALSE)),"",VLOOKUP(C21,athlete,2,FALSE)) -> Swanson | E21: =IF(ISNA(VLOOKUP(C21,athlete,4,FALSE)),"",VLOOKUP(C21,athlete,4,FALSE)) -> SE | F21: 12
A22: 15 | B22: 3 | C22: 227 | D22: =IF(ISNA(VLOOKUP(C22,athlete,2,FALSE)),"",VLOOKUP(C22,athlete,2,FALSE)) -> Patel | E22: =IF(ISNA(VLOOKUP(C22,athlete,4,FALSE)),"",VLOOKUP(C22,athlete,4,FALSE)) -> SE | F22: 12.1
A23: 16 | B23: 4 | C23: 188 | D23: =IF(ISNA(VLOOKUP(C23,athlete,2,FALSE)),"",VLOOKUP(C23,athlete,2,FALSE)) -> Brown | E23: =IF(ISNA(VLOOKUP(C23,athlete,4,FALSE)),"",VLOOKUP(C23,athlete,4,FALSE)) -> SE | F23: 12.5
... A26: 13 | B26: 1 | C26: 287 | D26: =IF(ISNA(VLOOKUP(C26,athlete,2,FALSE)),"",VLOOKUP(C26,athlete,2,FALSE)) -> Trejo | E26: =IF(ISNA(VLOOKUP(C26,athlete,4,FALSE)),"",VLOOKUP(C26,athlete,4,FALSE)) -> EA | F26: 19
A27: 14 | B27: 2 | D27: =IF(ISNA(VLOOKUP(C27,athlete,2,FALSE)),"",VLOOKUP(C27,athlete,2,FALSE)) | E27: =IF(ISNA(VLOOKUP(C27,athlete,4,FALSE)),"",VLOOKUP(C27,athlete,4,FALSE))
A28: 15 | B28: 3 | D28: =IF(ISNA(VLOOKUP(C28,athlete,2,FALSE)),"",VLOOKUP(C28,athlete,2,FALSE)) | E28: =IF(ISNA(VLOOKUP(C28,athlete,4,FALSE)),"",VLOOKUP(C28,athlete,4,FALSE))
A29: 16 | B29: 4 | D29: =IF(ISNA(VLOOKUP(C29,athlete,2,FALSE)),"",VLOOKUP(C29,athlete,2,FALSE)) | E29: =IF(ISNA(VLOOKUP(C29,athlete,4,FALSE)),"",VLOOKUP(C29,athlete,4,FALSE))
A30: 17 | B30: 5 | D30: =IF(ISNA(VLOOKUP(C30,athlete,2,FALSE)),"",VLOOKUP(C30,athlete,2,FALSE)) | E30: =IF(ISNA(VLOOKUP(C30,athlete,4,FALSE)),"",VLOOKUP(C30,athlete,4,FALSE))
A31: 18 | B31: 6 | D31: =IF(ISNA(VLOOKUP(C31,athlete,2,FALSE)),"",VLOOKUP(C31,athlete,2,FALSE)) | E31: =IF(ISNA(VLOOKUP(C31,athlete,4,FALSE)),"",VLOOKUP(C31,athlete,4,FALSE))

Sheet 55 Dash 
D2: Team Points
D3: Glenbard North | E3: 3
D4: East Aurora | E4: 3
D5: South Elgin | E5: 5
A7: Junior Varsity 55 Meter Dash
A8: Place | B8: Heat Place | C8: Scan | D8: Name | E8: School | F8: Time | G8: Points
A9: 1 | B9: 1 | C9: 251 | D9: =IF(ISNA(VLOOKUP(C9,athlete,2,FALSE)),"",VLOOKUP(C9,athlete,2,FALSE)) -> Williams | E9: =IF(ISNA(VLOOKUP(C9,athlete,4,FALSE)),"",VLOOKUP(C9,athlete,4,FALSE)) -> SE | F9: 8 | G9: 5
A10: 2 | B10: 2 | C10: 290 | D10: =IF(ISNA(VLOOKUP(C10,athlete,2,FALSE)),"",VLOOKUP(C10,athlete,2,FALSE)) -> Wiggins | E10: =IF(ISNA(VLOOKUP(C10,athlete,4,FALSE)),"",VLOOKUP(C10,athlete,4,FALSE)) -> EA | F10: 8.01 | G10: 3
A11: 3 | B11: 3 | C11: 103 | D11: =IF(ISNA(VLOOKUP(C11,athlete,2,FALSE)),"",VLOOKUP(C11,athlete,2,FALSE)) -> ARON | E11: =IF(ISNA(VLOOKUP(C11,athlete,4,FALSE)),"",VLOOKUP(C11,athlete,4,FALSE)) -> GN | F11: 8.02 | G11: 2
A12: 4 | B12: 4 | C12: 107 | D12: =IF(ISNA(VLOOKUP(C12,athlete,2,FALSE)),"",VLOOKUP(C12,athlete,2,FALSE)) -> BLACKMAN | E12: =IF(ISNA(VLOOKUP(C12,athlete,4,FALSE)),"",VLOOKUP(C12,athlete,4,FALSE)) -> GN | F12: 8.1 | G12: 1
A13: 5 | B13: 5 | C13: 224 | D13: =IF(ISNA(VLOOKUP(C13,athlete,2,FALSE)),"",VLOOKUP(C13,athlete,2,FALSE)) -> Ordija | E13: =IF(ISNA(VLOOKUP(C13,athlete,4,FALSE)),"",VLOOKUP(C13,athlete,4,FALSE)) -> SE | F13: 8.11
A14: 6 | B14: 6 | C14: 148 | D14: =IF(ISNA(VLOOKUP(C14,athlete,2,FALSE)),"",VLOOKUP(C14,athlete,2,FALSE)) -> REED | E14: =IF(ISNA(VLOOKUP(C14,athlete,4,FALSE)),"",VLOOKUP(C14,athlete,4,FALSE)) -> GN | F14: 8.2
A15: 7 | B15: 1 | C15: 116 | D15: =IF(ISNA(VLOOKUP(C15,athlete,2,FALSE)),"",VLOOKUP(C15,athlete,2,FALSE)) -> FISHER | E15: =IF(ISNA(VLOOKUP(C15,athlete,4,FALSE)),"",VLOOKUP(C15,athlete,4,FALSE)) -> GN | F15: 8.3
A16: 8 | B16: 2 | C16: 231 | D16: =IF(ISNA(VLOOKUP(C16,athlete,2,FALSE)),"",VLOOKUP(C16,athlete,2,FALSE)) -> Roberson | E16: =IF(ISNA(VLOOKUP(C16,athlete,4,FALSE)),"",VLOOKUP(C16,athlete,4,FALSE)) -> SE | F16: 8.3
A17: 9 | B17: 3 | C17: 152 | D17: =IF(ISNA(VLOOKUP(C17,athlete,2,FALSE)),"",VLOOKUP(C17,athlete,2,FALSE)) -> SAYANI | E17: =IF(ISNA(VLOOKUP(C17,athlete,4,FALSE)),"",VLOOKUP(C17,athlete,4,FALSE)) -> GN | F17: 8.4
A18: 10 | B18: 4 | C18: 123 | D18: =IF(ISNA(VLOOKUP(C18,athlete,2,FALSE)),"",VLOOKUP(C18,athlete,2,FALSE)) -> HICKEY | E18: =IF(ISNA(VLOOKUP(C18,athlete,4,FALSE)),"",VLOOKUP(C18,athlete,4,FALSE)) -> GN | F18: 8.4
A19: 11 | B19: 5 | C19: 185 | D19: =IF(ISNA(VLOOKUP(C19,athlete,2,FALSE)),"",VLOOKUP(C19,athlete,2,FALSE)) -> Berry | E19: =IF(ISNA(VLOOKUP(C19,athlete,4,FALSE)),"",VLOOKUP(C19,athlete,4,FALSE)) -> SE | F19: 8.5
A20: 12 | B20: 6 | C20: 191 | D20: =IF(ISNA(VLOOKUP(C20,athlete,2,FALSE)),"",VLOOKUP(C20,athlete,2,FALSE)) -> Castro | E20: =IF(ISNA(VLOOKUP(C20,athlete,4,FALSE)),"",VLOOKUP(C20,athlete,4,FALSE)) -> SE | F20: 8.5
A21: 13 | B21: 1 | C21: 205 | D21: =IF(ISNA(VLOOKUP(C21,athlete,2,FALSE)),"",VLOOKUP(C21,athlete,2,FALSE)) -> Greco | E21: =IF(ISNA(VLOOKUP(C21,athlete,4,FALSE)),"",VLOOKUP(C21,athlete,4,FALSE)) -> SE | F21: 8.5
A22: 14 | B22: 2 | C22: 193 | D22: =IF(ISNA(VLOOKUP(C22,athlete,2,FALSE)),"",VLOOKUP(C22,athlete,2,FALSE)) -> Czyz | E22: =IF(ISNA(VLOOKUP(C22,athlete,4,FALSE)),"",VLOOKUP(C22,athlete,4,FALSE)) -> SE | F22: 8.6
A23: 15 | B23: 3 | C23: 188 | D23: =IF(ISNA(VLOOKUP(C23,athlete,2,FALSE)),"",VLOOKUP(C23,athlete,2,FALSE)) -> Brown | E23: =IF(ISNA(VLOOKUP(C23,athlete,4,FALSE)),"",VLOOKUP(C23,athlete,4,FALSE)) -> SE | F23: 8.6
A24: 16 | B24: 4 | C24: 217 | D24: =IF(ISNA(VLOOKUP(C24,athlete,2,FALSE)),"",VLOOKUP(C24,athlete,2,FALSE)) -> Mahkri | E24: =IF(ISNA(VLOOKUP(C24,athlete,4,FALSE)),"",VLOOKUP(C24,athlete,4,FALSE)) -> SE | F24: 8.6
... A59: 51 | B59: 3 | C59: 145 | D59: =IF(ISNA(VLOOKUP(C59,athlete,2,FALSE)),"",VLOOKUP(C59,athlete,2,FALSE)) -> PATRIDGE | E59: =IF(ISNA(VLOOKUP(C59,athlete,4,FALSE)),"",VLOOKUP(C59,athlete,4,FALSE)) -> GN | F59: 10.7
A60: 52 | B60: 4 | D60: =IF(ISNA(VLOOKUP(C60,athlete,2,FALSE)),"",VLOOKUP(C60,athlete,2,FALSE)) | E60: =IF(ISNA(VLOOKUP(C60,athlete,4,FALSE)),"",VLOOKUP(C60,athlete,4,FALSE))
A61: 53 | B61: 5 | D61: =IF(ISNA(VLOOKUP(C61,athlete,2,FALSE)),"",VLOOKUP(C61,athlete,2,FALSE)) | E61: =IF(ISNA(VLOOKUP(C61,athlete,4,FALSE)),"",VLOOKUP(C61,athlete,4,FALSE))
A62: 54 | B62: 6 | D62: =IF(ISNA(VLOOKUP(C62,athlete,2,FALSE)),"",VLOOKUP(C62,athlete,2,FALSE)) | E62: =IF(ISNA(VLOOKUP(C62,athlete,4,FALSE)),"",VLOOKUP(C62,athlete,4,FALSE))
A63: 55 | B63: 1 | D63: =IF(ISNA(VLOOKUP(C63,athlete,2,FALSE)),"",VLOOKUP(C63,athlete,2,FALSE)) | E63: =IF(ISNA(VLOOKUP(C63,athlete,4,FALSE)),"",VLOOKUP(C63,athlete,4,FALSE))
A64: 56 | B64: 2 | D64: =IF(ISNA(VLOOKUP(C64,athlete,2,FALSE)),"",VLOOKUP(C64,athlete,2,FALSE)) | E64: =IF(ISNA(VLOOKUP(C64,athlete,4,FALSE)),"",VLOOKUP(C64,athlete,4,FALSE))
A65: 57 | B65: 3 | D65: =IF(ISNA(VLOOKUP(C65,athlete,2,FALSE)),"",VLOOKUP(C65,athlete,2,FALSE)) | E65: =IF(ISNA(VLOOKUP(C65,athlete,4,FALSE)),"",VLOOKUP(C65,athlete,4,FALSE))
A66: 58 | B66: 4 | D66: =IF(ISNA(VLOOKUP(C66,athlete,2,FALSE)),"",VLOOKUP(C66,athlete,2,FALSE)) | E66: =IF(ISNA(VLOOKUP(C66,athlete,4,FALSE)),"",VLOOKUP(C66,athlete,4,FALSE))
A67: 59 | B67: 5 | D67: =IF(ISNA(VLOOKUP(C67,athlete,2,FALSE)),"",VLOOKUP(C67,athlete,2,FALSE)) | E67: =IF(ISNA(VLOOKUP(C67,athlete,4,FALSE)),"",VLOOKUP(C67,athlete,4,FALSE))
A68: 60 | B68: 6 | D68: =IF(ISNA(VLOOKUP(C68,athlete,2,FALSE)),"",VLOOKUP(C68,athlete,2,FALSE)) | E68: =IF(ISNA(VLOOKUP(C68,athlete,4,FALSE)),"",VLOOKUP(C68,athlete,4,FALSE))
A69: 61 | B69: 1 | D69: =IF(ISNA(VLOOKUP(C69,athlete,2,FALSE)),"",VLOOKUP(C69,athlete,2,FALSE)) | E69: =IF(ISNA(VLOOKUP(C69,athlete,4,FALSE)),"",VLOOKUP(C69,athlete,4,FALSE))
A70: 62 | B70: 2 | D70: =IF(ISNA(VLOOKUP(C70,athlete,2,FALSE)),"",VLOOKUP(C70,athlete,2,FALSE)) | E70: =IF(ISNA(VLOOKUP(C70,athlete,4,FALSE)),"",VLOOKUP(C70,athlete,4,FALSE))
A71: 63 | B71: 3 | D71: =IF(ISNA(VLOOKUP(C71,athlete,2,FALSE)),"",VLOOKUP(C71,athlete,2,FALSE)) | E71: =IF(ISNA(VLOOKUP(C71,athlete,4,FALSE)),"",VLOOKUP(C71,athlete,4,FALSE))
... A116: 108 | B116: 6 | D116: =IF(ISNA(VLOOKUP(C116,athlete,2,FALSE)),"",VLOOKUP(C116,athlete,2,FALSE)) | E116: =IF(ISNA(VLOOKUP(C116,athlete,4,FALSE)),"",VLOOKUP(C116,athlete,4,FALSE))
A117: 109 | D117: =IF(ISNA(VLOOKUP(C117,athlete,2,FALSE)),"",VLOOKUP(C117,athlete,2,FALSE)) | E117: =IF(ISNA(VLOOKUP(C117,athlete,4,FALSE)),"",VLOOKUP(C117,athlete,4,FALSE))
A118: 110 | D118: =IF(ISNA(VLOOKUP(C118,athlete,2,FALSE)),"",VLOOKUP(C118,athlete,2,FALSE)) | E118: =IF(ISNA(VLOOKUP(C118,athlete,4,FALSE)),"",VLOOKUP(C118,athlete,4,FALSE))
D119: =IF(ISNA(VLOOKUP(C119,athlete,2,FALSE)),"",VLOOKUP(C119,athlete,2,FALSE)) | E119: =IF(ISNA(VLOOKUP(C119,athlete,4,FALSE)),"",VLOOKUP(C119,athlete,4,FALSE))
E120: =IF(ISNA(VLOOKUP(C120,athlete,4,FALSE)),"",VLOOKUP(C120,athlete,4,FALSE))

Sheet 800
C1: Junior Varsity Team Points
C2: Glenbard North | D2: 9
C3: East Aurora | D3: 0
C4: South Elgin | D4: 2
A6: 800 Meter Run
A7: Place | B7: Scan | C7: Name | D7: School | E7: Time
A8: 1 | C8: LUBIN | D8: GN | E8: 2:45.1 | F8: 5
A9: 2 | B9: 111 | C9: =IF(ISNA(VLOOKUP(B9,athlete,2,FALSE)),"",VLOOKUP(B9,athlete,2,FALSE)) -> CASTELTON | D9: =IF(ISNA(VLOOKUP(B9,athlete,4,FALSE)),"",VLOOKUP(B9,athlete,4,FALSE)) -> GN | E9: 2:46.3 | F9: 3
A10: 3 | B10: 204 | C10: =IF(ISNA(VLOOKUP(B10,athlete,2,FALSE)),"",VLOOKUP(B10,athlete,2,FALSE)) -> Greco | D10: =IF(ISNA(VLOOKUP(B10,athlete,4,FALSE)),"",VLOOKUP(B10,athlete,4,FALSE)) -> SE | E10: 3:00.3 | F10: 2
A11: 4 | B11: 112 | C11: =IF(ISNA(VLOOKUP(B11,athlete,2,FALSE)),"",VLOOKUP(B11,athlete,2,FALSE)) -> COTTA | D11: =IF(ISNA(VLOOKUP(B11,athlete,4,FALSE)),"",VLOOKUP(B11,athlete,4,FALSE)) -> GN | E11: 3:00.9 | F11: 1
A12: 5 | B12: 154 | C12: =IF(ISNA(VLOOKUP(B12,athlete,2,FALSE)),"",VLOOKUP(B12,athlete,2,FALSE)) -> SPADLOWSKI | D12: =IF(ISNA(VLOOKUP(B12,athlete,4,FALSE)),"",VLOOKUP(B12,athlete,4,FALSE)) -> GN | E12: 3:01.7
A13: 6 | B13: 280 | C13: =IF(ISNA(VLOOKUP(B13,athlete,2,FALSE)),"",VLOOKUP(B13,athlete,2,FALSE)) -> Meraz | D13: =IF(ISNA(VLOOKUP(B13,athlete,4,FALSE)),"",VLOOKUP(B13,athlete,4,FALSE)) -> EA | E13: 3:01.9
A14: 7 | B14: 181 | C14: =IF(ISNA(VLOOKUP(B14,athlete,2,FALSE)),"",VLOOKUP(B14,athlete,2,FALSE)) -> Anderson | D14: =IF(ISNA(VLOOKUP(B14,athlete,4,FALSE)),"",VLOOKUP(B14,athlete,4,FALSE)) -> SE | E14: 3:13.7
A15: 8 | B15: 284 | C15: =IF(ISNA(VLOOKUP(B15,athlete,2,FALSE)),"",VLOOKUP(B15,athlete,2,FALSE)) -> Rodriguez | D15: =IF(ISNA(VLOOKUP(B15,athlete,4,FALSE)),"",VLOOKUP(B15,athlete,4,FALSE)) -> EA | E15: 3:15.4
A16: 9 | B16: 238 | C16: =IF(ISNA(VLOOKUP(B16,athlete,2,FALSE)),"",VLOOKUP(B16,athlete,2,FALSE)) -> Sepp | D16: =IF(ISNA(VLOOKUP(B16,athlete,4,FALSE)),"",VLOOKUP(B16,athlete,4,FALSE)) -> SE | E16: 3:22.5
A17: 10 | B17: 202 | C17: =IF(ISNA(VLOOKUP(B17,athlete,2,FALSE)),"",VLOOKUP(B17,athlete,2,FALSE)) -> Gallagher | D17: =IF(ISNA(VLOOKUP(B17,athlete,4,FALSE)),"",VLOOKUP(B17,athlete,4,FALSE)) -> SE | E17: 3:09.6
A18: 11 | B18: 160 | C18: =IF(ISNA(VLOOKUP(B18,athlete,2,FALSE)),"",VLOOKUP(B18,athlete,2,FALSE)) -> VAN BENTUM | D18: =IF(ISNA(VLOOKUP(B18,athlete,4,FALSE)),"",VLOOKUP(B18,athlete,4,FALSE)) -> GN | E18: 3:11.8
A19: 12 | B19: 122 | C19: =IF(ISNA(VLOOKUP(B19,athlete,2,FALSE)),"",VLOOKUP(B19,athlete,2,FALSE)) -> HERNANDEZ | D19: =IF(ISNA(VLOOKUP(B19,athlete,4,FALSE)),"",VLOOKUP(B19,athlete,4,FALSE)) -> GN | E19: 3:12.7
A20: 13 | B20: 129 | C20: =IF(ISNA(VLOOKUP(B20,athlete,2,FALSE)),"",VLOOKUP(B20,athlete,2,FALSE)) -> King | D20: =IF(ISNA(VLOOKUP(B20,athlete,4,FALSE)),"",VLOOKUP(B20,athlete,4,FALSE)) -> GN | E20: 3:18.5
A21: 14 | B21: 182 | C21: =IF(ISNA(VLOOKUP(B21,athlete,2,FALSE)),"",VLOOKUP(B21,athlete,2,FALSE)) -> Arana | D21: =IF(ISNA(VLOOKUP(B21,athlete,4,FALSE)),"",VLOOKUP(B21,athlete,4,FALSE)) -> SE | E21: 3:19.6
A22: 15 | B22: 271 | C22: =IF(ISNA(VLOOKUP(B22,athlete,2,FALSE)),"",VLOOKUP(B22,athlete,2,FALSE)) -> Gonsalez | D22: =IF(ISNA(VLOOKUP(B22,athlete,4,FALSE)),"",VLOOKUP(B22,athlete,4,FALSE)) -> EA | E22: 3:23.8
A23: 16 | B23: 226 | C23: =IF(ISNA(VLOOKUP(B23,athlete,2,FALSE)),"",VLOOKUP(B23,athlete,2,FALSE)) -> Patel | D23: =IF(ISNA(VLOOKUP(B23,athlete,4,FALSE)),"",VLOOKUP(B23,athlete,4,FALSE)) -> SE | E23: 3:27.8
... A30: 23 | B30: 187 | C30: =IF(ISNA(VLOOKUP(B30,athlete,2,FALSE)),"",VLOOKUP(B30,athlete,2,FALSE)) -> Boongaling | D30: =IF(ISNA(VLOOKUP(B30,athlete,4,FALSE)),"",VLOOKUP(B30,athlete,4,FALSE)) -> SE | E30: 4:08.7
A31: 24 | C31: =IF(ISNA(VLOOKUP(B31,athlete,2,FALSE)),"",VLOOKUP(B31,athlete,2,FALSE)) | D31: =IF(ISNA(VLOOKUP(B31,athlete,4,FALSE)),"",VLOOKUP(B31,athlete,4,FALSE))
A32: 25 | C32: =IF(ISNA(VLOOKUP(B32,athlete,2,FALSE)),"",VLOOKUP(B32,athlete,2,FALSE)) | D32: =IF(ISNA(VLOOKUP(B32,athlete,4,FALSE)),"",VLOOKUP(B32,athlete,4,FALSE))
A33: 26 | C33: =IF(ISNA(VLOOKUP(B33,athlete,2,FALSE)),"",VLOOKUP(B33,athlete,2,FALSE)) | D33: =IF(ISNA(VLOOKUP(B33,athlete,4,FALSE)),"",VLOOKUP(B33,athlete,4,FALSE))
A34: 27 | C34: =IF(ISNA(VLOOKUP(B34,athlete,2,FALSE)),"",VLOOKUP(B34,athlete,2,FALSE)) | D34: =IF(ISNA(VLOOKUP(B34,athlete,4,FALSE)),"",VLOOKUP(B34,athlete,4,FALSE))
A35: 28 | C35: =IF(ISNA(VLOOKUP(B35,athlete,2,FALSE)),"",VLOOKUP(B35,athlete,2,FALSE)) | D35: =IF(ISNA(VLOOKUP(B35,athlete,4,FALSE)),"",VLOOKUP(B35,athlete,4,FALSE))
A36: 29 | C36: =IF(ISNA(VLOOKUP(B36,athlete,2,FALSE)),"",VLOOKUP(B36,athlete,2,FALSE)) | D36: =IF(ISNA(VLOOKUP(B36,athlete,4,FALSE)),"",VLOOKUP(B36,athlete,4,FALSE))
A37: 30 | C37: =IF(ISNA(VLOOKUP(B37,athlete,2,FALSE)),"",VLOOKUP(B37,athlete,2,FALSE)) | D37: =IF(ISNA(VLOOKUP(B37,athlete,4,FALSE)),"",VLOOKUP(B37,athlete,4,FALSE))
A38: 31 | C38: =IF(ISNA(VLOOKUP(B38,athlete,2,FALSE)),"",VLOOKUP(B38,athlete,2,FALSE)) | D38: =IF(ISNA(VLOOKUP(B38,athlete,4,FALSE)),"",VLOOKUP(B38,athlete,4,FALSE))
A39: 32 | C39: =IF(ISNA(VLOOKUP(B39,athlete,2,FALSE)),"",VLOOKUP(B39,athlete,2,FALSE)) | D39: =IF(ISNA(VLOOKUP(B39,athlete,4,FALSE)),"",VLOOKUP(B39,athlete,4,FALSE))
A40: 33 | C40: =IF(ISNA(VLOOKUP(B40,athlete,2,FALSE)),"",VLOOKUP(B40,athlete,2,FALSE)) | D40: =IF(ISNA(VLOOKUP(B40,athlete,4,FALSE)),"",VLOOKUP(B40,athlete,4,FALSE))
A41: 34 | C41: =IF(ISNA(VLOOKUP(B41,athlete,2,FALSE)),"",VLOOKUP(B41,athlete,2,FALSE)) | D41: =IF(ISNA(VLOOKUP(B41,athlete,4,FALSE)),"",VLOOKUP(B41,athlete,4,FALSE))
A42: 35 | C42: =IF(ISNA(VLOOKUP(B42,athlete,2,FALSE)),"",VLOOKUP(B42,athlete,2,FALSE)) | D42: =IF(ISNA(VLOOKUP(B42,athlete,4,FALSE)),"",VLOOKUP(B42,athlete,4,FALSE))
... A46: 39 | C46: =IF(ISNA(VLOOKUP(B46,athlete,2,FALSE)),"",VLOOKUP(B46,athlete,2,FALSE)) | D46: =IF(ISNA(VLOOKUP(B46,athlete,4,FALSE)),"",VLOOKUP(B46,athlete,4,FALSE))

Sheet 4 x 240
A1: 4 X 240
E3: Junior Varsity Team Points
E4: Glenbard North | F4: 5
E5: East Aurora | F5: 0
E6: South Elgin | F6: 3
E8: Only one relay per school may score
B9: Place | C9: Heat Place | D9: Scan | E9: School | F9: Time | G9: Points
B10: 1 | C10: 1 | D10: 300 | E10: =IF(ISNA(VLOOKUP(D10,athlete,2,FALSE)),"",VLOOKUP(D10,athlete,2,FALSE)) -> Glenbard North | F10: 2:22.8 | G10: 5
B11: 2 | C11: 2 | D11: 301 | E11: =IF(ISNA(VLOOKUP(D11,athlete,2,FALSE)),"",VLOOKUP(D11,athlete,2,FALSE)) -> South Elgin | F11: 2:28.5 | G11: 3
B12: 3 | C12: 3 | D12: 300 | E12: =IF(ISNA(VLOOKUP(D12,athlete,2,FALSE)),"",VLOOKUP(D12,athlete,2,FALSE)) -> Glenbard North | F12: 2:44.2
B13: 4 | C13: 4 | D13: 302 | E13: =IF(ISNA(VLOOKUP(D13,athlete,2,FALSE)),"",VLOOKUP(D13,athlete,2,FALSE)) -> East Aurora | F13: 2:45.3
B14: 5 | C14: 1 | D14: 301 | E14: =IF(ISNA(VLOOKUP(D14,athlete,2,FALSE)),"",VLOOKUP(D14,athlete,2,FALSE)) -> South Elgin | F14: 2:46.6
B15: 6 | C15: 2 | D15: 300 | E15: =IF(ISNA(VLOOKUP(D15,athlete,2,FALSE)),"",VLOOKUP(D15,athlete,2,FALSE)) -> Glenbard North | F15: 2:47.0
B16: 7 | C16: 3 | D16: 301 | E16: =IF(ISNA(VLOOKUP(D16,athlete,2,FALSE)),"",VLOOKUP(D16,athlete,2,FALSE)) -> South Elgin | F16: 3:00.1
B17: 8 | C17: 4 | D17: 300 | E17: =IF(ISNA(VLOOKUP(D17,athlete,2,FALSE)),"",VLOOKUP(D17,athlete,2,FALSE)) -> Glenbard North | F17: 3:11.5
B18: 9 | C18: 1 | E18: =IF(ISNA(VLOOKUP(D18,athlete,2,FALSE)),"",VLOOKUP(D18,athlete,2,FALSE))
B19: 10 | C19: 2 | E19: =IF(ISNA(VLOOKUP(D19,athlete,2,FALSE)),"",VLOOKUP(D19,athlete,2,FALSE))
B20: 11 | C20: 3 | E20: =IF(ISNA(VLOOKUP(D20,athlete,2,FALSE)),"",VLOOKUP(D20,athlete,2,FALSE))
B21: 12 | C21: 4 | E21: =IF(ISNA(VLOOKUP(D21,athlete,2,FALSE)),"",VLOOKUP(D21,athlete,2,FALSE))

Sheet 400
A1: 400 Meter Dash
C3: Junior Varsity Team Points
C4: Glenbard North | D4: 3
C5: EAST AURORA | D5: 0
C6: South Elgin | D6: 8
A8: Place | B8: Scan | C8: Name | D8: School | E8: Time
A9: 1 | B9: 258 | C9: =IF(ISNA(VLOOKUP(B9,athlete,2,FALSE)),"",VLOOKUP(B9,athlete,2,FALSE)) | D9: =IF(ISNA(VLOOKUP(B9,athlete,4,FALSE)),"",VLOOKUP(B9,athlete,4,FALSE)) -> SE | E9: 1:05.7 | F9: 5
A10: 2 | B10: 114 | C10: =IF(ISNA(VLOOKUP(B10,athlete,2,FALSE)),"",VLOOKUP(B10,athlete,2,FALSE)) -> DZIEWIOR | D10: =IF(ISNA(VLOOKUP(B10,athlete,4,FALSE)),"",VLOOKUP(B10,athlete,4,FALSE)) -> GN | E10: 1:06.7 | F10: 3
A11: 3 | B11: 195 | C11: =IF(ISNA(VLOOKUP(B11,athlete,2,FALSE)),"",VLOOKUP(B11,athlete,2,FALSE)) -> Derowski | D11: =IF(ISNA(VLOOKUP(B11,athlete,4,FALSE)),"",VLOOKUP(B11,athlete,4,FALSE)) -> SE | E11: 1:10.2 | F11: 2
A12: 4 | B12: 261 | C12: =IF(ISNA(VLOOKUP(B12,athlete,2,FALSE)),"",VLOOKUP(B12,athlete,2,FALSE)) | D12: =IF(ISNA(VLOOKUP(B12,athlete,4,FALSE)),"",VLOOKUP(B12,athlete,4,FALSE)) -> SE | E12: 1:13.6 | F12: 1
A13: 5 | B13: 108 | C13: =IF(ISNA(VLOOKUP(B13,athlete,2,FALSE)),"",VLOOKUP(B13,athlete,2,FALSE)) -> BLUMHARDT | D13: =IF(ISNA(VLOOKUP(B13,athlete,4,FALSE)),"",VLOOKUP(B13,athlete,4,FALSE)) -> GN | E13: 1:14.0
A14: 6 | B14: 180 | C14: =IF(ISNA(VLOOKUP(B14,athlete,2,FALSE)),"",VLOOKUP(B14,athlete,2,FALSE)) -> Alvarado | D14: =IF(ISNA(VLOOKUP(B14,athlete,4,FALSE)),"",VLOOKUP(B14,athlete,4,FALSE)) -> SE | E14: 1:15.5
A15: 7 | B15: 236 | C15: =IF(ISNA(VLOOKUP(B15,athlete,2,FALSE)),"",VLOOKUP(B15,athlete,2,FALSE)) -> Salvadori | D15: =IF(ISNA(VLOOKUP(B15,athlete,4,FALSE)),"",VLOOKUP(B15,athlete,4,FALSE)) -> SE | E15: 1:15.6
A16: 8 | B16: 113 | C16: =IF(ISNA(VLOOKUP(B16,athlete,2,FALSE)),"",VLOOKUP(B16,athlete,2,FALSE)) -> DOLLAS | D16: =IF(ISNA(VLOOKUP(B16,athlete,4,FALSE)),"",VLOOKUP(B16,athlete,4,FALSE)) -> GN | E16: 1:15.7
A17: 9 | B17: 244 | C17: =IF(ISNA(VLOOKUP(B17,athlete,2,FALSE)),"",VLOOKUP(B17,athlete,2,FALSE)) -> Swanson | D17: =IF(ISNA(VLOOKUP(B17,athlete,4,FALSE)),"",VLOOKUP(B17,athlete,4,FALSE)) -> SE | E17: 1:17.1
A18: 10 | B18: 121 | C18: =IF(ISNA(VLOOKUP(B18,athlete,2,FALSE)),"",VLOOKUP(B18,athlete,2,FALSE)) -> HERBORD | D18: =IF(ISNA(VLOOKUP(B18,athlete,4,FALSE)),"",VLOOKUP(B18,athlete,4,FALSE)) -> GN | E18: 1:22.4
A19: 11 | B19: 129 | C19: =IF(ISNA(VLOOKUP(B19,athlete,2,FALSE)),"",VLOOKUP(B19,athlete,2,FALSE)) -> King | D19: =IF(ISNA(VLOOKUP(B19,athlete,4,FALSE)),"",VLOOKUP(B19,athlete,4,FALSE)) -> GN | E19: 1:22.9
A20: 12 | B20: 247 | C20: =IF(ISNA(VLOOKUP(B20,athlete,2,FALSE)),"",VLOOKUP(B20,athlete,2,FALSE)) -> Vios | D20: =IF(ISNA(VLOOKUP(B20,athlete,4,FALSE)),"",VLOOKUP(B20,athlete,4,FALSE)) -> SE | E20: 1:24.9
A21: 13 | B21: 226 | C21: =IF(ISNA(VLOOKUP(B21,athlete,2,FALSE)),"",VLOOKUP(B21,athlete,2,FALSE)) -> Patel | D21: =IF(ISNA(VLOOKUP(B21,athlete,4,FALSE)),"",VLOOKUP(B21,athlete,4,FALSE)) -> SE | E21: 1:26.5
A22: 14 | B22: 287 | C22: =IF(ISNA(VLOOKUP(B22,athlete,2,FALSE)),"",VLOOKUP(B22,athlete,2,FALSE)) -> Trejo | D22: =IF(ISNA(VLOOKUP(B22,athlete,4,FALSE)),"",VLOOKUP(B22,athlete,4,FALSE)) -> EA | E22: 1:28.8
A23: 15 | B23: 202 | C23: =IF(ISNA(VLOOKUP(B23,athlete,2,FALSE)),"",VLOOKUP(B23,athlete,2,FALSE)) -> Gallagher | D23: =IF(ISNA(VLOOKUP(B23,athlete,4,FALSE)),"",VLOOKUP(B23,athlete,4,FALSE)) -> SE | E23: 1:29.5
A24: 16 | B24: 183 | C24: =IF(ISNA(VLOOKUP(B24,athlete,2,FALSE)),"",VLOOKUP(B24,athlete,2,FALSE)) -> Bautista | D24: =IF(ISNA(VLOOKUP(B24,athlete,4,FALSE)),"",VLOOKUP(B24,athlete,4,FALSE)) -> SE | E24: 1:31.4
A25: 17 | B25: 152 | C25: =IF(ISNA(VLOOKUP(B25,athlete,2,FALSE)),"",VLOOKUP(B25,athlete,2,FALSE)) -> SAYANI | D25: =IF(ISNA(VLOOKUP(B25,athlete,4,FALSE)),"",VLOOKUP(B25,athlete,4,FALSE)) -> GN | E25: DQ
A26: 18 | C26: =IF(ISNA(VLOOKUP(B26,athlete,2,FALSE)),"",VLOOKUP(B26,athlete,2,FALSE)) | D26: =IF(ISNA(VLOOKUP(B26,athlete,4,FALSE)),"",VLOOKUP(B26,athlete,4,FALSE))
A27: 19 | C27: =IF(ISNA(VLOOKUP(B27,athlete,2,FALSE)),"",VLOOKUP(B27,athlete,2,FALSE)) | D27: =IF(ISNA(VLOOKUP(B27,athlete,4,FALSE)),"",VLOOKUP(B27,athlete,4,FALSE))
A28: 20 | C28: =IF(ISNA(VLOOKUP(B28,athlete,2,FALSE)),"",VLOOKUP(B28,athlete,2,FALSE)) | D28: =IF(ISNA(VLOOKUP(B28,athlete,4,FALSE)),"",VLOOKUP(B28,athlete,4,FALSE))
A29: 21 | C29: =IF(ISNA(VLOOKUP(B29,athlete,2,FALSE)),"",VLOOKUP(B29,athlete,2,FALSE)) | D29: =IF(ISNA(VLOOKUP(B29,athlete,4,FALSE)),"",VLOOKUP(B29,athlete,4,FALSE))
A30: 22 | C30: =IF(ISNA(VLOOKUP(B30,athlete,2,FALSE)),"",VLOOKUP(B30,athlete,2,FALSE)) | D30: =IF(ISNA(VLOOKUP(B30,athlete,4,FALSE)),"",VLOOKUP(B30,athlete,4,FALSE))
A31: 23 | C31: =IF(ISNA(VLOOKUP(B31,athlete,2,FALSE)),"",VLOOKUP(B31,athlete,2,FALSE)) | D31: =IF(ISNA(VLOOKUP(B31,athlete,4,FALSE)),"",VLOOKUP(B31,athlete,4,FALSE))
A32: 24 | C32: =IF(ISNA(VLOOKUP(B32,athlete,2,FALSE)),"",VLOOKUP(B32,athlete,2,FALSE)) | D32: =IF(ISNA(VLOOKUP(B32,athlete,4,FALSE)),"",VLOOKUP(B32,athlete,4,FALSE))
A33: 25 | C33: =IF(ISNA(VLOOKUP(B33,athlete,2,FALSE)),"",VLOOKUP(B33,athlete,2,FALSE)) | D33: =IF(ISNA(VLOOKUP(B33,athlete,4,FALSE)),"",VLOOKUP(B33,athlete,4,FALSE))
A34: 26 | C34: =IF(ISNA(VLOOKUP(B34,athlete,2,FALSE)),"",VLOOKUP(B34,athlete,2,FALSE)) | D34: =IF(ISNA(VLOOKUP(B34,athlete,4,FALSE)),"",VLOOKUP(B34,athlete,4,FALSE))
A35: 27 | C35: =IF(ISNA(VLOOKUP(B35,athlete,2,FALSE)),"",VLOOKUP(B35,athlete,2,FALSE)) | D35: =IF(ISNA(VLOOKUP(B35,athlete,4,FALSE)),"",VLOOKUP(B35,athlete,4,FALSE))
A36: 28 | C36: =IF(ISNA(VLOOKUP(B36,athlete,2,FALSE)),"",VLOOKUP(B36,athlete,2,FALSE)) | D36: =IF(ISNA(VLOOKUP(B36,athlete,4,FALSE)),"",VLOOKUP(B36,athlete,4,FALSE))
A37: 29 | C37: =IF(ISNA(VLOOKUP(B37,athlete,2,FALSE)),"",VLOOKUP(B37,athlete,2,FALSE)) | D37: =IF(ISNA(VLOOKUP(B37,athlete,4,FALSE)),"",VLOOKUP(B37,athlete,4,FALSE))
... A44: 36 | C44: =IF(ISNA(VLOOKUP(B44,athlete,2,FALSE)),"",VLOOKUP(B44,athlete,2,FALSE)) | D44: =IF(ISNA(VLOOKUP(B44,athlete,4,FALSE)),"",VLOOKUP(B44,athlete,4,FALSE))

Sheet 1600
C2: Junior Varsity Team Points
C3: Glenbard North | D3: 4
C4: Minooka | D4: 0
C5: South Elgin | D5: 7
B7: 1600 Meter Run
A8: Place | B8: Scan | C8: Name | D8: School | E8: Time
A9: 1 | B9: 192 | C9: =IF(ISNA(VLOOKUP(B9,athlete,2,FALSE)),"",VLOOKUP(B9,athlete,2,FALSE)) -> Czuprynski | D9: =IF(ISNA(VLOOKUP(B9,athlete,4,FALSE)),"",VLOOKUP(B9,athlete,4,FALSE)) -> SE | E9: 6:11.6 | F9: 5
A10: 2 | B10: 135 | C10: =IF(ISNA(VLOOKUP(B10,athlete,2,FALSE)),"",VLOOKUP(B10,athlete,2,FALSE)) -> MARINC | D10: =IF(ISNA(VLOOKUP(B10,athlete,4,FALSE)),"",VLOOKUP(B10,athlete,4,FALSE)) -> GN | E10: 6:14.0 | F10: 3
A11: 3 | B11: 246 | C11: =IF(ISNA(VLOOKUP(B11,athlete,2,FALSE)),"",VLOOKUP(B11,athlete,2,FALSE)) -> Vickrey | D11: =IF(ISNA(VLOOKUP(B11,athlete,4,FALSE)),"",VLOOKUP(B11,athlete,4,FALSE)) -> SE | E11: 6:30.9 | F11: 2
A12: 4 | B12: 106 | C12: =IF(ISNA(VLOOKUP(B12,athlete,2,FALSE)),"",VLOOKUP(B12,athlete,2,FALSE)) -> BARTKOWIAK | D12: =IF(ISNA(VLOOKUP(B12,athlete,4,FALSE)),"",VLOOKUP(B12,athlete,4,FALSE)) -> GN | E12: 6:34.6 | F12: 1
A13: 5 | B13: 154 | C13: =IF(ISNA(VLOOKUP(B13,athlete,2,FALSE)),"",VLOOKUP(B13,athlete,2,FALSE)) -> SPADLOWSKI | D13: =IF(ISNA(VLOOKUP(B13,athlete,4,FALSE)),"",VLOOKUP(B13,athlete,4,FALSE)) -> GN | E13: 6:36.2
A14: 6 | B14: 127 | C14: =IF(ISNA(VLOOKUP(B14,athlete,2,FALSE)),"",VLOOKUP(B14,athlete,2,FALSE)) -> JOHNSON | D14: =IF(ISNA(VLOOKUP(B14,athlete,4,FALSE)),"",VLOOKUP(B14,athlete,4,FALSE)) -> GN | E14: 6:50.0
A15: 7 | B15: 216 | C15: =IF(ISNA(VLOOKUP(B15,athlete,2,FALSE)),"",VLOOKUP(B15,athlete,2,FALSE)) -> Lusco | D15: =IF(ISNA(VLOOKUP(B15,athlete,4,FALSE)),"",VLOOKUP(B15,athlete,4,FALSE)) -> SE | E15: 6:56.3
A16: 8 | B16: 122 | C16: =IF(ISNA(VLOOKUP(B16,athlete,2,FALSE)),"",VLOOKUP(B16,athlete,2,FALSE)) -> HERNANDEZ | D16: =IF(ISNA(VLOOKUP(B16,athlete,4,FALSE)),"",VLOOKUP(B16,athlete,4,FALSE)) -> GN | E16: 7:09.4
A17: 9 | B17: 181 | C17: =IF(ISNA(VLOOKUP(B17,athlete,2,FALSE)),"",VLOOKUP(B17,athlete,2,FALSE)) -> Anderson | D17: =IF(ISNA(VLOOKUP(B17,athlete,4,FALSE)),"",VLOOKUP(B17,athlete,4,FALSE)) -> SE | E17: 7:12.8
A18: 10 | B18: 109 | C18: =IF(ISNA(VLOOKUP(B18,athlete,2,FALSE)),"",VLOOKUP(B18,athlete,2,FALSE)) -> BRIGGS | D18: =IF(ISNA(VLOOKUP(B18,athlete,4,FALSE)),"",VLOOKUP(B18,athlete,4,FALSE)) -> GN | E18: 7:17.8
A19: 11 | B19: 119 | C19: =IF(ISNA(VLOOKUP(B19,athlete,2,FALSE)),"",VLOOKUP(B19,athlete,2,FALSE)) -> GREENE | D19: =IF(ISNA(VLOOKUP(B19,athlete,4,FALSE)),"",VLOOKUP(B19,athlete,4,FALSE)) -> GN | E19: 7:24.8
A20: 12 | B20: 194 | C20: =IF(ISNA(VLOOKUP(B20,athlete,2,FALSE)),"",VLOOKUP(B20,athlete,2,FALSE)) -> DeLaney | D20: =IF(ISNA(VLOOKUP(B20,athlete,4,FALSE)),"",VLOOKUP(B20,athlete,4,FALSE)) -> SE | E20: 7:33.8
A21: 13 | B21: 277 | C21: =IF(ISNA(VLOOKUP(B21,athlete,2,FALSE)),"",VLOOKUP(B21,athlete,2,FALSE)) -> Lozano | D21: =IF(ISNA(VLOOKUP(B21,athlete,4,FALSE)),"",VLOOKUP(B21,athlete,4,FALSE)) -> EA | E21: 7:40.8
A22: 14 | B22: 279 | C22: =IF(ISNA(VLOOKUP(B22,athlete,2,FALSE)),"",VLOOKUP(B22,athlete,2,FALSE)) -> Marin | D22: =IF(ISNA(VLOOKUP(B22,athlete,4,FALSE)),"",VLOOKUP(B22,athlete,4,FALSE)) -> EA | E22: 8:30.8
A23: 15 | B23: 282 | C23: =IF(ISNA(VLOOKUP(B23,athlete,2,FALSE)),"",VLOOKUP(B23,athlete,2,FALSE)) -> Ramirez | D23: =IF(ISNA(VLOOKUP(B23,athlete,4,FALSE)),"",VLOOKUP(B23,athlete,4,FALSE)) -> EA | E23: 8:45.3
A24: 16 | B24: 242 | C24: =IF(ISNA(VLOOKUP(B24,athlete,2,FALSE)),"",VLOOKUP(B24,athlete,2,FALSE)) -> Stallings | D24: =IF(ISNA(VLOOKUP(B24,athlete,4,FALSE)),"",VLOOKUP(B24,athlete,4,FALSE)) -> SE | E24: 8:52.5
A25: 17 | B25: 144 | C25: =IF(ISNA(VLOOKUP(B25,athlete,2,FALSE)),"",VLOOKUP(B25,athlete,2,FALSE)) -> PATEL | D25: =IF(ISNA(VLOOKUP(B25,athlete,4,FALSE)),"",VLOOKUP(B25,athlete,4,FALSE)) -> GN | E25: 8:52.9
A26: 18 | C26: =IF(ISNA(VLOOKUP(B26,athlete,2,FALSE)),"",VLOOKUP(B26,athlete,2,FALSE)) | D26: =IF(ISNA(VLOOKUP(B26,athlete,4,FALSE)),"",VLOOKUP(B26,athlete,4,FALSE))
A27: 19 | C27: =IF(ISNA(VLOOKUP(B27,athlete,2,FALSE)),"",VLOOKUP(B27,athlete,2,FALSE)) | D27: =IF(ISNA(VLOOKUP(B27,athlete,4,FALSE)),"",VLOOKUP(B27,athlete,4,FALSE))
A28: 20 | C28: =IF(ISNA(VLOOKUP(B28,athlete,2,FALSE)),"",VLOOKUP(B28,athlete,2,FALSE)) | D28: =IF(ISNA(VLOOKUP(B28,athlete,4,FALSE)),"",VLOOKUP(B28,athlete,4,FALSE))
A29: 21 | C29: =IF(ISNA(VLOOKUP(B29,athlete,2,FALSE)),"",VLOOKUP(B29,athlete,2,FALSE)) | D29: =IF(ISNA(VLOOKUP(B29,athlete,4,FALSE)),"",VLOOKUP(B29,athlete,4,FALSE))
A30: 22 | C30: =IF(ISNA(VLOOKUP(B30,athlete,2,FALSE)),"",VLOOKUP(B30,athlete,2,FALSE)) | D30: =IF(ISNA(VLOOKUP(B30,athlete,4,FALSE)),"",VLOOKUP(B30,athlete,4,FALSE))
A31: 23 | C31: =IF(ISNA(VLOOKUP(B31,athlete,2,FALSE)),"",VLOOKUP(B31,athlete,2,FALSE)) | D31: =IF(ISNA(VLOOKUP(B31,athlete,4,FALSE)),"",VLOOKUP(B31,athlete,4,FALSE))
A32: 24 | C32: =IF(ISNA(VLOOKUP(B32,athlete,2,FALSE)),"",VLOOKUP(B32,athlete,2,FALSE)) | D32: =IF(ISNA(VLOOKUP(B32,athlete,4,FALSE)),"",VLOOKUP(B32,athlete,4,FALSE))
A33: 25 | C33: =IF(ISNA(VLOOKUP(B33,athlete,2,FALSE)),"",VLOOKUP(B33,athlete,2,FALSE)) | D33: =IF(ISNA(VLOOKUP(B33,athlete,4,FALSE)),"",VLOOKUP(B33,athlete,4,FALSE))
A34: 26 | C34: =IF(ISNA(VLOOKUP(B34,athlete,2,FALSE)),"",VLOOKUP(B34,athlete,2,FALSE)) | D34: =IF(ISNA(VLOOKUP(B34,athlete,4,FALSE)),"",VLOOKUP(B34,athlete,4,FALSE))
A35: 27 | C35: =IF(ISNA(VLOOKUP(B35,athlete,2,FALSE)),"",VLOOKUP(B35,athlete,2,FALSE)) | D35: =IF(ISNA(VLOOKUP(B35,athlete,4,FALSE)),"",VLOOKUP(B35,athlete,4,FALSE))
A36: 28 | C36: =IF(ISNA(VLOOKUP(B36,athlete,2,FALSE)),"",VLOOKUP(B36,athlete,2,FALSE)) | D36: =IF(ISNA(VLOOKUP(B36,athlete,4,FALSE)),"",VLOOKUP(B36,athlete,4,FALSE))
A37: 29 | C37: =IF(ISNA(VLOOKUP(B37,athlete,2,FALSE)),"",VLOOKUP(B37,athlete,2,FALSE)) | D37: =IF(ISNA(VLOOKUP(B37,athlete,4,FALSE)),"",VLOOKUP(B37,athlete,4,FALSE))
... A44: 36 | C44: =IF(ISNA(VLOOKUP(B44,athlete,2,FALSE)),"",VLOOKUP(B44,athlete,2,FALSE)) | D44: =IF(ISNA(VLOOKUP(B44,athlete,4,FALSE)),"",VLOOKUP(B44,athlete,4,FALSE))

Sheet 200
B1: 200 Meter Dash
E3: Junior Varsity Team Points
E4: Glenbard North | F4: 3
E5: East Aurora | F5: 0
E6: South Elgin | F6: 8
B8: Place | C8: Heat Place | D8: Scan | E8: Name | F8: School | G8: Time
B9: 1 | C9: 1 | D9: 250 | E9: =IF(ISNA(VLOOKUP(D9,athlete,2,FALSE)),"",VLOOKUP(D9,athlete,2,FALSE)) -> Wells | F9: =IF(ISNA(VLOOKUP(D9,athlete,4,FALSE)),"",VLOOKUP(D9,athlete,4,FALSE)) -> SE | G9: 27.8 | H9: 5
B10: 2 | C10: 1 | D10: 261 | E10: =IF(ISNA(VLOOKUP(D10,athlete,2,FALSE)),"",VLOOKUP(D10,athlete,2,FALSE)) | F10: =IF(ISNA(VLOOKUP(D10,athlete,4,FALSE)),"",VLOOKUP(D10,athlete,4,FALSE)) -> SE | G10: 27.9 | H10: 3
B11: 3 | C11: 2 | D11: 170 | E11: MOH HUSSEIN | F11: =IF(ISNA(VLOOKUP(D11,athlete,4,FALSE)),"",VLOOKUP(D11,athlete,4,FALSE)) -> GN | G11: 28.5 | H11: 2
B12: 4 | C12: 1 | D12: 162 | E12: =IF(ISNA(VLOOKUP(D12,athlete,2,FALSE)),"",VLOOKUP(D12,athlete,2,FALSE)) -> WAHRMAN | F12: =IF(ISNA(VLOOKUP(D12,athlete,4,FALSE)),"",VLOOKUP(D12,athlete,4,FALSE)) -> GN | G12: 29.2 | H12: 1
B13: 5 | C13: 1 | D13: 290 | E13: =IF(ISNA(VLOOKUP(D13,athlete,2,FALSE)),"",VLOOKUP(D13,athlete,2,FALSE)) -> Wiggins | F13: =IF(ISNA(VLOOKUP(D13,athlete,4,FALSE)),"",VLOOKUP(D13,athlete,4,FALSE)) -> EA | G13: 29.4
B14: 6 | C14: 2 | D14: 114 | E14: =IF(ISNA(VLOOKUP(D14,athlete,2,FALSE)),"",VLOOKUP(D14,athlete,2,FALSE)) -> DZIEWIOR | F14: =IF(ISNA(VLOOKUP(D14,athlete,4,FALSE)),"",VLOOKUP(D14,athlete,4,FALSE)) -> GN | G14: 30
B15: 7 | C15: 3 | D15: 199 | E15: =IF(ISNA(VLOOKUP(D15,athlete,2,FALSE)),"",VLOOKUP(D15,athlete,2,FALSE)) -> Duncan | F15: =IF(ISNA(VLOOKUP(D15,athlete,4,FALSE)),"",VLOOKUP(D15,athlete,4,FALSE)) -> SE | G15: 30.8
B16: 8 | C16: 2 | D16: 170 | E16: JOHNSON | F16: =IF(ISNA(VLOOKUP(D16,athlete,4,FALSE)),"",VLOOKUP(D16,athlete,4,FALSE)) -> GN | G16: 30.8
B17: 9 | C17: 1 | D17: 188 | E17: =IF(ISNA(VLOOKUP(D17,athlete,2,FALSE)),"",VLOOKUP(D17,athlete,2,FALSE)) -> Brown | F17: =IF(ISNA(VLOOKUP(D17,athlete,4,FALSE)),"",VLOOKUP(D17,athlete,4,FALSE)) -> SE | G17: 31.1
B18: 10 | C18: 3 | D18: 125 | E18: =IF(ISNA(VLOOKUP(D18,athlete,2,FALSE)),"",VLOOKUP(D18,athlete,2,FALSE)) -> IVY | F18: =IF(ISNA(VLOOKUP(D18,athlete,4,FALSE)),"",VLOOKUP(D18,athlete,4,FALSE)) -> GN | G18: 31.4
B19: 11 | C19: 2 | D19: 130 | E19: =IF(ISNA(VLOOKUP(D19,athlete,2,FALSE)),"",VLOOKUP(D19,athlete,2,FALSE)) -> Laherty | F19: =IF(ISNA(VLOOKUP(D19,athlete,4,FALSE)),"",VLOOKUP(D19,athlete,4,FALSE)) -> GN | G19: 31.8
B20: 12 | C20: 1 | D20: 116 | E20: =IF(ISNA(VLOOKUP(D20,athlete,2,FALSE)),"",VLOOKUP(D20,athlete,2,FALSE)) -> FISHER | F20: =IF(ISNA(VLOOKUP(D20,athlete,4,FALSE)),"",VLOOKUP(D20,athlete,4,FALSE)) -> GN | G20: 31.9
B21: 13 | C21: 4 | D21: 105 | E21: =IF(ISNA(VLOOKUP(D21,athlete,2,FALSE)),"",VLOOKUP(D21,athlete,2,FALSE)) -> AYYAD | F21: =IF(ISNA(VLOOKUP(D21,athlete,4,FALSE)),"",VLOOKUP(D21,athlete,4,FALSE)) -> GN | G21: 32.2
B22: 14 | C22: 3 | D22: 193 | E22: =IF(ISNA(VLOOKUP(D22,athlete,2,FALSE)),"",VLOOKUP(D22,athlete,2,FALSE)) -> Czyz | F22: =IF(ISNA(VLOOKUP(D22,athlete,4,FALSE)),"",VLOOKUP(D22,athlete,4,FALSE)) -> SE | G22: 32.4
B23: 15 | C23: 2 | D23: 185 | E23: =IF(ISNA(VLOOKUP(D23,athlete,2,FALSE)),"",VLOOKUP(D23,athlete,2,FALSE)) -> Berry | F23: =IF(ISNA(VLOOKUP(D23,athlete,4,FALSE)),"",VLOOKUP(D23,athlete,4,FALSE)) -> SE | G23: 32.4
B24: 16 | C24: 2 | D24: 213 | E24: =IF(ISNA(VLOOKUP(D24,athlete,2,FALSE)),"",VLOOKUP(D24,athlete,2,FALSE)) -> Lacorte | F24: =IF(ISNA(VLOOKUP(D24,athlete,4,FALSE)),"",VLOOKUP(D24,athlete,4,FALSE)) -> SE | G24: 32.6
B25: 17 | C25: 4 | D25: 289 | E25: =IF(ISNA(VLOOKUP(D25,athlete,2,FALSE)),"",VLOOKUP(D25,athlete,2,FALSE)) -> Sanchez | F25: =IF(ISNA(VLOOKUP(D25,athlete,4,FALSE)),"",VLOOKUP(D25,athlete,4,FALSE)) -> EA | G25: 32.9
B26: 18 | C26: 3 | D26: 170 | E26: GUZMAN | F26: =IF(ISNA(VLOOKUP(D26,athlete,4,FALSE)),"",VLOOKUP(D26,athlete,4,FALSE)) -> GN | G26: 32.9
B27: 19 | C27: 4 | D27: 165 | E27: =IF(ISNA(VLOOKUP(D27,athlete,2,FALSE)),"",VLOOKUP(D27,athlete,2,FALSE)) -> Ashley | F27: =IF(ISNA(VLOOKUP(D27,athlete,4,FALSE)),"",VLOOKUP(D27,athlete,4,FALSE)) -> GN | G27: 33.5
B28: 20 | C28: 3 | D28: 139 | E28: =IF(ISNA(VLOOKUP(D28,athlete,2,FALSE)),"",VLOOKUP(D28,athlete,2,FALSE)) -> MODI | F28: =IF(ISNA(VLOOKUP(D28,athlete,4,FALSE)),"",VLOOKUP(D28,athlete,4,FALSE)) -> GN | G28: 33.8
B29: 21 | C29: 3 | D29: 118 | E29: =IF(ISNA(VLOOKUP(D29,athlete,2,FALSE)),"",VLOOKUP(D29,athlete,2,FALSE)) -> GALANG | F29: =IF(ISNA(VLOOKUP(D29,athlete,4,FALSE)),"",VLOOKUP(D29,athlete,4,FALSE)) -> GN | G29: 33.9
B30: 22 | C30: 2 | D30: 268 | E30: =IF(ISNA(VLOOKUP(D30,athlete,2,FALSE)),"",VLOOKUP(D30,athlete,2,FALSE)) -> Cerecero | F30: =IF(ISNA(VLOOKUP(D30,athlete,4,FALSE)),"",VLOOKUP(D30,athlete,4,FALSE)) -> EA | G30: 34.2
B31: 23 | C31: 3 | D31: 117 | E31: =IF(ISNA(VLOOKUP(D31,athlete,2,FALSE)),"",VLOOKUP(D31,athlete,2,FALSE)) -> GALANG | F31: =IF(ISNA(VLOOKUP(D31,athlete,4,FALSE)),"",VLOOKUP(D31,athlete,4,FALSE)) -> GN | G31: 34.7
B32: 24 | C32: 4 | D32: 237 | E32: =IF(ISNA(VLOOKUP(D32,athlete,2,FALSE)),"",VLOOKUP(D32,athlete,2,FALSE)) -> Sarno | F32: =IF(ISNA(VLOOKUP(D32,athlete,4,FALSE)),"",VLOOKUP(D32,athlete,4,FALSE)) -> SE | G32: 35
B33: 25 | C33: 4 | D33: 230 | E33: =IF(ISNA(VLOOKUP(D33,athlete,2,FALSE)),"",VLOOKUP(D33,athlete,2,FALSE)) -> Richardson | F33: =IF(ISNA(VLOOKUP(D33,athlete,4,FALSE)),"",VLOOKUP(D33,athlete,4,FALSE)) -> SE | G33: 35.1
B34: 26 | C34: 4 | D34: 142 | E34: =IF(ISNA(VLOOKUP(D34,athlete,2,FALSE)),"",VLOOKUP(D34,athlete,2,FALSE)) -> NGUYEN | F34: =IF(ISNA(VLOOKUP(D34,athlete,4,FALSE)),"",VLOOKUP(D34,athlete,4,FALSE)) -> GN | G34: 35.1
B35: 27 | C35: 1 | D35: 219 | E35: =IF(ISNA(VLOOKUP(D35,athlete,2,FALSE)),"",VLOOKUP(D35,athlete,2,FALSE)) -> Marks | F35: =IF(ISNA(VLOOKUP(D35,athlete,4,FALSE)),"",VLOOKUP(D35,athlete,4,FALSE)) -> SE | G35: 35.6
B36: 28 | C36: 4 | D36: 197 | E36: =IF(ISNA(VLOOKUP(D36,athlete,2,FALSE)),"",VLOOKUP(D36,athlete,2,FALSE)) -> Doherty | F36: =IF(ISNA(VLOOKUP(D36,athlete,4,FALSE)),"",VLOOKUP(D36,athlete,4,FALSE)) -> SE | G36: 35.8
B37: 29 | C37: 1 | D37: 215 | E37: =IF(ISNA(VLOOKUP(D37,athlete,2,FALSE)),"",VLOOKUP(D37,athlete,2,FALSE)) -> Lara | F37: =IF(ISNA(VLOOKUP(D37,athlete,4,FALSE)),"",VLOOKUP(D37,athlete,4,FALSE)) -> SE | G37: 35.9
B38: 30 | C38: 2 | D38: 121 | E38: =IF(ISNA(VLOOKUP(D38,athlete,2,FALSE)),"",VLOOKUP(D38,athlete,2,FALSE)) -> HERBORD | F38: =IF(ISNA(VLOOKUP(D38,athlete,4,FALSE)),"",VLOOKUP(D38,athlete,4,FALSE)) -> GN | G38: 35.9
... B43: 35 | C43: 3 | D43: 164 | E43: =IF(ISNA(VLOOKUP(D43,athlete,2,FALSE)),"",VLOOKUP(D43,athlete,2,FALSE)) -> WIND | F43: =IF(ISNA(VLOOKUP(D43,athlete,4,FALSE)),"",VLOOKUP(D43,athlete,4,FALSE)) -> GN | G43: 37.6
B44: 36 | C44: 4 | D44: 170 | E44: DIMAGIO | F44: =IF(ISNA(VLOOKUP(D44,athlete,4,FALSE)),"",VLOOKUP(D44,athlete,4,FALSE)) -> GN | G44: 38
B45: 37 | C45: 1 | D45: 281 | E45: =IF(ISNA(VLOOKUP(D45,athlete,2,FALSE)),"",VLOOKUP(D45,athlete,2,FALSE)) -> Patino | F45: =IF(ISNA(VLOOKUP(D45,athlete,4,FALSE)),"",VLOOKUP(D45,athlete,4,FALSE)) -> EA | G45: 39.5
B46: 38 | C46: 2 | D46: 203 | E46: =IF(ISNA(VLOOKUP(D46,athlete,2,FALSE)),"",VLOOKUP(D46,athlete,2,FALSE)) -> Garcia | F46: =IF(ISNA(VLOOKUP(D46,athlete,4,FALSE)),"",VLOOKUP(D46,athlete,4,FALSE)) -> SE | G46: 39.5
B47: 39 | C47: 3 | D47: 285 | E47: =IF(ISNA(VLOOKUP(D47,athlete,2,FALSE)),"",VLOOKUP(D47,athlete,2,FALSE)) -> Solis | F47: =IF(ISNA(VLOOKUP(D47,athlete,4,FALSE)),"",VLOOKUP(D47,athlete,4,FALSE)) -> EA | G47: 40
B48: 40 | C48: 4 | D48: 274 | E48: =IF(ISNA(VLOOKUP(D48,athlete,2,FALSE)),"",VLOOKUP(D48,athlete,2,FALSE)) -> Hernandez | F48: =IF(ISNA(VLOOKUP(D48,athlete,4,FALSE)),"",VLOOKUP(D48,athlete,4,FALSE)) -> EA | G48: 40.3
B49: 41 | C49: 1 | D49: 273 | E49: =IF(ISNA(VLOOKUP(D49,athlete,2,FALSE)),"",VLOOKUP(D49,athlete,2,FALSE)) -> Harris | F49: =IF(ISNA(VLOOKUP(D49,athlete,4,FALSE)),"",VLOOKUP(D49,athlete,4,FALSE)) -> EA | G49: 41.2
B50: 42 | C50: 2 | E50: =IF(ISNA(VLOOKUP(D50,athlete,2,FALSE)),"",VLOOKUP(D50,athlete,2,FALSE)) | F50: =IF(ISNA(VLOOKUP(D50,athlete,4,FALSE)),"",VLOOKUP(D50,athlete,4,FALSE))
B51: 43 | C51: 3 | E51: =IF(ISNA(VLOOKUP(D51,athlete,2,FALSE)),"",VLOOKUP(D51,athlete,2,FALSE)) | F51: =IF(ISNA(VLOOKUP(D51,athlete,4,FALSE)),"",VLOOKUP(D51,athlete,4,FALSE))
B52: 44 | C52: 4 | E52: =IF(ISNA(VLOOKUP(D52,athlete,2,FALSE)),"",VLOOKUP(D52,athlete,2,FALSE)) | F52: =IF(ISNA(VLOOKUP(D52,athlete,4,FALSE)),"",VLOOKUP(D52,athlete,4,FALSE))
B53: 45 | C53: 1 | E53: =IF(ISNA(VLOOKUP(D53,athlete,2,FALSE)),"",VLOOKUP(D53,athlete,2,FALSE)) | F53: =IF(ISNA(VLOOKUP(D53,athlete,4,FALSE)),"",VLOOKUP(D53,athlete,4,FALSE))
B54: 46 | C54: 2 | E54: =IF(ISNA(VLOOKUP(D54,athlete,2,FALSE)),"",VLOOKUP(D54,athlete,2,FALSE)) | F54: =IF(ISNA(VLOOKUP(D54,athlete,4,FALSE)),"",VLOOKUP(D54,athlete,4,FALSE))
B55: 47 | C55: 3 | E55: =IF(ISNA(VLOOKUP(D55,athlete,2,FALSE)),"",VLOOKUP(D55,athlete,2,FALSE)) | F55: =IF(ISNA(VLOOKUP(D55,athlete,4,FALSE)),"",VLOOKUP(D55,athlete,4,FALSE))
B56: 48 | C56: 4 | E56: =IF(ISNA(VLOOKUP(D56,athlete,2,FALSE)),"",VLOOKUP(D56,athlete,2,FALSE)) | F56: =IF(ISNA(VLOOKUP(D56,athlete,4,FALSE)),"",VLOOKUP(D56,athlete,4,FALSE))
B57: 49 | C57: 1 | E57: =IF(ISNA(VLOOKUP(D57,athlete,2,FALSE)),"",VLOOKUP(D57,athlete,2,FALSE)) | F57: =IF(ISNA(VLOOKUP(D57,athlete,4,FALSE)),"",VLOOKUP(D57,athlete,4,FALSE))
B58: 50 | C58: 2 | E58: =IF(ISNA(VLOOKUP(D58,athlete,2,FALSE)),"",VLOOKUP(D58,athlete,2,FALSE)) | F58: =IF(ISNA(VLOOKUP(D58,athlete,4,FALSE)),"",VLOOKUP(D58,athlete,4,FALSE))
B59: 51 | C59: 3 | E59: =IF(ISNA(VLOOKUP(D59,athlete,2,FALSE)),"",VLOOKUP(D59,athlete,2,FALSE)) | F59: =IF(ISNA(VLOOKUP(D59,athlete,4,FALSE)),"",VLOOKUP(D59,athlete,4,FALSE))
B60: 52 | C60: 4 | E60: =IF(ISNA(VLOOKUP(D60,athlete,2,FALSE)),"",VLOOKUP(D60,athlete,2,FALSE)) | F60: =IF(ISNA(VLOOKUP(D60,athlete,4,FALSE)),"",VLOOKUP(D60,athlete,4,FALSE))
B61: 53 | C61: 1 | E61: =IF(ISNA(VLOOKUP(D61,athlete,2,FALSE)),"",VLOOKUP(D61,athlete,2,FALSE)) | F61: =IF(ISNA(VLOOKUP(D61,athlete,4,FALSE)),"",VLOOKUP(D61,athlete,4,FALSE))
... B71: 63 | C71: 3 | E71: =IF(ISNA(VLOOKUP(D71,athlete,2,FALSE)),"",VLOOKUP(D71,athlete,2,FALSE)) | F71: =IF(ISNA(VLOOKUP(D71,athlete,4,FALSE)),"",VLOOKUP(D71,athlete,4,FALSE))
B72: 64 | E72: =IF(ISNA(VLOOKUP(D72,athlete,2,FALSE)),"",VLOOKUP(D72,athlete,2,FALSE)) | F72: =IF(ISNA(VLOOKUP(D72,athlete,4,FALSE)),"",VLOOKUP(D72,athlete,4,FALSE))

Sheet 4 x 400
A1: 4 X 400 Meter Relay
A4: Junior Varsity | E4: Only one relay per school may score
A5: Place | B5: Heat Place | C5: Scan | D5: School | E5: Time | F5: Points
A6: 1 | B6: 1 | C6: 301 | D6: =IF(ISNA(VLOOKUP(C6,athlete,2,FALSE)),"",VLOOKUP(C6,athlete,2,FALSE)) -> South Elgin | E6: 4:43.7 | F6: 5
A7: 2 | B7: 2 | C7: 300 | D7: =IF(ISNA(VLOOKUP(C7,athlete,2,FALSE)),"",VLOOKUP(C7,athlete,2,FALSE)) -> Glenbard North | E7: 5:00.9 | F7: 3
A8: 3 | B8: 3 | C8: 300 | D8: =IF(ISNA(VLOOKUP(C8,athlete,2,FALSE)),"",VLOOKUP(C8,athlete,2,FALSE)) -> Glenbard North | E8: 5:26.0
A9: 4 | B9: 4 | C9: 301 | D9: =IF(ISNA(VLOOKUP(C9,athlete,2,FALSE)),"",VLOOKUP(C9,athlete,2,FALSE)) -> South Elgin | E9: 5:28.0
A10: 5 | B10: 5 | C10: 301 | D10: =IF(ISNA(VLOOKUP(C10,athlete,2,FALSE)),"",VLOOKUP(C10,athlete,2,FALSE)) -> South Elgin | E10: 5:27.4
A11: 6 | B11: 1 | C11: 302 | D11: =IF(ISNA(VLOOKUP(C11,athlete,2,FALSE)),"",VLOOKUP(C11,athlete,2,FALSE)) -> East Aurora | E11: 5:36.9
A12: 7 | B12: 2 | C12: 301 | D12: =IF(ISNA(VLOOKUP(C12,athlete,2,FALSE)),"",VLOOKUP(C12,athlete,2,FALSE)) -> South Elgin | E12: 5:38.4
A13: 8 | B13: 3 | C13: 302 | D13: =IF(ISNA(VLOOKUP(C13,athlete,2,FALSE)),"",VLOOKUP(C13,athlete,2,FALSE)) -> East Aurora | E13: 6:18.7
A14: 9 | B14: 4 | D14: =IF(ISNA(VLOOKUP(C14,athlete,2,FALSE)),"",VLOOKUP(C14,athlete,2,FALSE))
A15: 10 | B15: 1 | D15: =IF(ISNA(VLOOKUP(C15,athlete,2,FALSE)),"",VLOOKUP(C15,athlete,2,FALSE))
A16: 11 | B16: 2 | D16: =IF(ISNA(VLOOKUP(C16,athlete,2,FALSE)),"",VLOOKUP(C16,athlete,2,FALSE))
A17: 12 | B17: 3 | D17: =IF(ISNA(VLOOKUP(C17,athlete,2,FALSE)),"",VLOOKUP(C17,athlete,2,FALSE))
D19: Junior Varsity Team Points
D20: Glenbard North | E20: 3
D21: East Aurora | E21: 0
D22: South Elgin | E22: 5

Sheet Shot Put
B1: Shot Put Junior Varsity | D1: 32'4.25" = 3204.25
A2: Scan | B2: Name | C2: School | D2: 1st | E2: 2nd | F2: 3rd | G2: 4th | H2: Best | I2: Place
A3: 251 | B3: =IF(ISNA(VLOOKUP(A3,athlete,2,FALSE)),"",VLOOKUP(A3,athlete,2,FALSE)) -> Williams | C3: =IF(ISNA(VLOOKUP(A3,athlete,4,FALSE)),"",VLOOKUP(A3,athlete,4,FALSE)) -> SE | D3: 3406.75 | E3: 3510.75 | F3: 3106 | G3: X | H3: =MAX(D3:G3) -> 3510.75 | I3: =RANK(H3,$H$3:H27) -> 1 | J3: 5
A4: 156 | B4: =IF(ISNA(VLOOKUP(A4,athlete,2,FALSE)),"",VLOOKUP(A4,athlete,2,FALSE)) -> STIMMELL | C4: =IF(ISNA(VLOOKUP(A4,athlete,4,FALSE)),"",VLOOKUP(A4,athlete,4,FALSE)) -> GN | D4: 2802.5 | E4: 2906.5 | F4: 3004 | G4: 3003.5 | H4: =MAX(D4:G4) -> 3004 | I4: =RANK(H4,$H$3:H28) -> 2 | J4: 3
A5: 176 | B5: Adkins | C5: =IF(ISNA(VLOOKUP(A5,athlete,4,FALSE)),"",VLOOKUP(A5,athlete,4,FALSE)) -> SE | D5: 2609.25 | E5: 2808.75 | F5: 2905.75 | G5: 2806 | H5: =MAX(D5:G5) -> 2905.75 | I5: =RANK(H5,$H$3:H29) -> 3 | J5: 2 | L5: Team Points
A6: 138 | B6: =IF(ISNA(VLOOKUP(A6,athlete,2,FALSE)),"",VLOOKUP(A6,athlete,2,FALSE)) -> MILSCHEWSKI | C6: =IF(ISNA(VLOOKUP(A6,athlete,4,FALSE)),"",VLOOKUP(A6,athlete,4,FALSE)) -> GN | D6: 2801.25 | E6: 2802.25 | F6: 2707 | G6: 2800.5 | H6: =MAX(D6:G6) -> 2802.25 | I6: =RANK(H6,$H$3:H30) -> 4 | J6: 1
A7: 225 | B7: =IF(ISNA(VLOOKUP(A7,athlete,2,FALSE)),"",VLOOKUP(A7,athlete,2,FALSE)) -> Pacheco | C7: =IF(ISNA(VLOOKUP(A7,athlete,4,FALSE)),"",VLOOKUP(A7,athlete,4,FALSE)) -> SE | D7: 2311 | E7: 2609 | F7: 2506.25 | G7: 2605.5 | H7: =MAX(D7:G7) -> 2609 | I7: =RANK(H7,$H$3:H31) -> 5
A8: 110 | B8: =IF(ISNA(VLOOKUP(A8,athlete,2,FALSE)),"",VLOOKUP(A8,athlete,2,FALSE)) -> CARBON | C8: =IF(ISNA(VLOOKUP(A8,athlete,4,FALSE)),"",VLOOKUP(A8,athlete,4,FALSE)) -> GN | D8: 2410.25 | E8: 2502 | F8: 2605 | G8: 2606.25 | H8: =MAX(D8:G8) -> 2606.25 | I8: =RANK(H8,$H$3:H32) -> 6 | L8: Glenbard North | M8: 4
A9: 157 | B9: Stokes | C9: =IF(ISNA(VLOOKUP(A9,athlete,4,FALSE)),"",VLOOKUP(A9,athlete,4,FALSE)) -> GN | D9: 2500 | E9: 2501 | F9: 2602 | G9: 2600 | H9: =MAX(D9:G9) -> 2602 | I9: =RANK(H9,$H$3:H33) -> 7 | L9: East Aurora | M9: 0
A10: 292 | B10: Garcia | C10: =IF(ISNA(VLOOKUP(A10,athlete,4,FALSE)),"",VLOOKUP(A10,athlete,4,FALSE)) -> EA | D10: 2501.5 | E10: 2601.5 | F10: 2408 | G10: 2504 | H10: =MAX(D10:G10) -> 2601.5 | I10: =RANK(H10,$H$3:H34) -> 8 | L10: South Elgin | M10: 7
A11: 236 | B11: =IF(ISNA(VLOOKUP(A11,athlete,2,FALSE)),"",VLOOKUP(A11,athlete,2,FALSE)) -> Salvadori | C11: =IF(ISNA(VLOOKUP(A11,athlete,4,FALSE)),"",VLOOKUP(A11,athlete,4,FALSE)) -> SE | D11: 2505 | E11: 2403 | F11: 2404.75 | G11: 2310.25 | H11: =MAX(D11:G11) -> 2505 | I11: =RANK(H11,$H$3:H35) -> 9
A12: 212 | B12: =IF(ISNA(VLOOKUP(A12,athlete,2,FALSE)),"",VLOOKUP(A12,athlete,2,FALSE)) -> Kulevich | C12: =IF(ISNA(VLOOKUP(A12,athlete,4,FALSE)),"",VLOOKUP(A12,athlete,4,FALSE)) -> SE | D12: 2409.25 | E12: 2401 | F12: 2204.25 | G12: 2500.5 | H12: =MAX(D12:G12) -> 2500.5 | I12: =RANK(H12,$H$3:H36) -> 10
A13: 169 | B13: Bey | C13: =IF(ISNA(VLOOKUP(A13,athlete,4,FALSE)),"",VLOOKUP(A13,athlete,4,FALSE)) -> GN | D13: 2303.25 | E13: 2305.5 | F13: 2207.75 | G13: 2402.25 | H13: =MAX(D13:G13) -> 2402.25 | I13: =RANK(H13,$H$3:H37) -> 11
A14: 137 | B14: =IF(ISNA(VLOOKUP(A14,athlete,2,FALSE)),"",VLOOKUP(A14,athlete,2,FALSE)) -> MENARD | C14: =IF(ISNA(VLOOKUP(A14,athlete,4,FALSE)),"",VLOOKUP(A14,athlete,4,FALSE)) -> GN | D14: 1804 | E14: 1810 | F14: 1910 | G14: 2105.5 | H14: =MAX(D14:G14) -> 2105.5 | I14: =RANK(H14,$H$3:H38) -> 12
A15: 210 | B15: =IF(ISNA(VLOOKUP(A15,athlete,2,FALSE)),"",VLOOKUP(A15,athlete,2,FALSE)) -> Huesca | C15: =IF(ISNA(VLOOKUP(A15,athlete,4,FALSE)),"",VLOOKUP(A15,athlete,4,FALSE)) -> SE | D15: 2008 | E15: 2008 | F15: 2004.75 | G15: 2004 | H15: =MAX(D15:G15) -> 2008 | I15: =RANK(H15,$H$3:H39) -> 13
A16: 150 | B16: =IF(ISNA(VLOOKUP(A16,athlete,2,FALSE)),"",VLOOKUP(A16,athlete,2,FALSE)) -> ROHDE | C16: =IF(ISNA(VLOOKUP(A16,athlete,4,FALSE)),"",VLOOKUP(A16,athlete,4,FALSE)) -> GN | D16: 1804 | E16: 2001 | F16: 2005 | G16: 1810.25 | H16: =MAX(D16:G16) -> 2005 | I16: =RANK(H16,$H$3:H40) -> 14
A17: 179 | B17: =IF(ISNA(VLOOKUP(A17,athlete,2,FALSE)),"",VLOOKUP(A17,athlete,2,FALSE)) -> Allen | C17: =IF(ISNA(VLOOKUP(A17,athlete,4,FALSE)),"",VLOOKUP(A17,athlete,4,FALSE)) -> SE | D17: 2004 | E17: X | F17: 1609..75 | G17: 2002.5 | H17: =MAX(D17:G17) -> 2004 | I17: =RANK(H17,$H$3:H41) -> 15
A18: 171 | B18: Glover | C18: =IF(ISNA(VLOOKUP(A18,athlete,4,FALSE)),"",VLOOKUP(A18,athlete,4,FALSE)) -> GN | D18: 1902 | E18: 2002 | F18: 1808.5 | G18: 1906.5 | H18: =MAX(D18:G18) -> 2002 | I18: =RANK(H18,$H$3:H42) -> 16
A19: 233 | B19: =IF(ISNA(VLOOKUP(A19,athlete,2,FALSE)),"",VLOOKUP(A19,athlete,2,FALSE)) -> Roldan | C19: =IF(ISNA(VLOOKUP(A19,athlete,4,FALSE)),"",VLOOKUP(A19,athlete,4,FALSE)) -> SE | D19: 1600.25 | E19: 1805 | F19: 1607 | G19: 1811.25 | H19: =MAX(D19:G19) -> 1811.25 | I19: =RANK(H19,$H$3:H43) -> 17
A20: 270 | B20: =IF(ISNA(VLOOKUP(A20,athlete,2,FALSE)),"",VLOOKUP(A20,athlete,2,FALSE)) -> Dzaferi | C20: =IF(ISNA(VLOOKUP(A20,athlete,4,FALSE)),"",VLOOKUP(A20,athlete,4,FALSE)) -> EA | D20: 1409.5 | E20: 1411.5 | F20: 1601.5 | G20: 1707 | H20: =MAX(D20:G20) -> 1707 | I20: =RANK(H20,$H$3:H44) -> 18
A21: 279 | B21: Marin | C21: =IF(ISNA(VLOOKUP(A21,athlete,4,FALSE)),"",VLOOKUP(A21,athlete,4,FALSE)) -> EA | D21: 1505 | E21: 1308 | F21: 1601.5 | G21: 1604.5 | H21: =MAX(D21:G21) -> 1604.5 | I21: =RANK(H21,$H$3:H45) -> 19
A22: 285 | B22: Solis | C22: =IF(ISNA(VLOOKUP(A22,athlete,4,FALSE)),"",VLOOKUP(A22,athlete,4,FALSE)) -> EA | D22: 1501.5 | E22: 1410.5 | F22: 1506.5 | G22: 1411.5 | H22: =MAX(D22:G22) -> 1506.5 | I22: =RANK(H22,$H$3:H46) -> 20
B23: =IF(ISNA(VLOOKUP(A23,athlete,2,FALSE)),"",VLOOKUP(A23,athlete,2,FALSE)) | C23: =IF(ISNA(VLOOKUP(A23,athlete,4,FALSE)),"",VLOOKUP(A23,athlete,4,FALSE)) | H23: =MAX(D23:G23) -> 0 | I23: =RANK(H23,$H$3:H47) -> 21
B24: =IF(ISNA(VLOOKUP(A24,athlete,2,FALSE)),"",VLOOKUP(A24,athlete,2,FALSE)) | C24: =IF(ISNA(VLOOKUP(A24,athlete,4,FALSE)),"",VLOOKUP(A24,athlete,4,FALSE)) | H24: =MAX(D24:G24) -> 0 | I24: =RANK(H24,$H$3:H48) -> 21
B25: =IF(ISNA(VLOOKUP(A25,athlete,2,FALSE)),"",VLOOKUP(A25,athlete,2,FALSE)) | C25: =IF(ISNA(VLOOKUP(A25,athlete,4,FALSE)),"",VLOOKUP(A25,athlete,4,FALSE)) | H25: =MAX(D25:G25) -> 0 | I25: =RANK(H25,$H$3:H49) -> 21
B26: =IF(ISNA(VLOOKUP(A26,athlete,2,FALSE)),"",VLOOKUP(A26,athlete,2,FALSE)) | C26: =IF(ISNA(VLOOKUP(A26,athlete,4,FALSE)),"",VLOOKUP(A26,athlete,4,FALSE)) | H26: =MAX(D26:G26) -> 0 | I26: =RANK(H26,$H$3:H50) -> 21
B27: =IF(ISNA(VLOOKUP(A27,athlete,2,FALSE)),"",VLOOKUP(A27,athlete,2,FALSE)) | C27: =IF(ISNA(VLOOKUP(A27,athlete,4,FALSE)),"",VLOOKUP(A27,athlete,4,FALSE)) | H27: =MAX(D27:G27) -> 0 | I27: =RANK(H27,$H$3:H51) -> 21
B28: =IF(ISNA(VLOOKUP(A28,athlete,2,FALSE)),"",VLOOKUP(A28,athlete,2,FALSE)) | C28: =IF(ISNA(VLOOKUP(A28,athlete,4,FALSE)),"",VLOOKUP(A28,athlete,4,FALSE)) | H28: =MAX(D28:G28) -> 0 | I28: =RANK(H28,$H$3:H52) -> 21
B29: =IF(ISNA(VLOOKUP(A29,athlete,2,FALSE)),"",VLOOKUP(A29,athlete,2,FALSE)) | C29: =IF(ISNA(VLOOKUP(A29,athlete,4,FALSE)),"",VLOOKUP(A29,athlete,4,FALSE)) | H29: =MAX(D29:G29) -> 0 | I29: =RANK(H29,$H$3:H53) -> 21
B30: =IF(ISNA(VLOOKUP(A30,athlete,2,FALSE)),"",VLOOKUP(A30,athlete,2,FALSE)) | C30: =IF(ISNA(VLOOKUP(A30,athlete,4,FALSE)),"",VLOOKUP(A30,athlete,4,FALSE)) | H30: =MAX(D30:G30) -> 0 | I30: =RANK(H30,$H$3:H54) -> 21
B31: =IF(ISNA(VLOOKUP(A31,athlete,2,FALSE)),"",VLOOKUP(A31,athlete,2,FALSE)) | C31: =IF(ISNA(VLOOKUP(A31,athlete,4,FALSE)),"",VLOOKUP(A31,athlete,4,FALSE)) | H31: =MAX(D31:G31) -> 0 | I31: =RANK(H31,$H$3:H55) -> 21
B32: =IF(ISNA(VLOOKUP(A32,athlete,2,FALSE)),"",VLOOKUP(A32,athlete,2,FALSE)) | C32: =IF(ISNA(VLOOKUP(A32,athlete,4,FALSE)),"",VLOOKUP(A32,athlete,4,FALSE)) | H32: =MAX(D32:G32) -> 0 | I32: =RANK(H32,$H$3:H56) -> 21
B33: =IF(ISNA(VLOOKUP(A33,athlete,2,FALSE)),"",VLOOKUP(A33,athlete,2,FALSE)) | C33: =IF(ISNA(VLOOKUP(A33,athlete,4,FALSE)),"",VLOOKUP(A33,athlete,4,FALSE)) | H33: =MAX(D33:G33) -> 0 | I33: =RANK(H33,$H$3:H57) -> 21
B34: =IF(ISNA(VLOOKUP(A34,athlete,2,FALSE)),"",VLOOKUP(A34,athlete,2,FALSE)) | C34: =IF(ISNA(VLOOKUP(A34,athlete,4,FALSE)),"",VLOOKUP(A34,athlete,4,FALSE)) | H34: =MAX(D34:G34) -> 0 | I34: =RANK(H34,$H$3:H58) -> 21
... B44: =IF(ISNA(VLOOKUP(A44,athlete,2,FALSE)),"",VLOOKUP(A44,athlete,2,FALSE)) | C44: =IF(ISNA(VLOOKUP(A44,athlete,4,FALSE)),"",VLOOKUP(A44,athlete,4,FALSE)) | H44: =MAX(D44:G44) -> 0 | I44: =RANK(H44,$H$3:H68) -> 21

Sheet High Jump
A1: Scan | B1: Name | C1: School | D1: Level | E1: Place | F1: Best | G1: 4' | J1: 4'2"
A2: 162 | B2: WAHRMAN | C2: =IF(ISNA(VLOOKUP(A2,athlete,4,FALSE)),"",VLOOKUP(A2,athlete,4,FALSE)) -> GN | E2: 1
A3: 133 | B3: LUKIC | C3: =IF(ISNA(VLOOKUP(A3,athlete,4,FALSE)),"",VLOOKUP(A3,athlete,4,FALSE)) -> GN | E3: 4
A4: 107 | B4: =IF(ISNA(VLOOKUP(A4,athlete,2,FALSE)),"",VLOOKUP(A4,athlete,2,FALSE)) -> BLACKMAN | C4: =IF(ISNA(VLOOKUP(A4,athlete,4,FALSE)),"",VLOOKUP(A4,athlete,4,FALSE)) -> GN | E4: 9
A5: 153 | B5: =IF(ISNA(VLOOKUP(A5,athlete,2,FALSE)),"",VLOOKUP(A5,athlete,2,FALSE)) -> SCHWETZ | C5: =IF(ISNA(VLOOKUP(A5,athlete,4,FALSE)),"",VLOOKUP(A5,athlete,4,FALSE)) -> GN | E5: 6
A6: 105 | B6: =IF(ISNA(VLOOKUP(A6,athlete,2,FALSE)),"",VLOOKUP(A6,athlete,2,FALSE)) -> AYYAD | C6: =IF(ISNA(VLOOKUP(A6,athlete,4,FALSE)),"",VLOOKUP(A6,athlete,4,FALSE)) -> GN | E6: 6
A7: 146 | B7: =IF(ISNA(VLOOKUP(A7,athlete,2,FALSE)),"",VLOOKUP(A7,athlete,2,FALSE)) -> Perez | C7: =IF(ISNA(VLOOKUP(A7,athlete,4,FALSE)),"",VLOOKUP(A7,athlete,4,FALSE)) -> GN | E7: 10
A8: 134 | B8: =IF(ISNA(VLOOKUP(A8,athlete,2,FALSE)),"",VLOOKUP(A8,athlete,2,FALSE)) -> MAHONEY | C8: =IF(ISNA(VLOOKUP(A8,athlete,4,FALSE)),"",VLOOKUP(A8,athlete,4,FALSE)) -> GN | E8: 3
A9: 163 | B9: =IF(ISNA(VLOOKUP(A9,athlete,2,FALSE)),"",VLOOKUP(A9,athlete,2,FALSE)) -> WALKER | C9: =IF(ISNA(VLOOKUP(A9,athlete,4,FALSE)),"",VLOOKUP(A9,athlete,4,FALSE)) -> GN | E9: 7
A10: 147 | B10: =IF(ISNA(VLOOKUP(A10,athlete,2,FALSE)),"",VLOOKUP(A10,athlete,2,FALSE)) -> PICKFORD | C10: =IF(ISNA(VLOOKUP(A10,athlete,4,FALSE)),"",VLOOKUP(A10,athlete,4,FALSE)) -> GN | E10: 8
A11: 253 | B11: =IF(ISNA(VLOOKUP(A11,athlete,2,FALSE)),"",VLOOKUP(A11,athlete,2,FALSE)) -> Ziemba | C11: =IF(ISNA(VLOOKUP(A11,athlete,4,FALSE)),"",VLOOKUP(A11,athlete,4,FALSE)) -> SE | E11: 10
A12: 217 | B12: =IF(ISNA(VLOOKUP(A12,athlete,2,FALSE)),"",VLOOKUP(A12,athlete,2,FALSE)) -> Mahkri | C12: =IF(ISNA(VLOOKUP(A12,athlete,4,FALSE)),"",VLOOKUP(A12,athlete,4,FALSE)) -> SE | E12: 5
A13: 227 | B13: =IF(ISNA(VLOOKUP(A13,athlete,2,FALSE)),"",VLOOKUP(A13,athlete,2,FALSE)) -> Patel | C13: =IF(ISNA(VLOOKUP(A13,athlete,4,FALSE)),"",VLOOKUP(A13,athlete,4,FALSE)) -> SE | E13: 10
A14: 221 | B14: =IF(ISNA(VLOOKUP(A14,athlete,2,FALSE)),"",VLOOKUP(A14,athlete,2,FALSE)) -> Mikulecky | C14: =IF(ISNA(VLOOKUP(A14,athlete,4,FALSE)),"",VLOOKUP(A14,athlete,4,FALSE)) -> SE | E14: 2
A15: 189 | B15: =IF(ISNA(VLOOKUP(A15,athlete,2,FALSE)),"",VLOOKUP(A15,athlete,2,FALSE)) -> Bush | C15: =IF(ISNA(VLOOKUP(A15,athlete,4,FALSE)),"",VLOOKUP(A15,athlete,4,FALSE)) -> SE | E15: 5
B16: =IF(ISNA(VLOOKUP(A16,athlete,2,FALSE)),"",VLOOKUP(A16,athlete,2,FALSE)) | C16: =IF(ISNA(VLOOKUP(A16,athlete,4,FALSE)),"",VLOOKUP(A16,athlete,4,FALSE))
B17: =IF(ISNA(VLOOKUP(A17,athlete,2,FALSE)),"",VLOOKUP(A17,athlete,2,FALSE)) | C17: =IF(ISNA(VLOOKUP(A17,athlete,4,FALSE)),"",VLOOKUP(A17,athlete,4,FALSE))
B18: =IF(ISNA(VLOOKUP(A18,athlete,2,FALSE)),"",VLOOKUP(A18,athlete,2,FALSE)) | C18: =IF(ISNA(VLOOKUP(A18,athlete,4,FALSE)),"",VLOOKUP(A18,athlete,4,FALSE))
B19: =IF(ISNA(VLOOKUP(A19,athlete,2,FALSE)),"",VLOOKUP(A19,athlete,2,FALSE)) | C19: =IF(ISNA(VLOOKUP(A19,athlete,4,FALSE)),"",VLOOKUP(A19,athlete,4,FALSE))
B20: =IF(ISNA(VLOOKUP(A20,athlete,2,FALSE)),"",VLOOKUP(A20,athlete,2,FALSE)) | C20: =IF(ISNA(VLOOKUP(A20,athlete,4,FALSE)),"",VLOOKUP(A20,athlete,4,FALSE))
B21: =IF(ISNA(VLOOKUP(A21,athlete,2,FALSE)),"",VLOOKUP(A21,athlete,2,FALSE)) | C21: =IF(ISNA(VLOOKUP(A21,athlete,4,FALSE)),"",VLOOKUP(A21,athlete,4,FALSE))
B22: =IF(ISNA(VLOOKUP(A22,athlete,2,FALSE)),"",VLOOKUP(A22,athlete,2,FALSE)) | C22: =IF(ISNA(VLOOKUP(A22,athlete,4,FALSE)),"",VLOOKUP(A22,athlete,4,FALSE))
B23: =IF(ISNA(VLOOKUP(A23,athlete,2,FALSE)),"",VLOOKUP(A23,athlete,2,FALSE)) | C23: =IF(ISNA(VLOOKUP(A23,athlete,4,FALSE)),"",VLOOKUP(A23,athlete,4,FALSE))
B24: =IF(ISNA(VLOOKUP(A24,athlete,2,FALSE)),"",VLOOKUP(A24,athlete,2,FALSE)) | C24: =IF(ISNA(VLOOKUP(A24,athlete,4,FALSE)),"",VLOOKUP(A24,athlete,4,FALSE))
B25: =IF(ISNA(VLOOKUP(A25,athlete,2,FALSE)),"",VLOOKUP(A25,athlete,2,FALSE)) | C25: =IF(ISNA(VLOOKUP(A25,athlete,4,FALSE)),"",VLOOKUP(A25,athlete,4,FALSE))
B26: =IF(ISNA(VLOOKUP(A26,athlete,2,FALSE)),"",VLOOKUP(A26,athlete,2,FALSE)) | C26: =IF(ISNA(VLOOKUP(A26,athlete,4,FALSE)),"",VLOOKUP(A26,athlete,4,FALSE))
B27: =IF(ISNA(VLOOKUP(A27,athlete,2,FALSE)),"",VLOOKUP(A27,athlete,2,FALSE)) | C27: =IF(ISNA(VLOOKUP(A27,athlete,4,FALSE)),"",VLOOKUP(A27,athlete,4,FALSE))
... B33: =IF(ISNA(VLOOKUP(A33,athlete,2,FALSE)),"",VLOOKUP(A33,athlete,2,FALSE)) | C33: =IF(ISNA(VLOOKUP(A33,athlete,4,FALSE)),"",VLOOKUP(A33,athlete,4,FALSE))
B34: Team Points
B35: Glenbard North | C35: 8
B36: East Aurora | C36: 0
B37: South Elgin | C37: 3

Sheet Pole Vault
A1: Scan | B1: Name | C1: School | D1: Level | E1: Place | F1: Best
B2: ANN MIKULECKY | C2: SE | E2: 42222
B3: =IF(ISNA(VLOOKUP(A3,athlete,2,FALSE)),"",VLOOKUP(A3,athlete,2,FALSE)) | C3: =IF(ISNA(VLOOKUP(A3,athlete,4,FALSE)),"",VLOOKUP(A3,athlete,4,FALSE))
B4: =IF(ISNA(VLOOKUP(A4,athlete,2,FALSE)),"",VLOOKUP(A4,athlete,2,FALSE)) | C4: =IF(ISNA(VLOOKUP(A4,athlete,4,FALSE)),"",VLOOKUP(A4,athlete,4,FALSE))
B5: =IF(ISNA(VLOOKUP(A5,athlete,2,FALSE)),"",VLOOKUP(A5,athlete,2,FALSE)) | C5: =IF(ISNA(VLOOKUP(A5,athlete,4,FALSE)),"",VLOOKUP(A5,athlete,4,FALSE))
B6: =IF(ISNA(VLOOKUP(A6,athlete,2,FALSE)),"",VLOOKUP(A6,athlete,2,FALSE)) | C6: =IF(ISNA(VLOOKUP(A6,athlete,4,FALSE)),"",VLOOKUP(A6,athlete,4,FALSE))
B7: =IF(ISNA(VLOOKUP(A7,athlete,2,FALSE)),"",VLOOKUP(A7,athlete,2,FALSE)) | C7: =IF(ISNA(VLOOKUP(A7,athlete,4,FALSE)),"",VLOOKUP(A7,athlete,4,FALSE))
B8: =IF(ISNA(VLOOKUP(A8,athlete,2,FALSE)),"",VLOOKUP(A8,athlete,2,FALSE)) | C8: =IF(ISNA(VLOOKUP(A8,athlete,4,FALSE)),"",VLOOKUP(A8,athlete,4,FALSE))
B9: =IF(ISNA(VLOOKUP(A9,athlete,2,FALSE)),"",VLOOKUP(A9,athlete,2,FALSE)) | C9: =IF(ISNA(VLOOKUP(A9,athlete,4,FALSE)),"",VLOOKUP(A9,athlete,4,FALSE))
B10: =IF(ISNA(VLOOKUP(A10,athlete,2,FALSE)),"",VLOOKUP(A10,athlete,2,FALSE)) | C10: =IF(ISNA(VLOOKUP(A10,athlete,4,FALSE)),"",VLOOKUP(A10,athlete,4,FALSE))
B11: =IF(ISNA(VLOOKUP(A11,athlete,2,FALSE)),"",VLOOKUP(A11,athlete,2,FALSE)) | C11: =IF(ISNA(VLOOKUP(A11,athlete,4,FALSE)),"",VLOOKUP(A11,athlete,4,FALSE))
B12: =IF(ISNA(VLOOKUP(A12,athlete,2,FALSE)),"",VLOOKUP(A12,athlete,2,FALSE)) | C12: =IF(ISNA(VLOOKUP(A12,athlete,4,FALSE)),"",VLOOKUP(A12,athlete,4,FALSE))
B13: =IF(ISNA(VLOOKUP(A13,athlete,2,FALSE)),"",VLOOKUP(A13,athlete,2,FALSE)) | C13: =IF(ISNA(VLOOKUP(A13,athlete,4,FALSE)),"",VLOOKUP(A13,athlete,4,FALSE))
B14: =IF(ISNA(VLOOKUP(A14,athlete,2,FALSE)),"",VLOOKUP(A14,athlete,2,FALSE)) | C14: =IF(ISNA(VLOOKUP(A14,athlete,4,FALSE)),"",VLOOKUP(A14,athlete,4,FALSE))
... B33: =IF(ISNA(VLOOKUP(A33,athlete,2,FALSE)),"",VLOOKUP(A33,athlete,2,FALSE)) | C33: =IF(ISNA(VLOOKUP(A33,athlete,4,FALSE)),"",VLOOKUP(A33,athlete,4,FALSE))
B35: Team Points
B36: Glenbard North | C36: 0
B37: East Aurora | C37: 0
B38: South Elgin | C38: 5

Sheet Long Jump
B1: LONG JUMP | D1: 1304.25 =13'04.25"
A2: Scan | B2: Name | C2: School | D2: 1st | E2: 2nd | F2: 3rd | G2: Best | H2: Place
A3: 195 | B3: =IF(ISNA(VLOOKUP(A3,athlete,2,FALSE)),"",VLOOKUP(A3,athlete,2,FALSE)) -> Derowski | C3: =IF(ISNA(VLOOKUP(A3,athlete,4,FALSE)),"",VLOOKUP(A3,athlete,4,FALSE)) -> SE | D3: 1202.25 | E3: 1302.5 | F3: - | G3: =MAX(D3:F3) -> 1302.5 | H3: =RANK(G3,$G$3:G27) -> 6
A4: 162 | B4: =IF(ISNA(VLOOKUP(A4,athlete,2,FALSE)),"",VLOOKUP(A4,athlete,2,FALSE)) -> WAHRMAN | C4: =IF(ISNA(VLOOKUP(A4,athlete,4,FALSE)),"",VLOOKUP(A4,athlete,4,FALSE)) -> GN | D4: - | E4: 1608.5 | F4: 1606.75 | G4: =MAX(D4:F4) -> 1608.5 | H4: =RANK(G4,$G$3:G27) -> 1
A5: 158 | B5: =IF(ISNA(VLOOKUP(A5,athlete,2,FALSE)),"",VLOOKUP(A5,athlete,2,FALSE)) -> SUGGS | C5: =IF(ISNA(VLOOKUP(A5,athlete,4,FALSE)),"",VLOOKUP(A5,athlete,4,FALSE)) -> GN | D5: 1501.5 | E5: 1504.5 | F5: 1505.25 | G5: =MAX(D5:F5) -> 1505.25 | H5: =RANK(G5,$G$3:G28) -> 2
A6: 116 | B6: =IF(ISNA(VLOOKUP(A6,athlete,2,FALSE)),"",VLOOKUP(A6,athlete,2,FALSE)) -> FISHER | C6: =IF(ISNA(VLOOKUP(A6,athlete,4,FALSE)),"",VLOOKUP(A6,athlete,4,FALSE)) -> GN | D6: 1309.75 | E6: 1407 | F6: 1307 | G6: =MAX(D6:F6) -> 1407 | H6: =RANK(G6,$G$3:G29) -> 4
A7: 120 | B7: =IF(ISNA(VLOOKUP(A7,athlete,2,FALSE)),"",VLOOKUP(A7,athlete,2,FALSE)) -> GUZMAN | C7: =IF(ISNA(VLOOKUP(A7,athlete,4,FALSE)),"",VLOOKUP(A7,athlete,4,FALSE)) -> GN | D7: - | E7: 1206 | F7: 1210.25 | G7: =MAX(D7:F7) -> 1210.25 | H7: =RANK(G7,$G$3:G30) -> 7 | K7: Team Points
A8: 167 | B8: =IF(ISNA(VLOOKUP(A8,athlete,2,FALSE)),"",VLOOKUP(A8,athlete,2,FALSE)) -> Paye | C8: =IF(ISNA(VLOOKUP(A8,athlete,4,FALSE)),"",VLOOKUP(A8,athlete,4,FALSE)) -> GN | D8: 1405.75 | E8: 1406 | F8: 1401.5 | G8: =MAX(D8:F8) -> 1406 | H8: =RANK(G8,$G$3:G31) -> 5 | K8: Glenbard North | L8: 8
A9: 166 | B9: =IF(ISNA(VLOOKUP(A9,athlete,2,FALSE)),"",VLOOKUP(A9,athlete,2,FALSE)) -> Dominguez | C9: =IF(ISNA(VLOOKUP(A9,athlete,4,FALSE)),"",VLOOKUP(A9,athlete,4,FALSE)) -> GN | D9: - | E9: 1203.25 | F9: - | G9: =MAX(D9:F9) -> 1203.25 | H9: =RANK(G9,$G$3:G32) -> 8 | K9: East Aurora | L9: 0
A10: 164 | B10: =IF(ISNA(VLOOKUP(A10,athlete,2,FALSE)),"",VLOOKUP(A10,athlete,2,FALSE)) -> WIND | C10: =IF(ISNA(VLOOKUP(A10,athlete,4,FALSE)),"",VLOOKUP(A10,athlete,4,FALSE)) -> GN | D10: - | E10: - | F10: - | G10: =MAX(D10:F10) -> 0 | H10: =RANK(G10,$G$3:G33) -> 13 | K10: South Elgin | L10: 1
A11: 181 | B11: =IF(ISNA(VLOOKUP(A11,athlete,2,FALSE)),"",VLOOKUP(A11,athlete,2,FALSE)) -> Anderson | C11: =IF(ISNA(VLOOKUP(A11,athlete,4,FALSE)),"",VLOOKUP(A11,athlete,4,FALSE)) -> SE | D11: - | E11: 909.5 | F11: 1007.75 | G11: =MAX(D11:F11) -> 1007.75 | H11: =RANK(G11,$G$3:G34) -> 10
A12: 201 | B12: =IF(ISNA(VLOOKUP(A12,athlete,2,FALSE)),"",VLOOKUP(A12,athlete,2,FALSE)) -> Forsythe | C12: =IF(ISNA(VLOOKUP(A12,athlete,4,FALSE)),"",VLOOKUP(A12,athlete,4,FALSE)) -> SE | D12: - | E12: - | F12: - | G12: =MAX(D12:F12) -> 0 | H12: =RANK(G12,$G$3:G35) -> 13
A13: 142 | B13: =IF(ISNA(VLOOKUP(A13,athlete,2,FALSE)),"",VLOOKUP(A13,athlete,2,FALSE)) -> NGUYEN | C13: =IF(ISNA(VLOOKUP(A13,athlete,4,FALSE)),"",VLOOKUP(A13,athlete,4,FALSE)) -> GN | D13: - | E13: - | F13: - | G13: =MAX(D13:F13) -> 0 | H13: =RANK(G13,$G$3:G36) -> 13
A14: 278 | B14: =IF(ISNA(VLOOKUP(A14,athlete,2,FALSE)),"",VLOOKUP(A14,athlete,2,FALSE)) -> Magana | C14: =IF(ISNA(VLOOKUP(A14,athlete,4,FALSE)),"",VLOOKUP(A14,athlete,4,FALSE)) -> EA | D14: 1004 | E14: 808.75 | F14: - | G14: =MAX(D14:F14) -> 1004 | H14: =RANK(G14,$G$3:G37) -> 11
A15: 240 | B15: =IF(ISNA(VLOOKUP(A15,athlete,2,FALSE)),"",VLOOKUP(A15,athlete,2,FALSE)) -> Smith | C15: =IF(ISNA(VLOOKUP(A15,athlete,4,FALSE)),"",VLOOKUP(A15,athlete,4,FALSE)) -> SE | D15: 1402.5 | E15: 1404.5 | F15: 1409.75 | G15: =MAX(D15:F15) -> 1409.75 | H15: =RANK(G15,$G$3:G38) -> 3
A16: 143 | B16: =IF(ISNA(VLOOKUP(A16,athlete,2,FALSE)),"",VLOOKUP(A16,athlete,2,FALSE)) -> Page | C16: =IF(ISNA(VLOOKUP(A16,athlete,4,FALSE)),"",VLOOKUP(A16,athlete,4,FALSE)) -> GN | D16: - | E16: - | F16: - | G16: =MAX(D16:F16) -> 0 | H16: =RANK(G16,$G$3:G39) -> 13
A17: 202 | B17: =IF(ISNA(VLOOKUP(A17,athlete,2,FALSE)),"",VLOOKUP(A17,athlete,2,FALSE)) -> Gallagher | C17: =IF(ISNA(VLOOKUP(A17,athlete,4,FALSE)),"",VLOOKUP(A17,athlete,4,FALSE)) -> SE | D17: - | E17: 900.5 | F17: 908.5 | G17: =MAX(D17:F17) -> 908.5 | H17: =RANK(G17,$G$3:G40) -> 12
A18: 160 | B18: =IF(ISNA(VLOOKUP(A18,athlete,2,FALSE)),"",VLOOKUP(A18,athlete,2,FALSE)) -> VAN BENTUM | C18: =IF(ISNA(VLOOKUP(A18,athlete,4,FALSE)),"",VLOOKUP(A18,athlete,4,FALSE)) -> GN | D18: 1007.75 | E18: 1009.75 | F18: - | G18: =MAX(D18:F18) -> 1009.75 | H18: =RANK(G18,$G$3:G41) -> 9
A19: 211 | B19: =IF(ISNA(VLOOKUP(A19,athlete,2,FALSE)),"",VLOOKUP(A19,athlete,2,FALSE)) -> Knight | C19: =IF(ISNA(VLOOKUP(A19,athlete,4,FALSE)),"",VLOOKUP(A19,athlete,4,FALSE)) -> SE | D19: - | E19: - | F19: - | G19: =MAX(D19:F19) -> 0 | H19: =RANK(G19,$G$3:G42) -> 13
A20: 252 | B20: =IF(ISNA(VLOOKUP(A20,athlete,2,FALSE)),"",VLOOKUP(A20,athlete,2,FALSE)) -> Winger | C20: =IF(ISNA(VLOOKUP(A20,athlete,4,FALSE)),"",VLOOKUP(A20,athlete,4,FALSE)) -> SE | D20: - | E20: - | F20: - | G20: =MAX(D20:F20) -> 0 | H20: =RANK(G20,$G$3:G43) -> 13
B21: =IF(ISNA(VLOOKUP(A21,athlete,2,FALSE)),"",VLOOKUP(A21,athlete,2,FALSE)) | C21: =IF(ISNA(VLOOKUP(A21,athlete,4,FALSE)),"",VLOOKUP(A21,athlete,4,FALSE)) | G21: =MAX(D21:F21) -> 0 | H21: =RANK(G21,$G$3:G44) -> 13
B22: =IF(ISNA(VLOOKUP(A22,athlete,2,FALSE)),"",VLOOKUP(A22,athlete,2,FALSE)) | C22: =IF(ISNA(VLOOKUP(A22,athlete,4,FALSE)),"",VLOOKUP(A22,athlete,4,FALSE)) | G22: =MAX(D22:F22) -> 0 | H22: =RANK(G22,$G$3:G45) -> 13
B23: =IF(ISNA(VLOOKUP(A23,athlete,2,FALSE)),"",VLOOKUP(A23,athlete,2,FALSE)) | C23: =IF(ISNA(VLOOKUP(A23,athlete,4,FALSE)),"",VLOOKUP(A23,athlete,4,FALSE)) | G23: =MAX(D23:F23) -> 0 | H23: =RANK(G23,$G$3:G46) -> 13
B24: =IF(ISNA(VLOOKUP(A24,athlete,2,FALSE)),"",VLOOKUP(A24,athlete,2,FALSE)) | C24: =IF(ISNA(VLOOKUP(A24,athlete,4,FALSE)),"",VLOOKUP(A24,athlete,4,FALSE)) | G24: =MAX(D24:F24) -> 0 | H24: =RANK(G24,$G$3:G47) -> 13
B25: =IF(ISNA(VLOOKUP(A25,athlete,2,FALSE)),"",VLOOKUP(A25,athlete,2,FALSE)) | C25: =IF(ISNA(VLOOKUP(A25,athlete,4,FALSE)),"",VLOOKUP(A25,athlete,4,FALSE)) | G25: =MAX(D25:F25) -> 0 | H25: =RANK(G25,$G$3:G48) -> 13
B26: =IF(ISNA(VLOOKUP(A26,athlete,2,FALSE)),"",VLOOKUP(A26,athlete,2,FALSE)) | C26: =IF(ISNA(VLOOKUP(A26,athlete,4,FALSE)),"",VLOOKUP(A26,athlete,4,FALSE)) | G26: =MAX(D26:F26) -> 0 | H26: =RANK(G26,$G$3:G49) -> 13
B27: =IF(ISNA(VLOOKUP(A27,athlete,2,FALSE)),"",VLOOKUP(A27,athlete,2,FALSE)) | C27: =IF(ISNA(VLOOKUP(A27,athlete,4,FALSE)),"",VLOOKUP(A27,athlete,4,FALSE)) | G27: =MAX(D27:F27) -> 0 | H27: =RANK(G27,$G$3:G50) -> 13
B28: =IF(ISNA(VLOOKUP(A28,athlete,2,FALSE)),"",VLOOKUP(A28,athlete,2,FALSE)) | C28: =IF(ISNA(VLOOKUP(A28,athlete,4,FALSE)),"",VLOOKUP(A28,athlete,4,FALSE)) | G28: =MAX(D28:F28) -> 0 | H28: =RANK(G28,$G$28:G44) -> 1
B29: =IF(ISNA(VLOOKUP(A29,athlete,2,FALSE)),"",VLOOKUP(A29,athlete,2,FALSE)) | C29: =IF(ISNA(VLOOKUP(A29,athlete,4,FALSE)),"",VLOOKUP(A29,athlete,4,FALSE)) | G29: =MAX(D29:F29) -> 0 | H29: =RANK(G29,$G$28:G45) -> 1
B30: =IF(ISNA(VLOOKUP(A30,athlete,2,FALSE)),"",VLOOKUP(A30,athlete,2,FALSE)) | C30: =IF(ISNA(VLOOKUP(A30,athlete,4,FALSE)),"",VLOOKUP(A30,athlete,4,FALSE)) | G30: =MAX(D30:F30) -> 0 | H30: =RANK(G30,$G$28:G46) -> 1
B31: =IF(ISNA(VLOOKUP(A31,athlete,2,FALSE)),"",VLOOKUP(A31,athlete,2,FALSE)) | C31: =IF(ISNA(VLOOKUP(A31,athlete,4,FALSE)),"",VLOOKUP(A31,athlete,4,FALSE)) | G31: =MAX(D31:F31) -> 0 | H31: =RANK(G31,$G$28:G47) -> 1
B32: =IF(ISNA(VLOOKUP(A32,athlete,2,FALSE)),"",VLOOKUP(A32,athlete,2,FALSE)) | C32: =IF(ISNA(VLOOKUP(A32,athlete,4,FALSE)),"",VLOOKUP(A32,athlete,4,FALSE)) | G32: =MAX(D32:F32) -> 0 | H32: =RANK(G32,$G$28:G48) -> 1
B33: =IF(ISNA(VLOOKUP(A33,athlete,2,FALSE)),"",VLOOKUP(A33,athlete,2,FALSE)) | C33: =IF(ISNA(VLOOKUP(A33,athlete,4,FALSE)),"",VLOOKUP(A33,athlete,4,FALSE)) | G33: =MAX(D33:F33) -> 0 | H33: =RANK(G33,$G$28:G49) -> 1
B34: =IF(ISNA(VLOOKUP(A34,athlete,2,FALSE)),"",VLOOKUP(A34,athlete,2,FALSE)) | C34: =IF(ISNA(VLOOKUP(A34,athlete,4,FALSE)),"",VLOOKUP(A34,athlete,4,FALSE)) | G34: =MAX(D34:F34) -> 0 | H34: =RANK(G34,$G$28:G50) -> 1
B35: =IF(ISNA(VLOOKUP(A35,athlete,2,FALSE)),"",VLOOKUP(A35,athlete,2,FALSE)) | C35: =IF(ISNA(VLOOKUP(A35,athlete,4,FALSE)),"",VLOOKUP(A35,athlete,4,FALSE)) | G35: =MAX(D35:F35) -> 0 | H35: =RANK(G35,$G$28:G51) -> 1
B36: =IF(ISNA(VLOOKUP(A36,athlete,2,FALSE)),"",VLOOKUP(A36,athlete,2,FALSE)) | C36: =IF(ISNA(VLOOKUP(A36,athlete,4,FALSE)),"",VLOOKUP(A36,athlete,4,FALSE)) | G36: =MAX(D36:F36) -> 0 | H36: =RANK(G36,$G$28:G52) -> 1
B37: =IF(ISNA(VLOOKUP(A37,athlete,2,FALSE)),"",VLOOKUP(A37,athlete,2,FALSE)) | C37: =IF(ISNA(VLOOKUP(A37,athlete,4,FALSE)),"",VLOOKUP(A37,athlete,4,FALSE)) | G37: =MAX(D37:F37) -> 0 | H37: =RANK(G37,$G$28:G53) -> 1
B38: =IF(ISNA(VLOOKUP(A38,athlete,2,FALSE)),"",VLOOKUP(A38,athlete,2,FALSE)) | C38: =IF(ISNA(VLOOKUP(A38,athlete,4,FALSE)),"",VLOOKUP(A38,athlete,4,FALSE)) | G38: =MAX(D38:F38) -> 0 | H38: =RANK(G38,$G$28:G54) -> 1
B39: =IF(ISNA(VLOOKUP(A39,athlete,2,FALSE)),"",VLOOKUP(A39,athlete,2,FALSE)) | C39: =IF(ISNA(VLOOKUP(A39,athlete,4,FALSE)),"",VLOOKUP(A39,athlete,4,FALSE)) | G39: =MAX(D39:F39) -> 0 | H39: =RANK(G39,$G$28:G55) -> 1
... B44: =IF(ISNA(VLOOKUP(A44,athlete,2,FALSE)),"",VLOOKUP(A44,athlete,2,FALSE)) | C44: =IF(ISNA(VLOOKUP(A44,athlete,4,FALSE)),"",VLOOKUP(A44,athlete,4,FALSE)) | G44: =MAX(D44:F44) -> 0 | H44: =RANK(G44,$G$28:G60) -> 1

Sheet Triple Jump 
B1: Triple Jump
A2: Scan | B2: Name | C2: School | D2: 1st | E2: 2nd | F2: 3rd | G2: Best | H2: Place
A3: 124 | B3: =IF(ISNA(VLOOKUP(A3,athlete,2,FALSE)),"",VLOOKUP(A3,athlete,2,FALSE)) -> HIRSIG | C3: =IF(ISNA(VLOOKUP(A3,athlete,4,FALSE)),"",VLOOKUP(A3,athlete,4,FALSE)) -> GN | D3: 2701.75 | E3: 2707.5 | F3: 2705.5 | G3: =MAX(D3:F3) -> 2707.5 | H3: =RANK(G3,$G$3:G27) -> 4
A4: 116 | B4: =IF(ISNA(VLOOKUP(A4,athlete,2,FALSE)),"",VLOOKUP(A4,athlete,2,FALSE)) -> FISHER | C4: =IF(ISNA(VLOOKUP(A4,athlete,4,FALSE)),"",VLOOKUP(A4,athlete,4,FALSE)) -> GN | D4: 2803.75 | E4: 2811.75 | F4: 2700.75 | G4: =MAX(D4:F4) -> 2811.75 | H4: =RANK(G4,$G$3:G27) -> 3
A5: 240 | B5: SMITH | C5: =IF(ISNA(VLOOKUP(A5,athlete,4,FALSE)),"",VLOOKUP(A5,athlete,4,FALSE)) -> SE | D5: 3109.5 | E5: 3106 | F5: 3200.25 | G5: =MAX(D5:F5) -> 3200.25 | H5: =RANK(G5,$G$3:G28) -> 1
A6: 103 | B6: =IF(ISNA(VLOOKUP(A6,athlete,2,FALSE)),"",VLOOKUP(A6,athlete,2,FALSE)) -> ARON | C6: =IF(ISNA(VLOOKUP(A6,athlete,4,FALSE)),"",VLOOKUP(A6,athlete,4,FALSE)) -> GN | D6: 3007.25 | E6: 3006.75 | F6: 3100 | G6: =MAX(D6:F6) -> 3100 | H6: =RANK(G6,$G$3:G29) -> 2
B7: =IF(ISNA(VLOOKUP(A7,athlete,2,FALSE)),"",VLOOKUP(A7,athlete,2,FALSE)) | C7: =IF(ISNA(VLOOKUP(A7,athlete,4,FALSE)),"",VLOOKUP(A7,athlete,4,FALSE)) | G7: =MAX(D7:F7) -> 0 | H7: =RANK(G7,$G$3:G30) -> 5 | K7: Team Points
B8: =IF(ISNA(VLOOKUP(A8,athlete,2,FALSE)),"",VLOOKUP(A8,athlete,2,FALSE)) | C8: =IF(ISNA(VLOOKUP(A8,athlete,4,FALSE)),"",VLOOKUP(A8,athlete,4,FALSE)) | G8: =MAX(D8:F8) -> 0 | H8: =RANK(G8,$G$3:G31) -> 5 | K8: Glenbard North | L8: 6
B9: =IF(ISNA(VLOOKUP(A9,athlete,2,FALSE)),"",VLOOKUP(A9,athlete,2,FALSE)) | C9: =IF(ISNA(VLOOKUP(A9,athlete,4,FALSE)),"",VLOOKUP(A9,athlete,4,FALSE)) | G9: =MAX(D9:F9) -> 0 | H9: =RANK(G9,$G$3:G32) -> 5 | K9: East Aurora | L9: 0
B10: =IF(ISNA(VLOOKUP(A10,athlete,2,FALSE)),"",VLOOKUP(A10,athlete,2,FALSE)) | C10: =IF(ISNA(VLOOKUP(A10,athlete,4,FALSE)),"",VLOOKUP(A10,athlete,4,FALSE)) | G10: =MAX(D10:F10) -> 0 | H10: =RANK(G10,$G$3:G33) -> 5 | K10: South Elgin | L10: 5
B11: =IF(ISNA(VLOOKUP(A11,athlete,2,FALSE)),"",VLOOKUP(A11,athlete,2,FALSE)) | C11: =IF(ISNA(VLOOKUP(A11,athlete,4,FALSE)),"",VLOOKUP(A11,athlete,4,FALSE)) | G11: =MAX(D11:F11) -> 0 | H11: =RANK(G11,$G$3:G34) -> 5
B12: =IF(ISNA(VLOOKUP(A12,athlete,2,FALSE)),"",VLOOKUP(A12,athlete,2,FALSE)) | C12: =IF(ISNA(VLOOKUP(A12,athlete,4,FALSE)),"",VLOOKUP(A12,athlete,4,FALSE)) | G12: =MAX(D12:F12) -> 0 | H12: =RANK(G12,$G$3:G35) -> 5
B13: =IF(ISNA(VLOOKUP(A13,athlete,2,FALSE)),"",VLOOKUP(A13,athlete,2,FALSE)) | C13: =IF(ISNA(VLOOKUP(A13,athlete,4,FALSE)),"",VLOOKUP(A13,athlete,4,FALSE)) | G13: =MAX(D13:F13) -> 0 | H13: =RANK(G13,$G$3:G36) -> 5
B14: =IF(ISNA(VLOOKUP(A14,athlete,2,FALSE)),"",VLOOKUP(A14,athlete,2,FALSE)) | C14: =IF(ISNA(VLOOKUP(A14,athlete,4,FALSE)),"",VLOOKUP(A14,athlete,4,FALSE)) | G14: =MAX(D14:F14) -> 0 | H14: =RANK(G14,$G$3:G37) -> 5
B15: =IF(ISNA(VLOOKUP(A15,athlete,2,FALSE)),"",VLOOKUP(A15,athlete,2,FALSE)) | C15: =IF(ISNA(VLOOKUP(A15,athlete,4,FALSE)),"",VLOOKUP(A15,athlete,4,FALSE)) | G15: =MAX(D15:F15) -> 0 | H15: =RANK(G15,$G$3:G38) -> 5
B16: =IF(ISNA(VLOOKUP(A16,athlete,2,FALSE)),"",VLOOKUP(A16,athlete,2,FALSE)) | C16: =IF(ISNA(VLOOKUP(A16,athlete,4,FALSE)),"",VLOOKUP(A16,athlete,4,FALSE)) | G16: =MAX(D16:F16) -> 0 | H16: =RANK(G16,$G$3:G39) -> 5
B17: =IF(ISNA(VLOOKUP(A17,athlete,2,FALSE)),"",VLOOKUP(A17,athlete,2,FALSE)) | C17: =IF(ISNA(VLOOKUP(A17,athlete,4,FALSE)),"",VLOOKUP(A17,athlete,4,FALSE)) | G17: =MAX(D17:F17) -> 0 | H17: =RANK(G17,$G$3:G40) -> 5
B18: =IF(ISNA(VLOOKUP(A18,athlete,2,FALSE)),"",VLOOKUP(A18,athlete,2,FALSE)) | C18: =IF(ISNA(VLOOKUP(A18,athlete,4,FALSE)),"",VLOOKUP(A18,athlete,4,FALSE)) | G18: =MAX(D18:F18) -> 0 | H18: =RANK(G18,$G$3:G41) -> 5
B19: =IF(ISNA(VLOOKUP(A19,athlete,2,FALSE)),"",VLOOKUP(A19,athlete,2,FALSE)) | C19: =IF(ISNA(VLOOKUP(A19,athlete,4,FALSE)),"",VLOOKUP(A19,athlete,4,FALSE)) | G19: =MAX(D19:F19) -> 0 | H19: =RANK(G19,$G$3:G42) -> 5
B20: =IF(ISNA(VLOOKUP(A20,athlete,2,FALSE)),"",VLOOKUP(A20,athlete,2,FALSE)) | C20: =IF(ISNA(VLOOKUP(A20,athlete,4,FALSE)),"",VLOOKUP(A20,athlete,4,FALSE)) | G20: =MAX(D20:F20) -> 0 | H20: =RANK(G20,$G$3:G43) -> 5
B21: =IF(ISNA(VLOOKUP(A21,athlete,2,FALSE)),"",VLOOKUP(A21,athlete,2,FALSE)) | C21: =IF(ISNA(VLOOKUP(A21,athlete,4,FALSE)),"",VLOOKUP(A21,athlete,4,FALSE)) | G21: =MAX(D21:F21) -> 0 | H21: =RANK(G21,$G$3:G44) -> 5
B22: =IF(ISNA(VLOOKUP(A22,athlete,2,FALSE)),"",VLOOKUP(A22,athlete,2,FALSE)) | C22: =IF(ISNA(VLOOKUP(A22,athlete,4,FALSE)),"",VLOOKUP(A22,athlete,4,FALSE)) | G22: =MAX(D22:F22) -> 0 | H22: =RANK(G22,$G$3:G45) -> 5
... B27: =IF(ISNA(VLOOKUP(A27,athlete,2,FALSE)),"",VLOOKUP(A27,athlete,2,FALSE)) | C27: =IF(ISNA(VLOOKUP(A27,athlete,4,FALSE)),"",VLOOKUP(A27,athlete,4,FALSE)) | G27: =MAX(D27:F27) -> 0 | H27: =RANK(G27,$G$3:G50) -> 5
B28: =IF(ISNA(VLOOKUP(A28,athlete,2,FALSE)),"",VLOOKUP(A28,athlete,2,FALSE)) | C28: =IF(ISNA(VLOOKUP(A28,athlete,4,FALSE)),"",VLOOKUP(A28,athlete,4,FALSE)) | G28: =MAX(D28:F28) -> 0 | H28: =RANK(G28,$G$28:G44) -> 1
B29: =IF(ISNA(VLOOKUP(A29,athlete,2,FALSE)),"",VLOOKUP(A29,athlete,2,FALSE)) | C29: =IF(ISNA(VLOOKUP(A29,athlete,4,FALSE)),"",VLOOKUP(A29,athlete,4,FALSE)) | G29: =MAX(D29:F29) -> 0 | H29: =RANK(G29,$G$28:G45) -> 1
B30: =IF(ISNA(VLOOKUP(A30,athlete,2,FALSE)),"",VLOOKUP(A30,athlete,2,FALSE)) | C30: =IF(ISNA(VLOOKUP(A30,athlete,4,FALSE)),"",VLOOKUP(A30,athlete,4,FALSE)) | G30: =MAX(D30:F30) -> 0 | H30: =RANK(G30,$G$28:G46) -> 1
B31: =IF(ISNA(VLOOKUP(A31,athlete,2,FALSE)),"",VLOOKUP(A31,athlete,2,FALSE)) | C31: =IF(ISNA(VLOOKUP(A31,athlete,4,FALSE)),"",VLOOKUP(A31,athlete,4,FALSE)) | G31: =MAX(D31:F31) -> 0 | H31: =RANK(G31,$G$28:G47) -> 1
B32: =IF(ISNA(VLOOKUP(A32,athlete,2,FALSE)),"",VLOOKUP(A32,athlete,2,FALSE)) | C32: =IF(ISNA(VLOOKUP(A32,athlete,4,FALSE)),"",VLOOKUP(A32,athlete,4,FALSE)) | G32: =MAX(D32:F32) -> 0 | H32: =RANK(G32,$G$28:G48) -> 1
B33: =IF(ISNA(VLOOKUP(A33,athlete,2,FALSE)),"",VLOOKUP(A33,athlete,2,FALSE)) | C33: =IF(ISNA(VLOOKUP(A33,athlete,4,FALSE)),"",VLOOKUP(A33,athlete,4,FALSE)) | G33: =MAX(D33:F33) -> 0 | H33: =RANK(G33,$G$28:G49) -> 1
B34: =IF(ISNA(VLOOKUP(A34,athlete,2,FALSE)),"",VLOOKUP(A34,athlete,2,FALSE)) | C34: =IF(ISNA(VLOOKUP(A34,athlete,4,FALSE)),"",VLOOKUP(A34,athlete,4,FALSE)) | G34: =MAX(D34:F34) -> 0 | H34: =RANK(G34,$G$28:G50) -> 1
B35: =IF(ISNA(VLOOKUP(A35,athlete,2,FALSE)),"",VLOOKUP(A35,athlete,2,FALSE)) | C35: =IF(ISNA(VLOOKUP(A35,athlete,4,FALSE)),"",VLOOKUP(A35,athlete,4,FALSE)) | G35: =MAX(D35:F35) -> 0 | H35: =RANK(G35,$G$28:G51) -> 1
B36: =IF(ISNA(VLOOKUP(A36,athlete,2,FALSE)),"",VLOOKUP(A36,athlete,2,FALSE)) | C36: =IF(ISNA(VLOOKUP(A36,athlete,4,FALSE)),"",VLOOKUP(A36,athlete,4,FALSE)) | G36: =MAX(D36:F36) -> 0 | H36: =RANK(G36,$G$28:G52) -> 1
B37: =IF(ISNA(VLOOKUP(A37,athlete,2,FALSE)),"",VLOOKUP(A37,athlete,2,FALSE)) | C37: =IF(ISNA(VLOOKUP(A37,athlete,4,FALSE)),"",VLOOKUP(A37,athlete,4,FALSE)) | G37: =MAX(D37:F37) -> 0 | H37: =RANK(G37,$G$28:G53) -> 1
B38: =IF(ISNA(VLOOKUP(A38,athlete,2,FALSE)),"",VLOOKUP(A38,athlete,2,FALSE)) | C38: =IF(ISNA(VLOOKUP(A38,athlete,4,FALSE)),"",VLOOKUP(A38,athlete,4,FALSE)) | G38: =MAX(D38:F38) -> 0 | H38: =RANK(G38,$G$28:G54) -> 1
B39: =IF(ISNA(VLOOKUP(A39,athlete,2,FALSE)),"",VLOOKUP(A39,athlete,2,FALSE)) | C39: =IF(ISNA(VLOOKUP(A39,athlete,4,FALSE)),"",VLOOKUP(A39,athlete,4,FALSE)) | G39: =MAX(D39:F39) -> 0 | H39: =RANK(G39,$G$28:G55) -> 1
... B44: =IF(ISNA(VLOOKUP(A44,athlete,2,FALSE)),"",VLOOKUP(A44,athlete,2,FALSE)) | C44: =IF(ISNA(VLOOKUP(A44,athlete,4,FALSE)),"",VLOOKUP(A44,athlete,4,FALSE)) | G44: =MAX(D44:F44) -> 0 | H44: =RANK(G44,$G$28:G60) -> 1
